Workbook
Name _4853214: Sheet4!$A$1:$A$199
Name lqsm: Sheet1!$A$1:$W$67
Name shax?LotID_220051_ItemID_20344_TopCount_20_r_0.14659007035577803: Sheet3!$A$1:$AJ$113
Name ssq_lq: Sheet2!$A$1:$AH$87
Name thread_7453122_1_1: Sheet4!$B$44:$E$444

Sheet Sheet1
A1: 手机版
A2: 个人中心 站内信(0) 我的专栏 我的成绩 彩豆充值 安全退出
A3: 发布预测
A4: 双色球预测 福彩3D预测 排列三预测 大乐透预测
A5: 在线客服
A6: 帮助中心
A7: 网站导航
A8: 彩宝贝-买彩票必上的网站
A9: 首页
A10: 找专家
A11: 排行榜
A12: 彩票开奖
... A36: 天天彩宝贝，天天中大奖！
A37: 期号 | B37: 开奖号码 | C37: 余辉杀号 | E37: 愫暮杀号 | G37: 牵绊杀号 | I37: 蓝颜杀号 | K37: 怡然杀号 | M37: 尘封杀号 | O37: 刺心杀号 | Q37: 魅眸杀号 | S37: 开岸杀号 | U37: 昔颜杀号 | W37: 统计概况
A38: 2023048 | B38: 02 03 10 24 28 30 + 08 | C38: 15 | E38: 6 | G38: 12 | I38: 15 | K38: 8 | M38: 14 | O38: 3 | Q38: 9 | S38: 4 | U38: 5 | W38: 9
A39: 2023049 | B39: 05 07 14 23 25 27 + 02 | C39: 13 | E39: 10 | G39: 13 | I39: 1 | K39: 10 | M39: 11 | O39: 12 | Q39: 4 | S39: 3 | U39: 15 | W39: 全对
A40: 2023050 | B40: 02 07 09 14 22 23 + 05 | C40: 10 | E40: 13 | G40: 11 | I40: 15 | K40: 8 | M40: 2 | O40: 10 | Q40: 8 | S40: 9 | U40: 15 | W40: 全对
A41: 2023051 | B41: 22 26 29 30 32 33 + 14 | C41: 11 | E41: 5 | G41: 6 | I41: 12 | K41: 5 | M41: 14 | O41: 16 | Q41: 2 | S41: 9 | U41: 3 | W41: 9
A42: 2023052 | B42: 03 04 05 08 12 17 + 06 | C42: 4 | E42: 16 | G42: 1 | I42: 7 | K42: 3 | M42: 4 | O42: 14 | Q42: 16 | S42: 16 | U42: 4 | W42: 全对
A43: 2023053 | B43: 01 07 14 20 27 30 + 15 | C43: 12 | E43: 4 | G43: 3 | I43: 5 | K43: 14 | M43: 8 | O43: 11 | Q43: 4 | S43: 1 | U43: 11 | W43: 全对
A44: 2023054 | B44: 05 06 09 10 15 26 + 12 | C44: 16 | E44: 14 | G44: 6 | I44: 9 | K44: 14 | M44: 5 | O44: 5 | Q44: 3 | S44: 16 | U44: 1 | W44: 全对
A45: 2023055 | B45: 03 04 20 23 27 32 + 13 | C45: 5 | E45: 14 | G45: 10 | I45: 2 | K45: 1 | M45: 16 | O45: 12 | Q45: 12 | S45: 8 | U45: 16 | W45: 全对
A46: 2023056 | B46: 08 14 15 18 23 33 + 08 | C46: 16 | E46: 1 | G46: 16 | I46: 15 | K46: 2 | M46: 8 | O46: 5 | Q46: 10 | S46: 5 | U46: 5 | W46: 9
A47: 2023057 | B47: 02 05 10 17 24 32 + 03 | C47: 2 | E47: 8 | G47: 5 | I47: 13 | K47: 16 | M47: 15 | O47: 4 | Q47: 10 | S47: 15 | U47: 12 | W47: 全对
A48: 2023058 | B48: 10 17 22 26 30 33 + 11 | C48: 2 | E48: 11 | G48: 9 | I48: 5 | K48: 5 | M48: 14 | O48: 16 | Q48: 5 | S48: 15 | U48: 1 | W48: 9
A49: 2023059 | B49: 02 06 13 22 27 32 + 06 | C49: 6 | E49: 16 | G49: 8 | I49: 8 | K49: 16 | M49: 10 | O49: 10 | Q49: 4 | S49: 9 | U49: 12 | W49: 9
A50: 2023060 | B50: 09 11 17 19 30 31 + 11 | C50: 12 | E50: 9 | G50: 13 | I50: 15 | K50: 5 | M50: 9 | O50: 11 | Q50: 10 | S50: 15 | U50: 12 | W50: 9
A51: 2023061 | B51: 01 04 06 11 12 22 + 15 | C51: 16 | E51: 16 | G51: 13 | I51: 6 | K51: 12 | M51: 15 | O51: 1 | Q51: 4 | S51: 12 | U51: 3 | W51: 9
A52: 2023062 | B52: 11 19 23 24 26 33 + 15 | C52: 11 | E52: 10 | G52: 7 | I52: 7 | K52: 5 | M52: 2 | O52: 7 | Q52: 5 | S52: 15 | U52: 9 | W52: 9
A53: 2023063 | B53: 04 08 17 20 22 27 + 13 | C53: 8 | E53: 8 | G53: 12 | I53: 10 | K53: 7 | M53: 5 | O53: 15 | Q53: 15 | S53: 11 | U53: 10 | W53: 全对
A54: 2023064 | B54: 01 07 11 12 16 18 + 04 | C54: 9 | E54: 9 | G54: 6 | I54: 11 | K54: 4 | M54: 7 | O54: 13 | Q54: 5 | S54: 6 | U54: 11 | W54: 9
A55: 2023065 | B55: 02 14 17 20 26 33 + 14 | C55: 1 | E55: 13 | G55: 10 | I55: 13 | K55: 14 | M55: 7 | O55: 9 | Q55: 1 | S55: 8 | U55: 3 | W55: 9
A56: 2023066 | B56: 02 07 08 10 26 31 + 06 | C56: 14 | E56: 8 | G56: 13 | I56: 13 | K56: 4 | M56: 7 | O56: 15 | Q56: 14 | S56: 10 | U56: 13 | W56: 全对
A57: 2023067 | B57: 01 03 12 19 28 32 + 14 | C57: 6 | E57: 2 | G57: 12 | I57: 12 | K57: 1 | M57: 15 | O57: 2 | Q57: 8 | S57: 1 | U57: 13 | W57: 全对
A58: 2023068 | B58: 当前期杀号 | C58: 4 | E58: 5 | G58: 8 | I58: 2 | K58: 11 | M58: 14 | O58: 5 | Q58: 12 | S58: 8 | U58: 13
A59: 期号 | B59: 开奖号码 | C59: 余辉杀号 | E59: 愫暮杀号 | G59: 牵绊杀号 | I59: 蓝颜杀号 | K59: 怡然杀号 | M59: 尘封杀号 | O59: 刺心杀号 | Q59: 魅眸杀号 | S59: 开岸杀号 | U59: 昔颜杀号 | W59: 统计概况
A60: 当前正确次数 | C60: 19 | E60: 19 | G60: 20 | I60: 20 | K60: 17 | M60: 17 | O60: 19 | Q60: 20 | S60: 19 | U60: 20
A61: 当前错误次数 | C61: 1 | E61: 1 | G61: 0 | I61: 0 | K61: 3 | M61: 3 | O61: 1 | Q61: 0 | S61: 1 | U61: 0
A62: 目前连对次数 | C62: 8 | E62: 9 | G62: 20 | I62: 20 | K62: 2 | M62: 6 | O62: 7 | Q62: 20 | S62: 5 | U62: 20
A63: 目前连错次数 | C63: 0 | E63: 0 | G63: 0 | I63: 0 | K63: 0 | M63: 0 | O63: 0 | Q63: 0 | S63: 0 | U63: 0
A64: 最大连对次数 | C64: 11 | E64: 10 | G64: 20 | I64: 20 | K64: 15 | M64: 6 | O64: 12 | Q64: 20 | S64: 14 | U64: 20
A65: 最大连错次数 | C65: 1 | E65: 1 | G65: 0 | I65: 0 | K65: 2 | M65: 1 | O65: 1 | Q65: 0 | S65: 1 | U65: 0
A66: 准确率(全对率) | C66: 0.95 | E66: 0.95 | G66: 1 | I66: 1 | K66: 0.85 | M66: 0.85 | O66: 0.95 | Q66: 1 | S66: 0.95 | U66: 1
A67: 关于彩宝贝| 使用条款| 联系我们| 网站地图| 法律声明 增值电信业务经营许可证：皖B2-20220120 皖ICP备05003958号 2023 78500.cn 版权所有

Sheet Sheet2
A1: 首页
A2: 帮助中心
A3: 设为首页
A4: 网站地图
A5: 彩经网
A6: 想要中大奖，天天彩经网。
A7: 热门：
A9: Q Q：联系客服
A11: 电话：400-816-8876
A13: 首页
A14: 彩票推荐
A15: 开奖大厅
... A37: 要想中大奖，天天彩经网！
A38: 期号 | B38: 开奖号码 | D38: 鸿雁杀号 | G38: 谷风杀号 | J38: 周南杀号 | M38: 荡之杀号 | P38: 芣苡杀号 | S38: 采薇杀号 | V38: 小旻杀号 | Y38: 丹霞杀号 | AB38: 薤露杀号 | AE38: 浮萍杀号 | AH38: 统计
A39: 2023019 | B39: 06 12 26 28 29 32 + 15 | D39: 15 | E39: 错误 | G39: 14 | H39: 正确 | J39: 4 | K39: 正确 | M39: 9 | N39: 正确 | P39: 11 | Q39: 正确 | S39: 12 | T39: 正确 | V39: 2 | W39: 正确 | Y39: 7 | Z39: 正确 | AB39: 8 | AC39: 正确 | AE39: 1 | AF39: 正确 | AH39: 9
A40: 2023020 | B40: 01 12 17 18 26 27 + 05 | D40: 14 | E40: 正确 | G40: 14 | H40: 正确 | J40: 11 | K40: 正确 | M40: 7 | N40: 正确 | P40: 16 | Q40: 正确 | S40: 9 | T40: 正确 | V40: 2 | W40: 正确 | Y40: 14 | Z40: 正确 | AB40: 7 | AC40: 正确 | AE40: 16 | AF40: 正确 | AH40: 全对
A41: 2023021 | B41: 02 05 06 19 21 27 + 04 | D41: 9 | E41: 正确 | G41: 12 | H41: 正确 | J41: 9 | K41: 正确 | M41: 14 | N41: 正确 | P41: 7 | Q41: 正确 | S41: 3 | T41: 正确 | V41: 12 | W41: 正确 | Y41: 5 | Z41: 正确 | AB41: 14 | AC41: 正确 | AE41: 10 | AF41: 正确 | AH41: 全对
A42: 2023022 | B42: 10 11 18 19 23 31 + 03 | D42: 12 | E42: 正确 | G42: 5 | H42: 正确 | J42: 7 | K42: 正确 | M42: 3 | N42: 错误 | P42: 12 | Q42: 正确 | S42: 8 | T42: 正确 | V42: 1 | W42: 正确 | Y42: 10 | Z42: 正确 | AB42: 3 | AC42: 错误 | AE42: 15 | AF42: 正确 | AH42: 8
A43: 2023023 | B43: 05 08 10 15 24 25 + 09 | D43: 15 | E43: 正确 | G43: 5 | H43: 正确 | J43: 15 | K43: 正确 | M43: 13 | N43: 正确 | P43: 8 | Q43: 正确 | S43: 6 | T43: 正确 | V43: 1 | W43: 正确 | Y43: 11 | Z43: 正确 | AB43: 9 | AC43: 错误 | AE43: 8 | AF43: 正确 | AH43: 9
A44: 2023024 | B44: 03 06 09 17 27 28 + 03 | D44: 4 | E44: 正确 | G44: 4 | H44: 正确 | J44: 9 | K44: 正确 | M44: 11 | N44: 正确 | P44: 12 | Q44: 正确 | S44: 14 | T44: 正确 | V44: 16 | W44: 正确 | Y44: 5 | Z44: 正确 | AB44: 7 | AC44: 正确 | AE44: 15 | AF44: 正确 | AH44: 全对
A45: 2023025 | B45: 04 16 20 21 31 32 + 14 | D45: 14 | E45: 错误 | G45: 7 | H45: 正确 | J45: 5 | K45: 正确 | M45: 5 | N45: 正确 | P45: 6 | Q45: 正确 | S45: 5 | T45: 正确 | V45: 6 | W45: 正确 | Y45: 1 | Z45: 正确 | AB45: 15 | AC45: 正确 | AE45: 8 | AF45: 正确 | AH45: 9
A46: 2023026 | B46: 01 18 26 30 31 33 + 03 | D46: 2 | E46: 正确 | G46: 5 | H46: 正确 | J46: 10 | K46: 正确 | M46: 13 | N46: 正确 | P46: 7 | Q46: 正确 | S46: 8 | T46: 正确 | V46: 14 | W46: 正确 | Y46: 12 | Z46: 正确 | AB46: 7 | AC46: 正确 | AE46: 2 | AF46: 正确 | AH46: 全对
A47: 2023027 | B47: 08 10 22 27 32 33 + 08 | D47: 6 | E47: 正确 | G47: 6 | H47: 正确 | J47: 11 | K47: 正确 | M47: 16 | N47: 正确 | P47: 5 | Q47: 正确 | S47: 11 | T47: 正确 | V47: 12 | W47: 正确 | Y47: 2 | Z47: 正确 | AB47: 3 | AC47: 正确 | AE47: 12 | AF47: 正确 | AH47: 全对
A48: 2023028 | B48: 05 07 10 17 20 22 + 14 | D48: 12 | E48: 正确 | G48: 11 | H48: 正确 | J48: 8 | K48: 正确 | M48: 1 | N48: 正确 | P48: 10 | Q48: 正确 | S48: 2 | T48: 正确 | V48: 11 | W48: 正确 | Y48: 8 | Z48: 正确 | AB48: 1 | AC48: 正确 | AE48: 9 | AF48: 正确 | AH48: 全对
A49: 2023029 | B49: 03 07 12 24 28 33 + 08 | D49: 9 | E49: 正确 | G49: 13 | H49: 正确 | J49: 10 | K49: 正确 | M49: 7 | N49: 正确 | P49: 11 | Q49: 正确 | S49: 8 | T49: 错误 | V49: 13 | W49: 正确 | Y49: 4 | Z49: 正确 | AB49: 8 | AC49: 错误 | AE49: 15 | AF49: 正确 | AH49: 8
A50: 2023030 | B50: 02 03 07 16 30 31 + 06 | D50: 2 | E50: 正确 | G50: 2 | H50: 正确 | J50: 15 | K50: 正确 | M50: 8 | N50: 正确 | P50: 16 | Q50: 正确 | S50: 9 | T50: 正确 | V50: 2 | W50: 正确 | Y50: 11 | Z50: 正确 | AB50: 4 | AC50: 正确 | AE50: 16 | AF50: 正确 | AH50: 全对
A51: 2023031 | B51: 07 14 27 29 31 33 + 05 | D51: 12 | E51: 正确 | G51: 15 | H51: 正确 | J51: 4 | K51: 正确 | M51: 13 | N51: 正确 | P51: 15 | Q51: 正确 | S51: 16 | T51: 正确 | V51: 6 | W51: 正确 | Y51: 11 | Z51: 正确 | AB51: 16 | AC51: 正确 | AE51: 9 | AF51: 正确 | AH51: 全对
A52: 2023032 | B52: 06 19 20 26 28 33 + 01 | D52: 15 | E52: 正确 | G52: 15 | H52: 正确 | J52: 7 | K52: 正确 | M52: 16 | N52: 正确 | P52: 9 | Q52: 正确 | S52: 6 | T52: 正确 | V52: 14 | W52: 正确 | Y52: 11 | Z52: 正确 | AB52: 4 | AC52: 正确 | AE52: 16 | AF52: 正确 | AH52: 全对
A53: 2023033 | B53: 08 09 13 23 24 26 + 05 | D53: 9 | E53: 正确 | G53: 9 | H53: 正确 | J53: 6 | K53: 正确 | M53: 14 | N53: 正确 | P53: 7 | Q53: 正确 | S53: 16 | T53: 正确 | V53: 9 | W53: 正确 | Y53: 2 | Z53: 正确 | AB53: 11 | AC53: 正确 | AE53: 3 | AF53: 正确 | AH53: 全对
A54: 2023034 | B54: 02 03 09 11 12 17 + 15 | D54: 12 | E54: 正确 | G54: 12 | H54: 正确 | J54: 1 | K54: 正确 | M54: 13 | N54: 正确 | P54: 6 | Q54: 正确 | S54: 3 | T54: 正确 | V54: 11 | W54: 正确 | Y54: 4 | Z54: 正确 | AB54: 13 | AC54: 正确 | AE54: 6 | AF54: 正确 | AH54: 全对
A55: 2023035 | B55: 01 04 09 10 20 33 + 06 | D55: 11 | E55: 正确 | G55: 11 | H55: 正确 | J55: 3 | K55: 正确 | M55: 5 | N55: 正确 | P55: 16 | Q55: 正确 | S55: 2 | T55: 正确 | V55: 13 | W55: 正确 | Y55: 7 | Z55: 正确 | AB55: 9 | AC55: 正确 | AE55: 12 | AF55: 正确 | AH55: 全对
A56: 2023036 | B56: 13 14 18 19 24 30 + 09 | D56: 16 | E56: 正确 | G56: 12 | H56: 正确 | J56: 8 | K56: 正确 | M56: 1 | N56: 正确 | P56: 10 | Q56: 正确 | S56: 6 | T56: 正确 | V56: 15 | W56: 正确 | Y56: 8 | Z56: 正确 | AB56: 4 | AC56: 正确 | AE56: 1 | AF56: 正确 | AH56: 全对
A57: 2023037 | B57: 08 23 25 26 29 31 + 12 | D57: 14 | E57: 正确 | G57: 2 | H57: 正确 | J57: 7 | K57: 正确 | M57: 14 | N57: 正确 | P57: 5 | Q57: 正确 | S57: 2 | T57: 正确 | V57: 1 | W57: 正确 | Y57: 8 | Z57: 正确 | AB57: 15 | AC57: 正确 | AE57: 3 | AF57: 正确 | AH57: 全对
A58: 2023038 | B58: 02 09 14 17 31 33 + 08 | D58: 8 | E58: 错误 | G58: 8 | H58: 错误 | J58: 1 | K58: 正确 | M58: 6 | N58: 正确 | P58: 8 | Q58: 错误 | S58: 10 | T58: 正确 | V58: 11 | W58: 正确 | Y58: 1 | Z58: 正确 | AB58: 2 | AC58: 正确 | AE58: 4 | AF58: 正确 | AH58: 7
A59: 2023039 | B59: 当前期杀号 | D59: 11 | G59: 8 | J59: 7 | M59: 3 | P59: 2 | S59: 9 | V59: 8 | Y59: 13 | AB59: 12 | AE59: 11
A60: 目前连错次数 | D60: 1 | G60: 1 | J60: 0 | M60: 0 | P60: 1 | S60: 0 | V60: 0 | Y60: 0 | AB60: 0 | AE60: 0 | AH60: 1
A61: 目前连对次数 | D61: 0 | G61: 0 | J61: 20 | M61: 16 | P61: 0 | S61: 9 | V61: 20 | Y61: 20 | AB61: 9 | AE61: 20 | AH61: 0
A62: 总正确次数 | D62: 17 | G62: 19 | J62: 20 | M62: 19 | P62: 19 | S62: 19 | V62: 20 | Y62: 20 | AB62: 17 | AE62: 20 | AH62: 14
A63: 准确率(全对率) | D63: 0.85 | G63: 0.95 | J63: 1 | M63: 0.95 | P63: 0.95 | S63: 0.95 | V63: 1 | Y63: 1 | AB63: 0.85 | AE63: 1 | AH63: 0.7
A64: 最大连错次数 | D64: 1 | G64: 1 | J64: 0 | M64: 1 | P64: 1 | S64: 1 | V64: 0 | Y64: 0 | AB64: 2 | AE64: 0 | AH64: 2
A65: 最大连对次数 | D65: 12 | G65: 19 | J65: 20 | M65: 16 | P65: 19 | S65: 10 | V65: 20 | Y65: 20 | AB65: 9 | AE65: 20 | AH65: 8
A66: 网站提醒：杀号定胆图表由彩经网提供，图表数据仅供竞猜参考使用，并不作为最终依据，本站力求周全，但不保证绝对精确。
A67: 推荐专栏
A68: 3D推荐 3D试机号
A69: 双色球推荐 双色球试机号
A70: 七乐彩推荐 七乐彩试机号
A71: 大乐透推荐 大乐透试机号
A72: 排列三推荐 排列三试机号
A73: 排列五推荐 海南4+1推荐
A74: 七星彩推荐
A75: 快乐8推荐
A76: 彩票走势图
A77: 开奖大厅
... A87: 电话：4008-168-876/010-64913261,传真:010-64821971

Sheet Sheet3
A1: 360彩票停止服务公告
A3: 尊敬的360彩票用户：
A5: 由于业务调整，360彩票将于 2022 年 9 月 1 日 0 时起，正式停止更新彩票资讯、全国开奖号码、比分直播、数据图表等信息类服务！届时网站提供的免费过滤软件、奖金计算器、开奖对比、媒体预测等服务全部暂停维护！网站服务停止后，将继续保留账户提现入口，提现服务不受影响，账户仍有余额的用户，请尽快完成提现。对此给您造成的不便，我们深表歉意，感谢您的一路相伴、支持与厚爱！如您有疑问，请发邮件至：kefu@360.cn
A7: 360 彩票
A8: 44720
A10: 360彩票
A12: 首页
A13: 彩种大厅
A14: 开奖
A16: 走势图| 比分 | 论坛
A17: 我的彩票|登录|注册
A18: () |
A19: 我的彩票
A20: |退出
A22: 双色球 大乐透 福彩3D 排列三 七乐彩 15选5 排列五
A24: 11选5 粤11选5 辽宁11选5 快乐扑克 老时时彩 好运快3 红快3
A25: 新11选5 上海11选5 幸运11选5 快乐11选5 老快3 新快3 快3
... A42: 查询期次
A44: 期号 | B44: 开奖号码 | D44: 雁枫杀号 | G44: 乐蓉杀号 | J44: 白凡杀号 | M44: 芸遥杀号 | P44: 远锋杀号 | S44: 智天杀号 | V44: 南宫杀号 | Y44: 元丰杀号 | AB44: 浩轩杀号 | AE44: 萧寞杀号 | AH44: 统计
A45: 2023049 | B45: 05 07 14 23 25 27+02 | D45: 11 | G45: 14 | J45: 3 | M45: 2 | P45: 2 | S45: 5 | V45: 9 | Y45: 4 | AB45: 12 | AE45: 7 | AH45: 8
A46: 2023050 | B46: 02 07 09 14 22 23+05 | D46: 14 | G46: 2 | J46: 14 | M46: 9 | P46: 8 | S46: 2 | V46: 14 | Y46: 14 | AB46: 7 | AE46: 4 | AH46: 全对
A47: 2023051 | B47: 22 26 29 30 32 33+14 | D47: 5 | G47: 1 | J47: 10 | M47: 12 | P47: 13 | S47: 6 | V47: 5 | Y47: 1 | AB47: 4 | AE47: 1 | AH47: 全对
A48: 2023052 | B48: 03 04 05 08 12 17+06 | D48: 3 | G48: 13 | J48: 14 | M48: 10 | P48: 3 | S48: 6 | V48: 7 | Y48: 5 | AB48: 2 | AE48: 3 | AH48: 9
A49: 2023053 | B49: 01 07 14 20 27 30+15 | D49: 2 | G49: 6 | J49: 12 | M49: 6 | P49: 8 | S49: 2 | V49: 11 | Y49: 2 | AB49: 10 | AE49: 13 | AH49: 全对
A50: 2023054 | B50: 05 06 09 10 15 26+12 | D50: 6 | G50: 15 | J50: 8 | M50: 8 | P50: 11 | S50: 9 | V50: 15 | Y50: 12 | AB50: 6 | AE50: 8 | AH50: 9
A51: 2023055 | B51: 03 04 20 23 27 32+13 | D51: 4 | G51: 9 | J51: 8 | M51: 13 | P51: 15 | S51: 1 | V51: 8 | Y51: 10 | AB51: 1 | AE51: 1 | AH51: 9
A52: 2023056 | B52: 08 14 15 18 23 33+08 | D52: 2 | G52: 10 | J52: 6 | M52: 5 | P52: 3 | S52: 14 | V52: 3 | Y52: 15 | AB52: 2 | AE52: 4 | AH52: 全对
A53: 2023057 | B53: 02 05 10 17 24 32+03 | D53: 9 | G53: 3 | J53: 13 | M53: 6 | P53: 13 | S53: 13 | V53: 3 | Y53: 6 | AB53: 2 | AE53: 8 | AH53: 8
A54: 2023058 | B54: 10 17 22 26 30 33+11 | D54: 7 | G54: 13 | J54: 6 | M54: 4 | P54: 15 | S54: 9 | V54: 9 | Y54: 13 | AB54: 8 | AE54: 7 | AH54: 全对
A55: 2023059 | B55: 02 06 13 22 23 27+06 | D55: 6 | G55: 4 | J55: 2 | M55: 9 | P55: 9 | S55: 8 | V55: 15 | Y55: 10 | AB55: 7 | AE55: 11 | AH55: 9
A56: 2023060 | B56: 09 11 17 19 30 31+11 | D56: 15 | G56: 15 | J56: 5 | M56: 10 | P56: 1 | S56: 3 | V56: 6 | Y56: 5 | AB56: 10 | AE56: 15 | AH56: 全对
A57: 2023061 | B57: 01 04 06 11 12 22+15 | D57: 8 | G57: 13 | J57: 11 | M57: 14 | P57: 1 | S57: 6 | V57: 12 | Y57: 3 | AB57: 5 | AE57: 2 | AH57: 全对
A58: 2023062 | B58: 11 19 23 24 26 33+15 | D58: 3 | G58: 9 | J58: 4 | M58: 2 | P58: 7 | S58: 1 | V58: 10 | Y58: 14 | AB58: 8 | AE58: 12 | AH58: 全对
A59: 2023063 | B59: 04 08 17 20 22 27+13 | D59: 14 | G59: 13 | J59: 1 | M59: 1 | P59: 15 | S59: 4 | V59: 9 | Y59: 5 | AB59: 5 | AE59: 9 | AH59: 9
A60: 2023064 | B60: 01 07 11 12 16 18+04 | D60: 12 | G60: 5 | J60: 6 | M60: 10 | P60: 4 | S60: 13 | V60: 5 | Y60: 11 | AB60: 9 | AE60: 15 | AH60: 9
A61: 2023065 | B61: 02 14 17 20 26 33+14 | D61: 6 | G61: 2 | J61: 11 | M61: 3 | P61: 8 | S61: 13 | V61: 15 | Y61: 6 | AB61: 2 | AE61: 6 | AH61: 全对
A62: 2023066 | B62: 02 07 08 10 26 31+06 | D62: 6 | G62: 9 | J62: 7 | M62: 15 | P62: 11 | S62: 9 | V62: 11 | Y62: 4 | AB62: 3 | AE62: 8 | AH62: 9
A63: 2023067 | B63: 01 03 12 19 28 32+14 | D63: 12 | G63: 15 | J63: 10 | M63: 2 | P63: 15 | S63: 9 | V63: 14 | Y63: 10 | AB63: 6 | AE63: 1 | AH63: 9
A64: 2023068 | B64: 当前期杀号 | D64: 13 | E64: -- | G64: 7 | H64: -- | J64: 6 | K64: -- | M64: 7 | N64: -- | P64: 6 | Q64: -- | S64: 14 | T64: -- | V64: 10 | W64: -- | Y64: 5 | Z64: -- | AB64: 4 | AC64: -- | AE64: 1 | AF64: -- | AH64: --
A65: 目前连错次数 | D65: 0 | G65: 0 | J65: 0 | M65: 0 | P65: 0 | S65: 0 | V65: 1 | Y65: 0 | AB65: 0 | AE65: 0 | AH65: 2
A66: 目前连对次数 | D66: 1 | G66: 4 | J66: 19 | M66: 12 | P66: 3 | S66: 15 | V66: 0 | Y66: 13 | AB66: 19 | AE66: 19 | AH66: 0
A67: 总正确次数 | D67: 17 | G67: 17 | J67: 19 | M67: 17 | P67: 17 | S67: 18 | V67: 17 | Y67: 18 | AB67: 19 | AE67: 19 | AH67: 9
A68: 准确率（全对率） | D68: 0.89 | G68: 0.89 | J68: 1 | M68: 0.89 | P68: 0.89 | S68: 0.95 | V68: 0.89 | Y68: 0.95 | AB68: 1 | AE68: 1 | AH68: 0.47
A69: 最大连错次数 | D69: 1 | G69: 1 | J69: 0 | M69: 1 | P69: 1 | S69: 1 | V69: 1 | Y69: 1 | AB69: 0 | AE69: 0 | AH69: 2
A70: 最大连对次数 | D70: 10 | G70: 8 | J70: 19 | M70: 12 | P70: 14 | S70: 15 | V70: 9 | Y70: 13 | AB70: 19 | AE70: 19 | AH70: 3
A72: 说明
A74: 网站提醒：图表数据仅供竞猜参考使用,并不作为最终投注依据,本站力求周全,并不保证绝对周全。
A76: 目前连错次数：自上次杀号正确后，截至到当前期，杀号连续错误的次数。
A78: 目前连对次数：自上次杀号错误后，截至到当前期，杀号连续正确的次数。
A80: 总正确次数：统计期数内杀号总正确次数。
A82: 准确率（全对率）：杀号正确次数占统计期次数的百分比（杀号正确次数/总期数）
A84: 最大连错次数：统计期数内杀号最大连续错误次数
A86: 最大连对次数：统计期数内杀号最大连续正确次数
A88: 工具资讯
A90: 大奖排行榜
A92: 实时热点
A94: 换一换
... A113: 360彩票郑重提示：彩票有风险，投注需谨慎！禁止向未满18周岁的青少年出售彩票！

Sheet Sheet4
A1: 天齐网首页
A2: 福彩3D 试机号
A3: 预测 字谜
A4: 胆码 图谜
A5: 杀码 条件
A6: 双色球 大乐透
A7: 预测 预测
A8: 条件 胆码
A9: 杀号 杀号
A10: 字图谜 开机号
A11: P3 P5
A12: 预测 胆码
... A43: 双色球杀号
A44: 双色球杀红双色球杀蓝彩民乐杀蓝号之家杀蓝情人杀蓝藏机杀蓝号 | B44: 实名认证
B45: 根据《互联网用户账号名称管理规定》，由于您的账号未通过实名认证，请填写以下信息：
A46: [段语]双色球033期专家杀蓝 | B46: 首页 关闭
B47: 乐彩网首页福彩3D双色球快乐8七乐彩排列3大乐透排列57星彩乐彩APP下载
A48: 作者: 参考标题 责任编辑: 大富翁 更新时间: 2020-05-04 11:47 | B48: 开启辅助访问
A49: 相关内容： 双色球开奖结果双色球近期开奖查询双色球走势图 | B49: 设为首页收藏本站切换到窄版
B50: 请 登录 后使用快捷导航
A51: 021杀蓝 01 ok | B51: 没有帐号？注册
A52: 022杀蓝 04 ok | B52: 工具：免费缩水 | 旋转矩阵 | 梅花阵 | 复式比较器 | 胆拖计算器 | 开机号分析 | 历史上今天 | 历史跟随 | 选号对比器 | 复式胆拖中奖计算器| 胆拖计算器 | 复式中奖计算表 | 复式注数计算器 | 随机选号 | 缩水工具 | 蓝球缩水 | 图表：分布图 | 统计表 | 红球遗漏图 | 蓝球遗漏图 | 红球旋转图 | 蓝球旋转图 | 红折线 | 蓝折线 | 频率图 | 上期遗漏排序 | 遗漏排序 | 2余 | 3余 | 4余 | 5余 | 6余 | 7余 | 8余 | 9余 | 10余 | 11余 | 蓝2余 | 蓝3余 | 蓝4余 | 蓝5余 | AC | 极距 | 最大间距 | 最小间距 | 和值 | 图感觉走势图 | 更多走势图表 | 预测：10+2调查 | 15+3竞猜 | 6+2竞猜 | 资料： 玩法介绍 | 出球顺序 | 中奖情况 | 下载自动更新表格 | 杀1红 杀1蓝过关 | 双色球首页 | 冷热图 | 遗漏分析 | 原创分析 | 特邀分析 | 光荣榜 | 方法技巧 | 行业动态
A53: 023杀蓝 13 ok | B53: 乐彩论坛魔币抽奖学习彩票模拟摇奖快乐8工具图表
A54: 024杀蓝 14 ok | B54: QQ登录
A55: 025杀蓝 14 ok | B55: 只需一步，快速开始
A56: 026杀蓝 16 ok | B56: 登录 | C56: 注册
A57: 027杀蓝 14 ok | B57: 快捷导航
A58: 028杀蓝 16 ok | B58: 乐彩网乐彩网首页，踏实服务彩友
A59: 029杀蓝 08 ok | B59: 乐彩论坛乐彩网友交流彩票号码和方法的论坛
A60: 030杀蓝 14 ok | B60: 乐币点播提供福彩3d、排列三、双色球、大乐透彩研师分析
A61: 031杀蓝 02 ok | B61: 走势图福彩3D走势图
A62: 032杀蓝 03 ok | B62: 工具数据福彩3D工具数据
A63: 033杀蓝 03 ok | B63: 彩皇网专业的彩票分析平台，想要中大奖，就来彩皇网
B64: 图感觉最新最全的走势图
B65: 太湖字谜太湖钓叟字谜官方网站
A66: 014杀蓝 16 ok | B66: 手机乐彩网乐彩首页手机版本
A67: 015杀蓝 15 ok | B67: APP乐彩APP下载
A68: 016杀蓝 07 no | B68: 学习彩票模拟玩彩
A69: 017杀蓝 07 ok | B69: 记事本随时记录，在线保存
A70: 018杀蓝 16 ok | B70: 乐彩帮助有问题，请上这里
A71: 019杀蓝 01 ok | B71: 谷歌浏览器访问乐彩网最好
A72: 020杀蓝 16 ok | B72: 本版
B73: 帖子
A74: 专题：双色球段誉杀蓝号 | B74: 用户
B75: 乐彩论坛»乐彩论坛 › ≡ 中国福利彩票 ≡ › 双色球 › 双色球033期搏胆王杀一蓝
A76: 上一篇： [强哥买彩]双色球2020年第033期最准确杀蓝 32连准 | B76: 123 / 3 页下一页
A77: 下一篇： 福彩033期双色球笨鸡蛋专家杀蓝球 32对32 | B77: 返回列表 发新帖
A78: 3D每日快报A 专家研彩B版 天齐原创彩报A 全部藏机图打印版 双色球字图谜一版 双色球字图谜二版 双色球字图谜三版 双色球字图谜四版 体彩p3图谜第一版 体彩p3图谜第二版 体彩p3图谜第三版 体彩p3图谜第四版 大乐透专家推号图A版 大乐透专家推号图B版 大乐透专家推号图C版 大乐透专家分享 | B78: 查看: 5995|回复: 24 | C78: 打印上一主题下一主题
A79: 双色球基本走势图双色球和值走势图双色球红球走势图双色球蓝球走势图双色球周四走势图双色球区间走势图双色球AC值走势图双色球AC计算器中6保5旋转矩阵双色球缩水过滤双色球红球遗漏双色球蓝球遗漏 | C79: [杀蓝] 双色球033期搏胆王杀一蓝
A80: 最新文章 更多> | C80: [复制链接]
A82: 1 双色球2023年068期飞向阳光杀蓝预 | B82: 搏胆王 | E82: 电梯直达 跳转到指定楼层
B83: 搏胆王 当前离线 | E83: 1楼
A84: 2 360彩票23068期双色球蓝球杀号 | B84: 精华 | E84: 发表于 2020-5-3 21:41 | 只看该作者 回帖奖励|倒序浏览 |阅读模式
B85: 33 | E85: 乐币点播
A86: 3 360彩票23068期双色球红球杀号 | B86: 积分
B87: 297740 | E87: 欢迎点击此处加入关注搏胆王共同中奖！
A88: 4 彩经双色球23068期超准十专家蓝球 | B88: 查看详细资料狗仔卡
B89: 4289 | C89: 2万 | D89: 29万 | E89: 双色球033期搏胆王杀一蓝：03开
A90: 5 彩经双色球23068期超准十专家红球 | B90: 主题 | C90: 帖子 | D90: 积分 | E90: 双色球032期搏胆王杀一蓝：01开13对
B91: 乐彩爱心大使 | E91: 双色球031期搏胆王杀一蓝：07开09对
A92: 6 [yaanlater]双色球23068期走势图杀 | B92: Rank: 40Rank: 40Rank: 40Rank: 40Rank: 40Rank: 40Rank: 40Rank: 40Rank: 40Rank: 40
B93: 乐彩爱心大使, 积分 297740, 距离下一级还需 1202260 积分 | E93: 双色球030期搏胆王杀一蓝：05开03对
A94: 7 [红太阳]双色球2023068期杀蓝 | B94: 乐彩爱心大使, 积分 297740, 距离下一级还需 1202260 积分 | E94: 双色球029期搏胆王杀一蓝：02开05对
B95: 精华 | E95: 双色球028期搏胆王杀一蓝：15开08对
A96: 8 23068期彩宝贝双色球专家蓝球杀号 | B96: 33 | E96: 双色球027期搏胆王杀一蓝：04开06对
B97: 注册时间 | E97: 双色球026期搏胆王杀一蓝：03开06对
A98: 9 双色球2023068期鲤鱼得财通杀蓝号 | B98: 41331
B99: 20周年纪念勋章五一劳动勋章五一劳动勋章70周年纪念勋章五一劳动勋章国庆纪念勋章五一劳动勋章乐彩超级元老 | E99: 双色球025期搏胆王杀一蓝：02开02错
A100: 10 青云万里2023068期双色球通杀一个 | B100: UID | E100: 双色球024期搏胆王杀一蓝：02开08对
B101: 638482 | E101: 双色球023期搏胆王杀一蓝：08开08错
A102: 11 金枪鱼2023068期今晚双色球杀一蓝 | B102: 发消息 | E102: 双色球022期搏胆王杀一蓝：03开02对
B103: 加好友 | E103: 双色球021期搏胆王杀一蓝：04开07对
A104: 12 2023年那些年068期双色球杀蓝球号
E105: 双色球020期搏胆王杀一蓝：07开14对
A106: 13 2023068期远方的狼双色球公式杀蓝 | E106: 双色球019期搏胆王杀一蓝：03开03错
E107: 双色球018期搏胆王杀一蓝：06开13对
A108: 14 双色球2023068期蒲公英专家杀蓝球 | E108: 双色球017期搏胆王杀一蓝：03开04对
E109: 双色球016期搏胆王杀一蓝：09开07对
A110: 15 2023068期红玫瑰双色球下一期杀蓝
E111: 双色球015期搏胆王杀一蓝：03开01对
A112: 16 百步穿杨2023068期双色球杀一蓝胆 | E112: 双色球014期搏胆王杀一蓝：04开07对
E113: 双色球013期搏胆王杀一蓝：12开14对
A114: 17 2023068期百合花双色球免费杀蓝图 | E114: 双色球012期搏胆王杀一蓝：09开09错
E115: 双色球011期搏胆王杀一蓝：01开01错
A116: 18 双色球2023068期白天鹅绝杀一蓝图
E117: 双色球010期搏胆王杀一蓝：02开09对
A118: 19 奉旨发财2023068期双色球专家杀蓝 | E118: 双色球009期搏胆王杀一蓝：06开12对
E119: 双色球008期搏胆王杀一蓝：11开16对
A120: 20 大招财运2023068期双色球稳定杀一 | E120: 双色球007期搏胆王杀一蓝：01开10对
E121: 双色球006期搏胆王杀一蓝：06开09对
A122: 21 2023068期夏天双色球杀蓝球一码点
E123: 双色球005期搏胆王杀一蓝：02开04对
A124: 22 2023068期升职加薪双色球绝杀码蓝 | E124: 双色球004期搏胆王杀一蓝：07开03对
E125: 双色球003期搏胆王杀一蓝：01开03对
A126: 23 万万没想到2023068期双色球杀蓝球 | E126: 双色球002期搏胆王杀一蓝：08开11对
E127: 双色球001期搏胆王杀一蓝：04开02对
A128: 24 一品红2023068期双色球精准杀蓝一
E129: 乐彩论坛原创
A130: 25 双色球23068期黄大仙绝杀一蓝图迷 | E130: 评分
E131: 14
...

Sheet Sheet5

Sheet Sheet6

Sheet 动态自动更新围蓝
A1: =Sheet1!A37 -> 期号 | B1: 开奖红球 | D1: 1 | E1: 2 | F1: 3 | G1: 4 | H1: 5 | I1: 6 | J1: 7 | K1: 8 | L1: 9 | M1: 10 | N1: 11 | O1: 12 | P1: 13 | Q1: 14 | R1: 15 | S1: 16 | BC1: 1 | BD1: 2 | BE1: 3 | BF1: 4 | BG1: 5 | BH1: 6 | BI1: 7 | BJ1: 8 | BK1: 9 | BL1: 10 | BM1: 11 | BN1: 12 | BO1: 13 | BP1: 14 | BQ1: 15 | BR1: 16 | BT1: 1 | BU1: 2 | BV1: 3 | BW1: 4 | BX1: 5 | BY1: 6 | BZ1: 7 | CA1: 8 | CB1: 9 | CC1: 10 | CD1: 11 | CE1: 12 | CF1: 13 | CG1: 14 | CH1: 15 | CI1: 16 | CK1: 1 | CL1: 2 | CM1: 3 | CN1: 4 | CO1: 5 | CP1: 6 | CQ1: 7 | CR1: 8 | CS1: 9 | CT1: 10 | CU1: 11 | CV1: 12 | CW1: 13 | CX1: 14 | CY1: 15 | CZ1: 16 | DS1: 1 | DT1: 2 | DU1: 3 | DV1: 4 | DW1: 5 | DX1: 6 | DY1: 7 | DZ1: 8 | EA1: 9 | EB1: 10 | EC1: 11 | ED1: 12 | EE1: 13 | EF1: 14 | EG1: 15 | EH1: 16 | EJ1: 1 | EK1: 2 | EL1: 3 | EM1: 4 | EN1: 5 | EO1: 6 | EP1: 7 | EQ1: 8 | ER1: 9 | ES1: 10 | ET1: 11 | EU1: 12 | EV1: 13 | EW1: 14 | EX1: 15 | EY1: 16
A2: =Sheet1!A38 -> 2023048 | B2: =MID(Sheet1!B38,1,17) -> 02 03 10 24 28 30 | C2: =MID(Sheet1!B38,21,2) -> 08 | D2: {=MOD(SMALL(DB2:DQ2*17+$D$1:$S$1,COLUMN($17:$17)),17)} -> 1 | E2: 7 | F2: 10 | G2: 13 | H2: 2 | I2: 4 | J2: 8 | K2: 9 | L2: 14 | M2: 16 | N2: 3 | O2: 5 | P2: 11 | Q2: 15 | R2: 6 | S2: 12 | V2: =Sheet1!C38 -> 15 | W2: =Sheet1!E38 -> 6 | X2: =Sheet1!G38 -> 12 | Y2: =Sheet1!I38 -> 15 | Z2: =Sheet1!K38 -> 8 | AA2: =Sheet1!M38 -> 14 | AB2: =Sheet1!O38 -> 3 | AC2: =Sheet1!Q38 -> 9 | AD2: =Sheet1!S38 -> 4 | AE2: =Sheet1!U38 -> 5 | AG2: =Sheet2!D47 -> 6 | AH2: =Sheet2!G47 -> 6 | AI2: =Sheet2!J47 -> 11 | AJ2: =Sheet2!M47 -> 16 | AK2: =Sheet2!P47 -> 5 | AL2: =Sheet2!S47 -> 11 | AM2: =Sheet2!V47 -> 12 | AN2: =Sheet2!Y47 -> 2 | AO2: =Sheet2!AB47 -> 3 | AP2: =Sheet2!AE47 -> 12 | DB2: =COUNTIF($V2:$BA2,D$1) -> 0 | DC2: =COUNTIF($V2:$BA2,E$1) -> 1 | DD2: =COUNTIF($V2:$BA2,F$1) -> 2 | DE2: =COUNTIF($V2:$BA2,G$1) -> 1 | DF2: =COUNTIF($V2:$BA2,H$1) -> 2 | DG2: =COUNTIF($V2:$BA2,I$1) -> 3 | DH2: =COUNTIF($V2:$BA2,J$1) -> 0 | DI2: =COUNTIF($V2:$BA2,K$1) -> 1 | ... DQ2: =COUNTIF($V2:$BA2,S$1) -> 1
A3: =Sheet1!A39 -> 2023049 | B3: =MID(Sheet1!B39,1,17) -> 05 07 14 23 25 27 | C3: =MID(Sheet1!B39,21,2) -> 02 | D3: {=MOD(SMALL(DB3:DQ3*17+$D$1:$S$1,COLUMN($17:$17)),17)} -> 5 | E3: 6 | F3: 7 | G3: 14 | H3: 16 | I3: 2 | J3: 3 | K3: 4 | L3: 9 | M3: 15 | N3: 8 | O3: 12 | P3: 13 | Q3: 1 | R3: 10 | S3: 11 | V3: =Sheet1!C39 -> 13 | W3: =Sheet1!E39 -> 10 | X3: =Sheet1!G39 -> 13 | Y3: =Sheet1!I39 -> 1 | Z3: =Sheet1!K39 -> 10 | AA3: =Sheet1!M39 -> 11 | AB3: =Sheet1!O39 -> 12 | AC3: =Sheet1!Q39 -> 4 | AD3: =Sheet1!S39 -> 3 | AE3: =Sheet1!U39 -> 15 | AG3: =Sheet2!D48 -> 12 | AH3: =Sheet2!G48 -> 11 | AI3: =Sheet2!J48 -> 8 | AJ3: =Sheet2!M48 -> 1 | AK3: =Sheet2!P48 -> 10 | AL3: =Sheet2!S48 -> 2 | AM3: =Sheet2!V48 -> 11 | AN3: =Sheet2!Y48 -> 8 | AO3: =Sheet2!AB48 -> 1 | AP3: =Sheet2!AE48 -> 9 | AR3: =Sheet3!D36 -> 0 | AS3: =Sheet3!G36 -> 0 | AT3: =Sheet3!J36 -> 0 | AU3: =Sheet3!M36 -> 0 | AV3: =Sheet3!P36 -> 0 | AW3: =Sheet3!S36 -> 0 | AX3: =Sheet3!V36 -> 0 | AY3: =Sheet3!Y36 -> 0 | AZ3: =Sheet3!AB36 -> 0 | BA3: =Sheet3!AE36 -> 0 | BC3: =COUNTIF($V3:$AE3,BC$1) -> 1 | BD3: =COUNTIF($V3:$AE3,BD$1) -> 0 | BE3: =COUNTIF($V3:$AE3,BE$1) -> 1 | BF3: =COUNTIF($V3:$AE3,BF$1) -> 1 | BG3: =COUNTIF($V3:$AE3,BG$1) -> 0 | BH3: =COUNTIF($V3:$AE3,BH$1) -> 0 | BI3: =COUNTIF($V3:$AE3,BI$1) -> 0 | BJ3: =COUNTIF($V3:$AE3,BJ$1) -> 0 | ... BR3: =COUNTIF($V3:$AE3,BR$1) -> 0 | BT3: =COUNTIF($AG3:$AP3,BT$1) -> 2 | BU3: =COUNTIF($AG3:$AP3,BU$1) -> 1 | BV3: =COUNTIF($AG3:$AP3,BV$1) -> 0 | BW3: =COUNTIF($AG3:$AP3,BW$1) -> 0 | BX3: =COUNTIF($AG3:$AP3,BX$1) -> 0 | BY3: =COUNTIF($AG3:$AP3,BY$1) -> 0 | BZ3: =COUNTIF($AG3:$AP3,BZ$1) -> 0 | CA3: =COUNTIF($AG3:$AP3,CA$1) -> 2 | ... CI3: =COUNTIF($AG3:$AP3,CI$1) -> 0 | CK3: =COUNTIF($AR3:$BA3,CK$1) -> 0 | CL3: =COUNTIF($AR3:$BA3,CL$1) -> 0 | CM3: =COUNTIF($AR3:$BA3,CM$1) -> 0 | CN3: =COUNTIF($AR3:$BA3,CN$1) -> 0 | CO3: =COUNTIF($AR3:$BA3,CO$1) -> 0 | CP3: =COUNTIF($AR3:$BA3,CP$1) -> 0 | CQ3: =COUNTIF($AR3:$BA3,CQ$1) -> 0 | CR3: =COUNTIF($AR3:$BA3,CR$1) -> 0 | ... CZ3: =COUNTIF($AR3:$BA3,CZ$1) -> 0 | DB3: =COUNTIF($V3:$BA3,D$1) -> 3 | DC3: =COUNTIF($V3:$BA3,E$1) -> 1 | DD3: =COUNTIF($V3:$BA3,F$1) -> 1 | DE3: =COUNTIF($V3:$BA3,G$1) -> 1 | DF3: =COUNTIF($V3:$BA3,H$1) -> 0 | DG3: =COUNTIF($V3:$BA3,I$1) -> 0 | DH3: =COUNTIF($V3:$BA3,J$1) -> 0 | DI3: =COUNTIF($V3:$BA3,K$1) -> 2 | ... DQ3: =COUNTIF($V3:$BA3,S$1) -> 0 | DS3: {=RIGHT(LARGE(1000*$EJ3:$EY3+$D$1:$S$1,COLUMN(A2)),2)} -> 15 | DT3: {=RIGHT(LARGE(1000*$EJ3:$EY3+$D$1:$S$1,COLUMN(B2)),2)} -> 08 | DU3: {=RIGHT(LARGE(1000*$EJ3:$EY3+$D$1:$S$1,COLUMN(C2)),2)} -> 05 | DV3: {=RIGHT(LARGE(1000*$EJ3:$EY3+$D$1:$S$1,COLUMN(D2)),2)} -> 02 | DW3: {=RIGHT(LARGE(1000*$EJ3:$EY3+$D$1:$S$1,COLUMN(E2)),2)} -> 16 | DX3: {=RIGHT(LARGE(1000*$EJ3:$EY3+$D$1:$S$1,COLUMN(F2)),2)} -> 14 | DY3: {=RIGHT(LARGE(1000*$EJ3:$EY3+$D$1:$S$1,COLUMN(G2)),2)} -> 13 | DZ3: {=RIGHT(LARGE(1000*$EJ3:$EY3+$D$1:$S$1,COLUMN(H2)),2)} -> 12 | ... EH3: {=RIGHT(LARGE(1000*$EJ3:$EY3+$D$1:$S$1,COLUMN(P2)),2)} -> 1 | EJ3: =COUNTIF($BC68:$CZ68,EJ$1) -> 0 | EK3: =COUNTIF($BC68:$CZ68,EK$1) -> 3 | EL3: =COUNTIF($BC68:$CZ68,EL$1) -> 2 | EM3: =COUNTIF($BC68:$CZ68,EM$1) -> 1 | EN3: =COUNTIF($BC68:$CZ68,EN$1) -> 3 | EO3: =COUNTIF($BC68:$CZ68,EO$1) -> 2 | EP3: =COUNTIF($BC68:$CZ68,EP$1) -> 2 | EQ3: =COUNTIF($BC68:$CZ68,EQ$1) -> 3 | ... EY3: =COUNTIF($BC68:$CZ68,EY$1) -> 2
A4: =Sheet1!A40 -> 2023050 | B4: =MID(Sheet1!B40,1,17) -> 02 07 09 14 22 23 | C4: =MID(Sheet1!B40,21,2) -> 05 | D4: {=MOD(SMALL(DB4:DQ4*17+$D$1:$S$1,COLUMN($17:$17)),17)} -> 1 | E4: 3 | F4: 5 | G4: 6 | H4: 12 | I4: 14 | J4: 16 | K4: 2 | L4: 4 | M4: 7 | N4: 9 | O4: 11 | P4: 10 | Q4: 13 | R4: 15 | S4: 8 | V4: =Sheet1!C40 -> 10 | W4: =Sheet1!E40 -> 13 | X4: =Sheet1!G40 -> 11 | Y4: =Sheet1!I40 -> 15 | Z4: =Sheet1!K40 -> 8 | AA4: =Sheet1!M40 -> 2 | AB4: =Sheet1!O40 -> 10 | AC4: =Sheet1!Q40 -> 8 | AD4: =Sheet1!S40 -> 9 | AE4: =Sheet1!U40 -> 15 | AG4: =Sheet2!D49 -> 9 | AH4: =Sheet2!G49 -> 13 | AI4: =Sheet2!J49 -> 10 | AJ4: =Sheet2!M49 -> 7 | AK4: =Sheet2!P49 -> 11 | AL4: =Sheet2!S49 -> 8 | AM4: =Sheet2!V49 -> 13 | AN4: =Sheet2!Y49 -> 4 | AO4: =Sheet2!AB49 -> 8 | AP4: =Sheet2!AE49 -> 15 | AR4: =Sheet3!D37 -> 0 | AS4: =Sheet3!G37 -> 0 | AT4: =Sheet3!J37 -> 0 | AU4: =Sheet3!M37 -> 0 | AV4: =Sheet3!P37 -> 0 | AW4: =Sheet3!S37 -> 0 | AX4: =Sheet3!V37 -> 0 | AY4: =Sheet3!Y37 -> 0 | AZ4: =Sheet3!AB37 -> 0 | BA4: =Sheet3!AE37 -> 0 | BC4: =COUNTIF($V4:$AE4,BC$1) -> 0 | BD4: =COUNTIF($V4:$AE4,BD$1) -> 1 | BE4: =COUNTIF($V4:$AE4,BE$1) -> 0 | BF4: =COUNTIF($V4:$AE4,BF$1) -> 0 | BG4: =COUNTIF($V4:$AE4,BG$1) -> 0 | BH4: =COUNTIF($V4:$AE4,BH$1) -> 0 | BI4: =COUNTIF($V4:$AE4,BI$1) -> 0 | BJ4: =COUNTIF($V4:$AE4,BJ$1) -> 2 | ... BR4: =COUNTIF($V4:$AE4,BR$1) -> 0 | BT4: =COUNTIF($AG4:$AP4,BT$1) -> 0 | BU4: =COUNTIF($AG4:$AP4,BU$1) -> 0 | BV4: =COUNTIF($AG4:$AP4,BV$1) -> 0 | BW4: =COUNTIF($AG4:$AP4,BW$1) -> 1 | BX4: =COUNTIF($AG4:$AP4,BX$1) -> 0 | BY4: =COUNTIF($AG4:$AP4,BY$1) -> 0 | BZ4: =COUNTIF($AG4:$AP4,BZ$1) -> 1 | CA4: =COUNTIF($AG4:$AP4,CA$1) -> 2 | ... CI4: =COUNTIF($AG4:$AP4,CI$1) -> 0 | CK4: =COUNTIF($AR4:$BA4,CK$1) -> 0 | CL4: =COUNTIF($AR4:$BA4,CL$1) -> 0 | CM4: =COUNTIF($AR4:$BA4,CM$1) -> 0 | CN4: =COUNTIF($AR4:$BA4,CN$1) -> 0 | CO4: =COUNTIF($AR4:$BA4,CO$1) -> 0 | CP4: =COUNTIF($AR4:$BA4,CP$1) -> 0 | CQ4: =COUNTIF($AR4:$BA4,CQ$1) -> 0 | CR4: =COUNTIF($AR4:$BA4,CR$1) -> 0 | ... CZ4: =COUNTIF($AR4:$BA4,CZ$1) -> 0 | DB4: =COUNTIF($V4:$BA4,D$1) -> 0 | DC4: =COUNTIF($V4:$BA4,E$1) -> 1 | DD4: =COUNTIF($V4:$BA4,F$1) -> 0 | DE4: =COUNTIF($V4:$BA4,G$1) -> 1 | DF4: =COUNTIF($V4:$BA4,H$1) -> 0 | DG4: =COUNTIF($V4:$BA4,I$1) -> 0 | DH4: =COUNTIF($V4:$BA4,J$1) -> 1 | DI4: =COUNTIF($V4:$BA4,K$1) -> 4 | ... DQ4: =COUNTIF($V4:$BA4,S$1) -> 0 | DS4: {=RIGHT(LARGE(1000*$EJ4:$EY4+$D$1:$S$1,COLUMN(A3)),2)} -> 09 | DT4: {=RIGHT(LARGE(1000*$EJ4:$EY4+$D$1:$S$1,COLUMN(B3)),2)} -> 08 | DU4: {=RIGHT(LARGE(1000*$EJ4:$EY4+$D$1:$S$1,COLUMN(C3)),2)} -> 06 | DV4: {=RIGHT(LARGE(1000*$EJ4:$EY4+$D$1:$S$1,COLUMN(D3)),2)} -> 05 | DW4: {=RIGHT(LARGE(1000*$EJ4:$EY4+$D$1:$S$1,COLUMN(E3)),2)} -> 02 | DX4: {=RIGHT(LARGE(1000*$EJ4:$EY4+$D$1:$S$1,COLUMN(F3)),2)} -> 15 | DY4: {=RIGHT(LARGE(1000*$EJ4:$EY4+$D$1:$S$1,COLUMN(G3)),2)} -> 14 | DZ4: {=RIGHT(LARGE(1000*$EJ4:$EY4+$D$1:$S$1,COLUMN(H3)),2)} -> 13 | ... EH4: {=RIGHT(LARGE(1000*$EJ4:$EY4+$D$1:$S$1,COLUMN(P3)),2)} -> 7 | EJ4: =COUNTIF($BC69:$CZ69,EJ$1) -> 1 | EK4: =COUNTIF($BC69:$CZ69,EK$1) -> 3 | EL4: =COUNTIF($BC69:$CZ69,EL$1) -> 2 | EM4: =COUNTIF($BC69:$CZ69,EM$1) -> 2 | EN4: =COUNTIF($BC69:$CZ69,EN$1) -> 3 | EO4: =COUNTIF($BC69:$CZ69,EO$1) -> 3 | EP4: =COUNTIF($BC69:$CZ69,EP$1) -> 0 | EQ4: =COUNTIF($BC69:$CZ69,EQ$1) -> 3 | ... EY4: =COUNTIF($BC69:$CZ69,EY$1) -> 1
A5: =Sheet1!A41 -> 2023051 | B5: =MID(Sheet1!B41,1,17) -> 22 26 29 30 32 33 | C5: =MID(Sheet1!B41,21,2) -> 14 | D5: {=MOD(SMALL(DB5:DQ5*17+$D$1:$S$1,COLUMN($17:$17)),17)} -> 1 | E5: 7 | F5: 10 | G5: 13 | H5: 3 | I5: 4 | J5: 6 | K5: 8 | L5: 12 | M5: 14 | N5: 15 | O5: 5 | P5: 9 | Q5: 11 | R5: 16 | S5: 2 | V5: =Sheet1!C41 -> 11 | W5: =Sheet1!E41 -> 5 | X5: =Sheet1!G41 -> 6 | Y5: =Sheet1!I41 -> 12 | Z5: =Sheet1!K41 -> 5 | AA5: =Sheet1!M41 -> 14 | AB5: =Sheet1!O41 -> 16 | AC5: =Sheet1!Q41 -> 2 | AD5: =Sheet1!S41 -> 9 | AE5: =Sheet1!U41 -> 3 | AG5: =Sheet2!D50 -> 2 | AH5: =Sheet2!G50 -> 2 | AI5: =Sheet2!J50 -> 15 | AJ5: =Sheet2!M50 -> 8 | AK5: =Sheet2!P50 -> 16 | AL5: =Sheet2!S50 -> 9 | AM5: =Sheet2!V50 -> 2 | AN5: =Sheet2!Y50 -> 11 | AO5: =Sheet2!AB50 -> 4 | AP5: =Sheet2!AE50 -> 16 | AR5: =Sheet3!D38 -> 0 | AS5: =Sheet3!G38 -> 0 | AT5: =Sheet3!J38 -> 0 | AU5: =Sheet3!M38 -> 0 | AV5: =Sheet3!P38 -> 0 | AW5: =Sheet3!S38 -> 0 | AX5: =Sheet3!V38 -> 0 | AY5: =Sheet3!Y38 -> 0 | AZ5: =Sheet3!AB38 -> 0 | BA5: =Sheet3!AE38 -> 0 | BC5: =COUNTIF($V5:$AE5,BC$1) -> 0 | BD5: =COUNTIF($V5:$AE5,BD$1) -> 1 | BE5: =COUNTIF($V5:$AE5,BE$1) -> 1 | BF5: =COUNTIF($V5:$AE5,BF$1) -> 0 | BG5: =COUNTIF($V5:$AE5,BG$1) -> 2 | BH5: =COUNTIF($V5:$AE5,BH$1) -> 1 | BI5: =COUNTIF($V5:$AE5,BI$1) -> 0 | BJ5: =COUNTIF($V5:$AE5,BJ$1) -> 0 | ... BR5: =COUNTIF($V5:$AE5,BR$1) -> 1 | BT5: =COUNTIF($AG5:$AP5,BT$1) -> 0 | BU5: =COUNTIF($AG5:$AP5,BU$1) -> 3 | BV5: =COUNTIF($AG5:$AP5,BV$1) -> 0 | BW5: =COUNTIF($AG5:$AP5,BW$1) -> 1 | BX5: =COUNTIF($AG5:$AP5,BX$1) -> 0 | BY5: =COUNTIF($AG5:$AP5,BY$1) -> 0 | BZ5: =COUNTIF($AG5:$AP5,BZ$1) -> 0 | CA5: =COUNTIF($AG5:$AP5,CA$1) -> 1 | ... CI5: =COUNTIF($AG5:$AP5,CI$1) -> 2 | CK5: =COUNTIF($AR5:$BA5,CK$1) -> 0 | CL5: =COUNTIF($AR5:$BA5,CL$1) -> 0 | CM5: =COUNTIF($AR5:$BA5,CM$1) -> 0 | CN5: =COUNTIF($AR5:$BA5,CN$1) -> 0 | CO5: =COUNTIF($AR5:$BA5,CO$1) -> 0 | CP5: =COUNTIF($AR5:$BA5,CP$1) -> 0 | CQ5: =COUNTIF($AR5:$BA5,CQ$1) -> 0 | CR5: =COUNTIF($AR5:$BA5,CR$1) -> 0 | ... CZ5: =COUNTIF($AR5:$BA5,CZ$1) -> 0 | DB5: =COUNTIF($V5:$BA5,D$1) -> 0 | DC5: =COUNTIF($V5:$BA5,E$1) -> 4 | DD5: =COUNTIF($V5:$BA5,F$1) -> 1 | DE5: =COUNTIF($V5:$BA5,G$1) -> 1 | DF5: =COUNTIF($V5:$BA5,H$1) -> 2 | DG5: =COUNTIF($V5:$BA5,I$1) -> 1 | DH5: =COUNTIF($V5:$BA5,J$1) -> 0 | DI5: =COUNTIF($V5:$BA5,K$1) -> 1 | ... DQ5: =COUNTIF($V5:$BA5,S$1) -> 3 | DS5: {=RIGHT(LARGE(1000*$EJ5:$EY5+$D$1:$S$1,COLUMN(A4)),2)} -> 15 | DT5: {=RIGHT(LARGE(1000*$EJ5:$EY5+$D$1:$S$1,COLUMN(B4)),2)} -> 14 | DU5: {=RIGHT(LARGE(1000*$EJ5:$EY5+$D$1:$S$1,COLUMN(C4)),2)} -> 11 | DV5: {=RIGHT(LARGE(1000*$EJ5:$EY5+$D$1:$S$1,COLUMN(D4)),2)} -> 09 | DW5: {=RIGHT(LARGE(1000*$EJ5:$EY5+$D$1:$S$1,COLUMN(E4)),2)} -> 08 | DX5: {=RIGHT(LARGE(1000*$EJ5:$EY5+$D$1:$S$1,COLUMN(F4)),2)} -> 06 | DY5: {=RIGHT(LARGE(1000*$EJ5:$EY5+$D$1:$S$1,COLUMN(G4)),2)} -> 02 | DZ5: {=RIGHT(LARGE(1000*$EJ5:$EY5+$D$1:$S$1,COLUMN(H4)),2)} -> 13 | ... EH5: {=RIGHT(LARGE(1000*$EJ5:$EY5+$D$1:$S$1,COLUMN(P4)),2)} -> 01 | EJ5: =COUNTIF($BC70:$CZ70,EJ$1) -> 1 | EK5: =COUNTIF($BC70:$CZ70,EK$1) -> 3 | EL5: =COUNTIF($BC70:$CZ70,EL$1) -> 1 | EM5: =COUNTIF($BC70:$CZ70,EM$1) -> 1 | EN5: =COUNTIF($BC70:$CZ70,EN$1) -> 2 | EO5: =COUNTIF($BC70:$CZ70,EO$1) -> 3 | EP5: =COUNTIF($BC70:$CZ70,EP$1) -> 1 | EQ5: =COUNTIF($BC70:$CZ70,EQ$1) -> 3 | ... EY5: =COUNTIF($BC70:$CZ70,EY$1) -> 1
A6: =Sheet1!A42 -> 2023052 | B6: =MID(Sheet1!B42,1,17) -> 03 04 05 08 12 17 | C6: =MID(Sheet1!B42,21,2) -> 06 | D6: {=MOD(SMALL(DB6:DQ6*17+$D$1:$S$1,COLUMN($17:$17)),17)} -> 2 | E6: 5 | F6: 8 | G6: 10 | H6: 1 | I6: 3 | J6: 6 | K6: 7 | L6: 9 | M6: 11 | N6: 12 | O6: 13 | P6: 14 | Q6: 15 | R6: 4 | S6: 16 | V6: =Sheet1!C42 -> 4 | W6: =Sheet1!E42 -> 16 | X6: =Sheet1!G42 -> 1 | Y6: =Sheet1!I42 -> 7 | Z6: =Sheet1!K42 -> 3 | AA6: =Sheet1!M42 -> 4 | AB6: =Sheet1!O42 -> 14 | AC6: =Sheet1!Q42 -> 16 | AD6: =Sheet1!S42 -> 16 | AE6: =Sheet1!U42 -> 4 | AG6: =Sheet2!D51 -> 12 | AH6: =Sheet2!G51 -> 15 | AI6: =Sheet2!J51 -> 4 | AJ6: =Sheet2!M51 -> 13 | AK6: =Sheet2!P51 -> 15 | AL6: =Sheet2!S51 -> 16 | AM6: =Sheet2!V51 -> 6 | AN6: =Sheet2!Y51 -> 11 | AO6: =Sheet2!AB51 -> 16 | AP6: =Sheet2!AE51 -> 9 | AR6: =Sheet3!D39 -> 0 | AS6: =Sheet3!G39 -> 0 | AT6: =Sheet3!J39 -> 0 | AU6: =Sheet3!M39 -> 0 | AV6: =Sheet3!P39 -> 0 | AW6: =Sheet3!S39 -> 0 | AX6: =Sheet3!V39 -> 0 | AY6: =Sheet3!Y39 -> 0 | AZ6: =Sheet3!AB39 -> 0 | BA6: =Sheet3!AE39 -> 0 | BC6: =COUNTIF($V6:$AE6,BC$1) -> 1 | BD6: =COUNTIF($V6:$AE6,BD$1) -> 0 | BE6: =COUNTIF($V6:$AE6,BE$1) -> 1 | BF6: =COUNTIF($V6:$AE6,BF$1) -> 3 | BG6: =COUNTIF($V6:$AE6,BG$1) -> 0 | BH6: =COUNTIF($V6:$AE6,BH$1) -> 0 | BI6: =COUNTIF($V6:$AE6,BI$1) -> 1 | BJ6: =COUNTIF($V6:$AE6,BJ$1) -> 0 | ... BR6: =COUNTIF($V6:$AE6,BR$1) -> 3 | BT6: =COUNTIF($AG6:$AP6,BT$1) -> 0 | BU6: =COUNTIF($AG6:$AP6,BU$1) -> 0 | BV6: =COUNTIF($AG6:$AP6,BV$1) -> 0 | BW6: =COUNTIF($AG6:$AP6,BW$1) -> 1 | BX6: =COUNTIF($AG6:$AP6,BX$1) -> 0 | BY6: =COUNTIF($AG6:$AP6,BY$1) -> 1 | BZ6: =COUNTIF($AG6:$AP6,BZ$1) -> 0 | CA6: =COUNTIF($AG6:$AP6,CA$1) -> 0 | ... CI6: =COUNTIF($AG6:$AP6,CI$1) -> 2 | CK6: =COUNTIF($AR6:$BA6,CK$1) -> 0 | CL6: =COUNTIF($AR6:$BA6,CL$1) -> 0 | CM6: =COUNTIF($AR6:$BA6,CM$1) -> 0 | CN6: =COUNTIF($AR6:$BA6,CN$1) -> 0 | CO6: =COUNTIF($AR6:$BA6,CO$1) -> 0 | CP6: =COUNTIF($AR6:$BA6,CP$1) -> 0 | CQ6: =COUNTIF($AR6:$BA6,CQ$1) -> 0 | CR6: =COUNTIF($AR6:$BA6,CR$1) -> 0 | ... CZ6: =COUNTIF($AR6:$BA6,CZ$1) -> 0 | DB6: =COUNTIF($V6:$BA6,D$1) -> 1 | DC6: =COUNTIF($V6:$BA6,E$1) -> 0 | DD6: =COUNTIF($V6:$BA6,F$1) -> 1 | DE6: =COUNTIF($V6:$BA6,G$1) -> 4 | DF6: =COUNTIF($V6:$BA6,H$1) -> 0 | DG6: =COUNTIF($V6:$BA6,I$1) -> 1 | DH6: =COUNTIF($V6:$BA6,J$1) -> 1 | DI6: =COUNTIF($V6:$BA6,K$1) -> 0 | ... DQ6: =COUNTIF($V6:$BA6,S$1) -> 5 | DS6: {=RIGHT(LARGE(1000*$EJ6:$EY6+$D$1:$S$1,COLUMN(A5)),2)} -> 15 | DT6: {=RIGHT(LARGE(1000*$EJ6:$EY6+$D$1:$S$1,COLUMN(B5)),2)} -> 14 | DU6: {=RIGHT(LARGE(1000*$EJ6:$EY6+$D$1:$S$1,COLUMN(C5)),2)} -> 09 | DV6: {=RIGHT(LARGE(1000*$EJ6:$EY6+$D$1:$S$1,COLUMN(D5)),2)} -> 06 | DW6: {=RIGHT(LARGE(1000*$EJ6:$EY6+$D$1:$S$1,COLUMN(E5)),2)} -> 05 | DX6: {=RIGHT(LARGE(1000*$EJ6:$EY6+$D$1:$S$1,COLUMN(F5)),2)} -> 02 | DY6: {=RIGHT(LARGE(1000*$EJ6:$EY6+$D$1:$S$1,COLUMN(G5)),2)} -> 13 | DZ6: {=RIGHT(LARGE(1000*$EJ6:$EY6+$D$1:$S$1,COLUMN(H5)),2)} -> 12 | ... EH6: {=RIGHT(LARGE(1000*$EJ6:$EY6+$D$1:$S$1,COLUMN(P5)),2)} -> 4 | EJ6: =COUNTIF($BC71:$CZ71,EJ$1) -> 1 | EK6: =COUNTIF($BC71:$CZ71,EK$1) -> 3 | EL6: =COUNTIF($BC71:$CZ71,EL$1) -> 2 | EM6: =COUNTIF($BC71:$CZ71,EM$1) -> 0 | EN6: =COUNTIF($BC71:$CZ71,EN$1) -> 3 | EO6: =COUNTIF($BC71:$CZ71,EO$1) -> 3 | EP6: =COUNTIF($BC71:$CZ71,EP$1) -> 1 | EQ6: =COUNTIF($BC71:$CZ71,EQ$1) -> 2 | ... EY6: =COUNTIF($BC71:$CZ71,EY$1) -> 1
A7: =Sheet1!A43 -> 2023053 | B7: =MID(Sheet1!B43,1,17) -> 01 07 14 20 27 30 | C7: =MID(Sheet1!B43,21,2) -> 15 | D7: {=MOD(SMALL(DB7:DQ7*17+$D$1:$S$1,COLUMN($17:$17)),17)} -> 2 | E7: 10 | F7: 13 | G7: 1 | H7: 3 | I7: 5 | J7: 6 | K7: 7 | L7: 8 | M7: 9 | N7: 12 | O7: 14 | P7: 15 | Q7: 16 | R7: 4 | S7: 11 | V7: =Sheet1!C43 -> 12 | W7: =Sheet1!E43 -> 4 | X7: =Sheet1!G43 -> 3 | Y7: =Sheet1!I43 -> 5 | Z7: =Sheet1!K43 -> 14 | AA7: =Sheet1!M43 -> 8 | AB7: =Sheet1!O43 -> 11 | AC7: =Sheet1!Q43 -> 4 | AD7: =Sheet1!S43 -> 1 | AE7: =Sheet1!U43 -> 11 | AG7: =Sheet2!D52 -> 15 | AH7: =Sheet2!G52 -> 15 | AI7: =Sheet2!J52 -> 7 | AJ7: =Sheet2!M52 -> 16 | AK7: =Sheet2!P52 -> 9 | AL7: =Sheet2!S52 -> 6 | AM7: =Sheet2!V52 -> 14 | AN7: =Sheet2!Y52 -> 11 | AO7: =Sheet2!AB52 -> 4 | AP7: =Sheet2!AE52 -> 16 | AR7: =Sheet3!D40 -> 0 | AS7: =Sheet3!G40 -> 0 | AT7: =Sheet3!J40 -> 0 | AU7: =Sheet3!M40 -> 0 | AV7: =Sheet3!P40 -> 0 | AW7: =Sheet3!S40 -> 0 | AX7: =Sheet3!V40 -> 0 | AY7: =Sheet3!Y40 -> 0 | AZ7: =Sheet3!AB40 -> 0 | BA7: =Sheet3!AE40 -> 0 | BC7: =COUNTIF($V7:$AE7,BC$1) -> 1 | BD7: =COUNTIF($V7:$AE7,BD$1) -> 0 | BE7: =COUNTIF($V7:$AE7,BE$1) -> 1 | BF7: =COUNTIF($V7:$AE7,BF$1) -> 2 | BG7: =COUNTIF($V7:$AE7,BG$1) -> 1 | BH7: =COUNTIF($V7:$AE7,BH$1) -> 0 | BI7: =COUNTIF($V7:$AE7,BI$1) -> 0 | BJ7: =COUNTIF($V7:$AE7,BJ$1) -> 1 | ... BR7: =COUNTIF($V7:$AE7,BR$1) -> 0 | BT7: =COUNTIF($AG7:$AP7,BT$1) -> 0 | BU7: =COUNTIF($AG7:$AP7,BU$1) -> 0 | BV7: =COUNTIF($AG7:$AP7,BV$1) -> 0 | BW7: =COUNTIF($AG7:$AP7,BW$1) -> 1 | BX7: =COUNTIF($AG7:$AP7,BX$1) -> 0 | BY7: =COUNTIF($AG7:$AP7,BY$1) -> 1 | BZ7: =COUNTIF($AG7:$AP7,BZ$1) -> 1 | CA7: =COUNTIF($AG7:$AP7,CA$1) -> 0 | ... CI7: =COUNTIF($AG7:$AP7,CI$1) -> 2 | CK7: =COUNTIF($AR7:$BA7,CK$1) -> 0 | CL7: =COUNTIF($AR7:$BA7,CL$1) -> 0 | CM7: =COUNTIF($AR7:$BA7,CM$1) -> 0 | CN7: =COUNTIF($AR7:$BA7,CN$1) -> 0 | CO7: =COUNTIF($AR7:$BA7,CO$1) -> 0 | CP7: =COUNTIF($AR7:$BA7,CP$1) -> 0 | CQ7: =COUNTIF($AR7:$BA7,CQ$1) -> 0 | CR7: =COUNTIF($AR7:$BA7,CR$1) -> 0 | ... CZ7: =COUNTIF($AR7:$BA7,CZ$1) -> 0 | DB7: =COUNTIF($V7:$BA7,D$1) -> 1 | DC7: =COUNTIF($V7:$BA7,E$1) -> 0 | DD7: =COUNTIF($V7:$BA7,F$1) -> 1 | DE7: =COUNTIF($V7:$BA7,G$1) -> 3 | DF7: =COUNTIF($V7:$BA7,H$1) -> 1 | DG7: =COUNTIF($V7:$BA7,I$1) -> 1 | DH7: =COUNTIF($V7:$BA7,J$1) -> 1 | DI7: =COUNTIF($V7:$BA7,K$1) -> 1 | ... DQ7: =COUNTIF($V7:$BA7,S$1) -> 2 | DS7: {=RIGHT(LARGE(1000*$EJ7:$EY7+$D$1:$S$1,COLUMN(A6)),2)} -> 15 | DT7: {=RIGHT(LARGE(1000*$EJ7:$EY7+$D$1:$S$1,COLUMN(B6)),2)} -> 14 | DU7: {=RIGHT(LARGE(1000*$EJ7:$EY7+$D$1:$S$1,COLUMN(C6)),2)} -> 09 | DV7: {=RIGHT(LARGE(1000*$EJ7:$EY7+$D$1:$S$1,COLUMN(D6)),2)} -> 08 | DW7: {=RIGHT(LARGE(1000*$EJ7:$EY7+$D$1:$S$1,COLUMN(E6)),2)} -> 06 | DX7: {=RIGHT(LARGE(1000*$EJ7:$EY7+$D$1:$S$1,COLUMN(F6)),2)} -> 05 | DY7: {=RIGHT(LARGE(1000*$EJ7:$EY7+$D$1:$S$1,COLUMN(G6)),2)} -> 16 | DZ7: {=RIGHT(LARGE(1000*$EJ7:$EY7+$D$1:$S$1,COLUMN(H6)),2)} -> 12 | ... EH7: {=RIGHT(LARGE(1000*$EJ7:$EY7+$D$1:$S$1,COLUMN(P6)),2)} -> 1 | EJ7: =COUNTIF($BC72:$CZ72,EJ$1) -> 0 | EK7: =COUNTIF($BC72:$CZ72,EK$1) -> 2 | EL7: =COUNTIF($BC72:$CZ72,EL$1) -> 2 | EM7: =COUNTIF($BC72:$CZ72,EM$1) -> 1 | EN7: =COUNTIF($BC72:$CZ72,EN$1) -> 3 | EO7: =COUNTIF($BC72:$CZ72,EO$1) -> 3 | EP7: =COUNTIF($BC72:$CZ72,EP$1) -> 2 | EQ7: =COUNTIF($BC72:$CZ72,EQ$1) -> 3 | ... EY7: =COUNTIF($BC72:$CZ72,EY$1) -> 2
A8: =Sheet1!A44 -> 2023054 | B8: =MID(Sheet1!B44,1,17) -> 05 06 09 10 15 26 | C8: =MID(Sheet1!B44,21,2) -> 12 | D8: {=MOD(SMALL(DB8:DQ8*17+$D$1:$S$1,COLUMN($17:$17)),17)} -> 4 | E8: 8 | F8: 10 | G8: 12 | H8: 13 | I8: 15 | J8: 1 | K8: 2 | L8: 7 | M8: 11 | N8: 3 | O8: 5 | P8: 6 | Q8: 14 | R8: 16 | S8: 9 | V8: =Sheet1!C44 -> 16 | W8: =Sheet1!E44 -> 14 | X8: =Sheet1!G44 -> 6 | Y8: =Sheet1!I44 -> 9 | Z8: =Sheet1!K44 -> 14 | AA8: =Sheet1!M44 -> 5 | AB8: =Sheet1!O44 -> 5 | AC8: =Sheet1!Q44 -> 3 | AD8: =Sheet1!S44 -> 16 | AE8: =Sheet1!U44 -> 1 | AG8: =Sheet2!D53 -> 9 | AH8: =Sheet2!G53 -> 9 | AI8: =Sheet2!J53 -> 6 | AJ8: =Sheet2!M53 -> 14 | AK8: =Sheet2!P53 -> 7 | AL8: =Sheet2!S53 -> 16 | AM8: =Sheet2!V53 -> 9 | AN8: =Sheet2!Y53 -> 2 | AO8: =Sheet2!AB53 -> 11 | AP8: =Sheet2!AE53 -> 3 | AR8: =Sheet3!D41 -> 0 | AS8: =Sheet3!G41 -> 0 | AT8: =Sheet3!J41 -> 0 | AU8: =Sheet3!M41 -> 0 | AV8: =Sheet3!P41 -> 0 | AW8: =Sheet3!S41 -> 0 | AX8: =Sheet3!V41 -> 0 | AY8: =Sheet3!Y41 -> 0 | AZ8: =Sheet3!AB41 -> 0 | BA8: =Sheet3!AE41 -> 0 | BC8: =COUNTIF($V8:$AE8,BC$1) -> 1 | BD8: =COUNTIF($V8:$AE8,BD$1) -> 0 | BE8: =COUNTIF($V8:$AE8,BE$1) -> 1 | BF8: =COUNTIF($V8:$AE8,BF$1) -> 0 | BG8: =COUNTIF($V8:$AE8,BG$1) -> 2 | BH8: =COUNTIF($V8:$AE8,BH$1) -> 1 | BI8: =COUNTIF($V8:$AE8,BI$1) -> 0 | BJ8: =COUNTIF($V8:$AE8,BJ$1) -> 0 | ... BR8: =COUNTIF($V8:$AE8,BR$1) -> 2 | BT8: =COUNTIF($AG8:$AP8,BT$1) -> 0 | BU8: =COUNTIF($AG8:$AP8,BU$1) -> 1 | BV8: =COUNTIF($AG8:$AP8,BV$1) -> 1 | BW8: =COUNTIF($AG8:$AP8,BW$1) -> 0 | BX8: =COUNTIF($AG8:$AP8,BX$1) -> 0 | BY8: =COUNTIF($AG8:$AP8,BY$1) -> 1 | BZ8: =COUNTIF($AG8:$AP8,BZ$1) -> 1 | CA8: =COUNTIF($AG8:$AP8,CA$1) -> 0 | ... CI8: =COUNTIF($AG8:$AP8,CI$1) -> 1 | CK8: =COUNTIF($AR8:$BA8,CK$1) -> 0 | CL8: =COUNTIF($AR8:$BA8,CL$1) -> 0 | CM8: =COUNTIF($AR8:$BA8,CM$1) -> 0 | CN8: =COUNTIF($AR8:$BA8,CN$1) -> 0 | CO8: =COUNTIF($AR8:$BA8,CO$1) -> 0 | CP8: =COUNTIF($AR8:$BA8,CP$1) -> 0 | CQ8: =COUNTIF($AR8:$BA8,CQ$1) -> 0 | CR8: =COUNTIF($AR8:$BA8,CR$1) -> 0 | ... CZ8: =COUNTIF($AR8:$BA8,CZ$1) -> 0 | DB8: =COUNTIF($V8:$BA8,D$1) -> 1 | DC8: =COUNTIF($V8:$BA8,E$1) -> 1 | DD8: =COUNTIF($V8:$BA8,F$1) -> 2 | DE8: =COUNTIF($V8:$BA8,G$1) -> 0 | DF8: =COUNTIF($V8:$BA8,H$1) -> 2 | DG8: =COUNTIF($V8:$BA8,I$1) -> 2 | DH8: =COUNTIF($V8:$BA8,J$1) -> 1 | DI8: =COUNTIF($V8:$BA8,K$1) -> 0 | ... DQ8: =COUNTIF($V8:$BA8,S$1) -> 3 | DS8: {=RIGHT(LARGE(1000*$EJ8:$EY8+$D$1:$S$1,COLUMN(A7)),2)} -> 13 | DT8: {=RIGHT(LARGE(1000*$EJ8:$EY8+$D$1:$S$1,COLUMN(B7)),2)} -> 12 | DU8: {=RIGHT(LARGE(1000*$EJ8:$EY8+$D$1:$S$1,COLUMN(C7)),2)} -> 08 | DV8: {=RIGHT(LARGE(1000*$EJ8:$EY8+$D$1:$S$1,COLUMN(D7)),2)} -> 06 | DW8: {=RIGHT(LARGE(1000*$EJ8:$EY8+$D$1:$S$1,COLUMN(E7)),2)} -> 05 | DX8: {=RIGHT(LARGE(1000*$EJ8:$EY8+$D$1:$S$1,COLUMN(F7)),2)} -> 15 | DY8: {=RIGHT(LARGE(1000*$EJ8:$EY8+$D$1:$S$1,COLUMN(G7)),2)} -> 10 | DZ8: {=RIGHT(LARGE(1000*$EJ8:$EY8+$D$1:$S$1,COLUMN(H7)),2)} -> 07 | ... EH8: {=RIGHT(LARGE(1000*$EJ8:$EY8+$D$1:$S$1,COLUMN(P7)),2)} -> 16 | EJ8: =COUNTIF($BC73:$CZ73,EJ$1) -> 2 | EK8: =COUNTIF($BC73:$CZ73,EK$1) -> 2 | EL8: =COUNTIF($BC73:$CZ73,EL$1) -> 2 | EM8: =COUNTIF($BC73:$CZ73,EM$1) -> 2 | EN8: =COUNTIF($BC73:$CZ73,EN$1) -> 3 | EO8: =COUNTIF($BC73:$CZ73,EO$1) -> 3 | EP8: =COUNTIF($BC73:$CZ73,EP$1) -> 2 | EQ8: =COUNTIF($BC73:$CZ73,EQ$1) -> 3 | ... EY8: =COUNTIF($BC73:$CZ73,EY$1) -> 0
A9: =Sheet1!A45 -> 2023055 | B9: =MID(Sheet1!B45,1,17) -> 03 04 20 23 27 32 | C9: =MID(Sheet1!B45,21,2) -> 13 | D9: {=MOD(SMALL(DB9:DQ9*17+$D$1:$S$1,COLUMN($17:$17)),17)} -> 7 | E9: 9 | F9: 15 | G9: 2 | H9: 3 | I9: 4 | J9: 5 | K9: 8 | L9: 10 | M9: 11 | N9: 14 | O9: 1 | P9: 6 | Q9: 13 | R9: 16 | S9: 12 | V9: =Sheet1!C45 -> 5 | W9: =Sheet1!E45 -> 14 | X9: =Sheet1!G45 -> 10 | Y9: =Sheet1!I45 -> 2 | Z9: =Sheet1!K45 -> 1 | AA9: =Sheet1!M45 -> 16 | AB9: =Sheet1!O45 -> 12 | AC9: =Sheet1!Q45 -> 12 | AD9: =Sheet1!S45 -> 8 | AE9: =Sheet1!U45 -> 16 | AG9: =Sheet2!D54 -> 12 | AH9: =Sheet2!G54 -> 12 | AI9: =Sheet2!J54 -> 1 | AJ9: =Sheet2!M54 -> 13 | AK9: =Sheet2!P54 -> 6 | AL9: =Sheet2!S54 -> 3 | AM9: =Sheet2!V54 -> 11 | AN9: =Sheet2!Y54 -> 4 | AO9: =Sheet2!AB54 -> 13 | AP9: =Sheet2!AE54 -> 6 | AR9: =Sheet3!D42 -> 0 | AS9: =Sheet3!G42 -> 0 | AT9: =Sheet3!J42 -> 0 | AU9: =Sheet3!M42 -> 0 | AV9: =Sheet3!P42 -> 0 | AW9: =Sheet3!S42 -> 0 | AX9: =Sheet3!V42 -> 0 | AY9: =Sheet3!Y42 -> 0 | AZ9: =Sheet3!AB42 -> 0 | BA9: =Sheet3!AE42 -> 0 | BC9: =COUNTIF($V9:$AE9,BC$1) -> 1 | BD9: =COUNTIF($V9:$AE9,BD$1) -> 1 | BE9: =COUNTIF($V9:$AE9,BE$1) -> 0 | BF9: =COUNTIF($V9:$AE9,BF$1) -> 0 | BG9: =COUNTIF($V9:$AE9,BG$1) -> 1 | BH9: =COUNTIF($V9:$AE9,BH$1) -> 0 | BI9: =COUNTIF($V9:$AE9,BI$1) -> 0 | BJ9: =COUNTIF($V9:$AE9,BJ$1) -> 1 | ... BR9: =COUNTIF($V9:$AE9,BR$1) -> 2 | BT9: =COUNTIF($AG9:$AP9,BT$1) -> 1 | BU9: =COUNTIF($AG9:$AP9,BU$1) -> 0 | BV9: =COUNTIF($AG9:$AP9,BV$1) -> 1 | BW9: =COUNTIF($AG9:$AP9,BW$1) -> 1 | BX9: =COUNTIF($AG9:$AP9,BX$1) -> 0 | BY9: =COUNTIF($AG9:$AP9,BY$1) -> 2 | BZ9: =COUNTIF($AG9:$AP9,BZ$1) -> 0 | CA9: =COUNTIF($AG9:$AP9,CA$1) -> 0 | ... CI9: =COUNTIF($AG9:$AP9,CI$1) -> 0 | CK9: =COUNTIF($AR9:$BA9,CK$1) -> 0 | CL9: =COUNTIF($AR9:$BA9,CL$1) -> 0 | CM9: =COUNTIF($AR9:$BA9,CM$1) -> 0 | CN9: =COUNTIF($AR9:$BA9,CN$1) -> 0 | CO9: =COUNTIF($AR9:$BA9,CO$1) -> 0 | CP9: =COUNTIF($AR9:$BA9,CP$1) -> 0 | CQ9: =COUNTIF($AR9:$BA9,CQ$1) -> 0 | CR9: =COUNTIF($AR9:$BA9,CR$1) -> 0 | ... CZ9: =COUNTIF($AR9:$BA9,CZ$1) -> 0 | DB9: =COUNTIF($V9:$BA9,D$1) -> 2 | DC9: =COUNTIF($V9:$BA9,E$1) -> 1 | DD9: =COUNTIF($V9:$BA9,F$1) -> 1 | DE9: =COUNTIF($V9:$BA9,G$1) -> 1 | DF9: =COUNTIF($V9:$BA9,H$1) -> 1 | DG9: =COUNTIF($V9:$BA9,I$1) -> 2 | DH9: =COUNTIF($V9:$BA9,J$1) -> 0 | DI9: =COUNTIF($V9:$BA9,K$1) -> 1 | ... DQ9: =COUNTIF($V9:$BA9,S$1) -> 2 | DS9: {=RIGHT(LARGE(1000*$EJ9:$EY9+$D$1:$S$1,COLUMN(A8)),2)} -> 14 | DT9: {=RIGHT(LARGE(1000*$EJ9:$EY9+$D$1:$S$1,COLUMN(B8)),2)} -> 13 | DU9: {=RIGHT(LARGE(1000*$EJ9:$EY9+$D$1:$S$1,COLUMN(C8)),2)} -> 09 | DV9: {=RIGHT(LARGE(1000*$EJ9:$EY9+$D$1:$S$1,COLUMN(D8)),2)} -> 08 | DW9: {=RIGHT(LARGE(1000*$EJ9:$EY9+$D$1:$S$1,COLUMN(E8)),2)} -> 06 | DX9: {=RIGHT(LARGE(1000*$EJ9:$EY9+$D$1:$S$1,COLUMN(F8)),2)} -> 05 | DY9: {=RIGHT(LARGE(1000*$EJ9:$EY9+$D$1:$S$1,COLUMN(G8)),2)} -> 02 | DZ9: {=RIGHT(LARGE(1000*$EJ9:$EY9+$D$1:$S$1,COLUMN(H8)),2)} -> 15 | ... EH9: {=RIGHT(LARGE(1000*$EJ9:$EY9+$D$1:$S$1,COLUMN(P8)),2)} -> 1 | EJ9: =COUNTIF($BC74:$CZ74,EJ$1) -> 0 | EK9: =COUNTIF($BC74:$CZ74,EK$1) -> 3 | EL9: =COUNTIF($BC74:$CZ74,EL$1) -> 1 | EM9: =COUNTIF($BC74:$CZ74,EM$1) -> 2 | EN9: =COUNTIF($BC74:$CZ74,EN$1) -> 3 | EO9: =COUNTIF($BC74:$CZ74,EO$1) -> 3 | EP9: =COUNTIF($BC74:$CZ74,EP$1) -> 2 | EQ9: =COUNTIF($BC74:$CZ74,EQ$1) -> 3 | ... EY9: =COUNTIF($BC74:$CZ74,EY$1) -> 1
A10: =Sheet1!A46 -> 2023056 | B10: =MID(Sheet1!B46,1,17) -> 08 14 15 18 23 33 | C10: =MID(Sheet1!B46,21,2) -> 08 | D10: {=MOD(SMALL(DB10:DQ10*17+$D$1:$S$1,COLUMN($17:$17)),17)} -> 4 | E10: 6 | F10: 14 | G10: 1 | H10: 3 | I10: 7 | J10: 8 | K10: 9 | L10: 10 | M10: 12 | N10: 13 | O10: 15 | P10: 2 | Q10: 11 | R10: 16 | S10: 5 | V10: =Sheet1!C46 -> 16 | W10: =Sheet1!E46 -> 1 | X10: =Sheet1!G46 -> 16 | Y10: =Sheet1!I46 -> 15 | Z10: =Sheet1!K46 -> 2 | AA10: =Sheet1!M46 -> 8 | AB10: =Sheet1!O46 -> 5 | AC10: =Sheet1!Q46 -> 10 | AD10: =Sheet1!S46 -> 5 | AE10: =Sheet1!U46 -> 5 | AG10: =Sheet2!D55 -> 11 | AH10: =Sheet2!G55 -> 11 | AI10: =Sheet2!J55 -> 3 | AJ10: =Sheet2!M55 -> 5 | AK10: =Sheet2!P55 -> 16 | AL10: =Sheet2!S55 -> 2 | AM10: =Sheet2!V55 -> 13 | AN10: =Sheet2!Y55 -> 7 | AO10: =Sheet2!AB55 -> 9 | AP10: =Sheet2!AE55 -> 12 | AR10: =Sheet3!D43 -> 0 | AS10: =Sheet3!G43 -> 0 | AT10: =Sheet3!J43 -> 0 | AU10: =Sheet3!M43 -> 0 | AV10: =Sheet3!P43 -> 0 | AW10: =Sheet3!S43 -> 0 | AX10: =Sheet3!V43 -> 0 | AY10: =Sheet3!Y43 -> 0 | AZ10: =Sheet3!AB43 -> 0 | BA10: =Sheet3!AE43 -> 0 | BC10: =COUNTIF($V10:$AE10,BC$1) -> 1 | BD10: =COUNTIF($V10:$AE10,BD$1) -> 1 | BE10: =COUNTIF($V10:$AE10,BE$1) -> 0 | BF10: =COUNTIF($V10:$AE10,BF$1) -> 0 | BG10: =COUNTIF($V10:$AE10,BG$1) -> 3 | BH10: =COUNTIF($V10:$AE10,BH$1) -> 0 | BI10: =COUNTIF($V10:$AE10,BI$1) -> 0 | BJ10: =COUNTIF($V10:$AE10,BJ$1) -> 1 | ... BR10: =COUNTIF($V10:$AE10,BR$1) -> 2 | BT10: =COUNTIF($AG10:$AP10,BT$1) -> 0 | BU10: =COUNTIF($AG10:$AP10,BU$1) -> 1 | BV10: =COUNTIF($AG10:$AP10,BV$1) -> 1 | BW10: =COUNTIF($AG10:$AP10,BW$1) -> 0 | BX10: =COUNTIF($AG10:$AP10,BX$1) -> 1 | BY10: =COUNTIF($AG10:$AP10,BY$1) -> 0 | BZ10: =COUNTIF($AG10:$AP10,BZ$1) -> 1 | CA10: =COUNTIF($AG10:$AP10,CA$1) -> 0 | ... CI10: =COUNTIF($AG10:$AP10,CI$1) -> 1 | CK10: =COUNTIF($AR10:$BA10,CK$1) -> 0 | CL10: =COUNTIF($AR10:$BA10,CL$1) -> 0 | CM10: =COUNTIF($AR10:$BA10,CM$1) -> 0 | CN10: =COUNTIF($AR10:$BA10,CN$1) -> 0 | CO10: =COUNTIF($AR10:$BA10,CO$1) -> 0 | CP10: =COUNTIF($AR10:$BA10,CP$1) -> 0 | CQ10: =COUNTIF($AR10:$BA10,CQ$1) -> 0 | CR10: =COUNTIF($AR10:$BA10,CR$1) -> 0 | ... CZ10: =COUNTIF($AR10:$BA10,CZ$1) -> 0 | DB10: =COUNTIF($V10:$BA10,D$1) -> 1 | DC10: =COUNTIF($V10:$BA10,E$1) -> 2 | DD10: =COUNTIF($V10:$BA10,F$1) -> 1 | DE10: =COUNTIF($V10:$BA10,G$1) -> 0 | DF10: =COUNTIF($V10:$BA10,H$1) -> 4 | DG10: =COUNTIF($V10:$BA10,I$1) -> 0 | DH10: =COUNTIF($V10:$BA10,J$1) -> 1 | DI10: =COUNTIF($V10:$BA10,K$1) -> 1 | ... DQ10: =COUNTIF($V10:$BA10,S$1) -> 3 | DS10: {=RIGHT(LARGE(1000*$EJ10:$EY10+$D$1:$S$1,COLUMN(A9)),2)} -> 12 | DT10: {=RIGHT(LARGE(1000*$EJ10:$EY10+$D$1:$S$1,COLUMN(B9)),2)} -> 08 | DU10: {=RIGHT(LARGE(1000*$EJ10:$EY10+$D$1:$S$1,COLUMN(C9)),2)} -> 06 | DV10: {=RIGHT(LARGE(1000*$EJ10:$EY10+$D$1:$S$1,COLUMN(D9)),2)} -> 15 | DW10: {=RIGHT(LARGE(1000*$EJ10:$EY10+$D$1:$S$1,COLUMN(E9)),2)} -> 14 | DX10: {=RIGHT(LARGE(1000*$EJ10:$EY10+$D$1:$S$1,COLUMN(F9)),2)} -> 13 | DY10: {=RIGHT(LARGE(1000*$EJ10:$EY10+$D$1:$S$1,COLUMN(G9)),2)} -> 11 | DZ10: {=RIGHT(LARGE(1000*$EJ10:$EY10+$D$1:$S$1,COLUMN(H9)),2)} -> 09 | ... EH10: {=RIGHT(LARGE(1000*$EJ10:$EY10+$D$1:$S$1,COLUMN(P9)),2)} -> 04 | EJ10: =COUNTIF($BC75:$CZ75,EJ$1) -> 2 | EK10: =COUNTIF($BC75:$CZ75,EK$1) -> 2 | EL10: =COUNTIF($BC75:$CZ75,EL$1) -> 2 | EM10: =COUNTIF($BC75:$CZ75,EM$1) -> 1 | EN10: =COUNTIF($BC75:$CZ75,EN$1) -> 2 | EO10: =COUNTIF($BC75:$CZ75,EO$1) -> 3 | EP10: =COUNTIF($BC75:$CZ75,EP$1) -> 2 | EQ10: =COUNTIF($BC75:$CZ75,EQ$1) -> 3 | ... EY10: =COUNTIF($BC75:$CZ75,EY$1) -> 1
A11: =Sheet1!A47 -> 2023057 | B11: =MID(Sheet1!B47,1,17) -> 02 05 10 17 24 32 | C11: =MID(Sheet1!B47,21,2) -> 03 | D11: {=MOD(SMALL(DB11:DQ11*17+$D$1:$S$1,COLUMN($17:$17)),17)} -> 3 | E11: 7 | F11: 9 | G11: 11 | H11: 14 | I11: 2 | J11: 5 | K11: 6 | L11: 13 | M11: 1 | N11: 4 | O11: 10 | P11: 12 | Q11: 16 | R11: 8 | S11: 15 | V11: =Sheet1!C47 -> 2 | W11: =Sheet1!E47 -> 8 | X11: =Sheet1!G47 -> 5 | Y11: =Sheet1!I47 -> 13 | Z11: =Sheet1!K47 -> 16 | AA11: =Sheet1!M47 -> 15 | AB11: =Sheet1!O47 -> 4 | AC11: =Sheet1!Q47 -> 10 | AD11: =Sheet1!S47 -> 15 | AE11: =Sheet1!U47 -> 12 | AG11: =Sheet2!D56 -> 16 | AH11: =Sheet2!G56 -> 12 | AI11: =Sheet2!J56 -> 8 | AJ11: =Sheet2!M56 -> 1 | AK11: =Sheet2!P56 -> 10 | AL11: =Sheet2!S56 -> 6 | AM11: =Sheet2!V56 -> 15 | AN11: =Sheet2!Y56 -> 8 | AO11: =Sheet2!AB56 -> 4 | AP11: =Sheet2!AE56 -> 1 | AR11: =Sheet3!D44 -> 雁枫杀号 | AS11: =Sheet3!G44 -> 乐蓉杀号 | AT11: =Sheet3!J44 -> 白凡杀号 | AU11: =Sheet3!M44 -> 芸遥杀号 | AV11: =Sheet3!P44 -> 远锋杀号 | AW11: =Sheet3!S44 -> 智天杀号 | AX11: =Sheet3!V44 -> 南宫杀号 | AY11: =Sheet3!Y44 -> 元丰杀号 | AZ11: =Sheet3!AB44 -> 浩轩杀号 | BA11: =Sheet3!AE44 -> 萧寞杀号 | BC11: =COUNTIF($V11:$AE11,BC$1) -> 0 | BD11: =COUNTIF($V11:$AE11,BD$1) -> 1 | BE11: =COUNTIF($V11:$AE11,BE$1) -> 0 | BF11: =COUNTIF($V11:$AE11,BF$1) -> 1 | BG11: =COUNTIF($V11:$AE11,BG$1) -> 1 | BH11: =COUNTIF($V11:$AE11,BH$1) -> 0 | BI11: =COUNTIF($V11:$AE11,BI$1) -> 0 | BJ11: =COUNTIF($V11:$AE11,BJ$1) -> 1 | ... BR11: =COUNTIF($V11:$AE11,BR$1) -> 1 | BT11: =COUNTIF($AG11:$AP11,BT$1) -> 2 | BU11: =COUNTIF($AG11:$AP11,BU$1) -> 0 | BV11: =COUNTIF($AG11:$AP11,BV$1) -> 0 | BW11: =COUNTIF($AG11:$AP11,BW$1) -> 1 | BX11: =COUNTIF($AG11:$AP11,BX$1) -> 0 | BY11: =COUNTIF($AG11:$AP11,BY$1) -> 1 | BZ11: =COUNTIF($AG11:$AP11,BZ$1) -> 0 | CA11: =COUNTIF($AG11:$AP11,CA$1) -> 2 | ... CI11: =COUNTIF($AG11:$AP11,CI$1) -> 1 | CK11: =COUNTIF($AR11:$BA11,CK$1) -> 0 | CL11: =COUNTIF($AR11:$BA11,CL$1) -> 0 | CM11: =COUNTIF($AR11:$BA11,CM$1) -> 0 | CN11: =COUNTIF($AR11:$BA11,CN$1) -> 0 | CO11: =COUNTIF($AR11:$BA11,CO$1) -> 0 | CP11: =COUNTIF($AR11:$BA11,CP$1) -> 0 | CQ11: =COUNTIF($AR11:$BA11,CQ$1) -> 0 | CR11: =COUNTIF($AR11:$BA11,CR$1) -> 0 | ... CZ11: =COUNTIF($AR11:$BA11,CZ$1) -> 0 | DB11: =COUNTIF($V11:$BA11,D$1) -> 2 | DC11: =COUNTIF($V11:$BA11,E$1) -> 1 | DD11: =COUNTIF($V11:$BA11,F$1) -> 0 | DE11: =COUNTIF($V11:$BA11,G$1) -> 2 | DF11: =COUNTIF($V11:$BA11,H$1) -> 1 | DG11: =COUNTIF($V11:$BA11,I$1) -> 1 | DH11: =COUNTIF($V11:$BA11,J$1) -> 0 | DI11: =COUNTIF($V11:$BA11,K$1) -> 3 | ... DQ11: =COUNTIF($V11:$BA11,S$1) -> 2 | DS11: {=RIGHT(LARGE(1000*$EJ11:$EY11+$D$1:$S$1,COLUMN(A10)),2)} -> 14 | DT11: {=RIGHT(LARGE(1000*$EJ11:$EY11+$D$1:$S$1,COLUMN(B10)),2)} -> 09 | DU11: {=RIGHT(LARGE(1000*$EJ11:$EY11+$D$1:$S$1,COLUMN(C10)),2)} -> 07 | DV11: {=RIGHT(LARGE(1000*$EJ11:$EY11+$D$1:$S$1,COLUMN(D10)),2)} -> 06 | DW11: {=RIGHT(LARGE(1000*$EJ11:$EY11+$D$1:$S$1,COLUMN(E10)),2)} -> 03 | DX11: {=RIGHT(LARGE(1000*$EJ11:$EY11+$D$1:$S$1,COLUMN(F10)),2)} -> 15 | DY11: {=RIGHT(LARGE(1000*$EJ11:$EY11+$D$1:$S$1,COLUMN(G10)),2)} -> 13 | DZ11: {=RIGHT(LARGE(1000*$EJ11:$EY11+$D$1:$S$1,COLUMN(H10)),2)} -> 12 | ... EH11: {=RIGHT(LARGE(1000*$EJ11:$EY11+$D$1:$S$1,COLUMN(P10)),2)} -> 01 | EJ11: =COUNTIF($BC76:$CZ76,EJ$1) -> 1 | EK11: =COUNTIF($BC76:$CZ76,EK$1) -> 2 | EL11: =COUNTIF($BC76:$CZ76,EL$1) -> 3 | EM11: =COUNTIF($BC76:$CZ76,EM$1) -> 1 | EN11: =COUNTIF($BC76:$CZ76,EN$1) -> 2 | EO11: =COUNTIF($BC76:$CZ76,EO$1) -> 3 | EP11: =COUNTIF($BC76:$CZ76,EP$1) -> 3 | EQ11: =COUNTIF($BC76:$CZ76,EQ$1) -> 1 | ... EY11: =COUNTIF($BC76:$CZ76,EY$1) -> 1
A12: =Sheet1!A48 -> 2023058 | B12: =MID(Sheet1!B48,1,17) -> 10 17 22 26 30 33 | C12: =MID(Sheet1!B48,21,2) -> 11 | D12: {=MOD(SMALL(DB12:DQ12*17+$D$1:$S$1,COLUMN($17:$17)),17)} -> 6 | E12: 10 | F12: 13 | G12: 4 | H12: 8 | I12: 12 | J12: 16 | K12: 1 | L12: 3 | M12: 7 | N12: 9 | O12: 11 | P12: 15 | Q12: 14 | R12: 2 | S12: 5 | V12: =Sheet1!C48 -> 2 | W12: =Sheet1!E48 -> 11 | X12: =Sheet1!G48 -> 9 | Y12: =Sheet1!I48 -> 5 | Z12: =Sheet1!K48 -> 5 | AA12: =Sheet1!M48 -> 14 | AB12: =Sheet1!O48 -> 16 | AC12: =Sheet1!Q48 -> 5 | AD12: =Sheet1!S48 -> 15 | AE12: =Sheet1!U48 -> 1 | AG12: =Sheet2!D57 -> 14 | AH12: =Sheet2!G57 -> 2 | AI12: =Sheet2!J57 -> 7 | AJ12: =Sheet2!M57 -> 14 | AK12: =Sheet2!P57 -> 5 | AL12: =Sheet2!S57 -> 2 | AM12: =Sheet2!V57 -> 1 | AN12: =Sheet2!Y57 -> 8 | AO12: =Sheet2!AB57 -> 15 | AP12: =Sheet2!AE57 -> 3 | AR12: =Sheet3!D45 -> 11 | AS12: =Sheet3!G45 -> 14 | AT12: =Sheet3!J45 -> 3 | AU12: =Sheet3!M45 -> 2 | AV12: =Sheet3!P45 -> 2 | AW12: =Sheet3!S45 -> 5 | AX12: =Sheet3!V45 -> 9 | AY12: =Sheet3!Y45 -> 4 | AZ12: =Sheet3!AB45 -> 12 | BA12: =Sheet3!AE45 -> 7 | BC12: =COUNTIF($V12:$AE12,BC$1) -> 1 | BD12: =COUNTIF($V12:$AE12,BD$1) -> 1 | BE12: =COUNTIF($V12:$AE12,BE$1) -> 0 | BF12: =COUNTIF($V12:$AE12,BF$1) -> 0 | BG12: =COUNTIF($V12:$AE12,BG$1) -> 3 | BH12: =COUNTIF($V12:$AE12,BH$1) -> 0 | BI12: =COUNTIF($V12:$AE12,BI$1) -> 0 | BJ12: =COUNTIF($V12:$AE12,BJ$1) -> 0 | ... BR12: =COUNTIF($V12:$AE12,BR$1) -> 1 | BT12: =COUNTIF($AG12:$AP12,BT$1) -> 1 | BU12: =COUNTIF($AG12:$AP12,BU$1) -> 2 | BV12: =COUNTIF($AG12:$AP12,BV$1) -> 1 | BW12: =COUNTIF($AG12:$AP12,BW$1) -> 0 | BX12: =COUNTIF($AG12:$AP12,BX$1) -> 1 | BY12: =COUNTIF($AG12:$AP12,BY$1) -> 0 | BZ12: =COUNTIF($AG12:$AP12,BZ$1) -> 1 | CA12: =COUNTIF($AG12:$AP12,CA$1) -> 1 | ... CI12: =COUNTIF($AG12:$AP12,CI$1) -> 0 | CK12: =COUNTIF($AR12:$BA12,CK$1) -> 0 | CL12: =COUNTIF($AR12:$BA12,CL$1) -> 2 | CM12: =COUNTIF($AR12:$BA12,CM$1) -> 1 | CN12: =COUNTIF($AR12:$BA12,CN$1) -> 1 | CO12: =COUNTIF($AR12:$BA12,CO$1) -> 1 | CP12: =COUNTIF($AR12:$BA12,CP$1) -> 0 | CQ12: =COUNTIF($AR12:$BA12,CQ$1) -> 1 | CR12: =COUNTIF($AR12:$BA12,CR$1) -> 0 | ... CZ12: =COUNTIF($AR12:$BA12,CZ$1) -> 0 | DB12: =COUNTIF($V12:$BA12,D$1) -> 2 | DC12: =COUNTIF($V12:$BA12,E$1) -> 5 | DD12: =COUNTIF($V12:$BA12,F$1) -> 2 | DE12: =COUNTIF($V12:$BA12,G$1) -> 1 | DF12: =COUNTIF($V12:$BA12,H$1) -> 5 | DG12: =COUNTIF($V12:$BA12,I$1) -> 0 | DH12: =COUNTIF($V12:$BA12,J$1) -> 2 | DI12: =COUNTIF($V12:$BA12,K$1) -> 1 | ... DQ12: =COUNTIF($V12:$BA12,S$1) -> 1 | DS12: {=RIGHT(LARGE(1000*$EJ12:$EY12+$D$1:$S$1,COLUMN(A11)),2)} -> 15 | DT12: {=RIGHT(LARGE(1000*$EJ12:$EY12+$D$1:$S$1,COLUMN(B11)),2)} -> 13 | DU12: {=RIGHT(LARGE(1000*$EJ12:$EY12+$D$1:$S$1,COLUMN(C11)),2)} -> 11 | DV12: {=RIGHT(LARGE(1000*$EJ12:$EY12+$D$1:$S$1,COLUMN(D11)),2)} -> 09 | DW12: {=RIGHT(LARGE(1000*$EJ12:$EY12+$D$1:$S$1,COLUMN(E11)),2)} -> 08 | DX12: {=RIGHT(LARGE(1000*$EJ12:$EY12+$D$1:$S$1,COLUMN(F11)),2)} -> 07 | DY12: {=RIGHT(LARGE(1000*$EJ12:$EY12+$D$1:$S$1,COLUMN(G11)),2)} -> 04 | DZ12: {=RIGHT(LARGE(1000*$EJ12:$EY12+$D$1:$S$1,COLUMN(H11)),2)} -> 02 | ... EH12: {=RIGHT(LARGE(1000*$EJ12:$EY12+$D$1:$S$1,COLUMN(P11)),2)} -> 14 | EJ12: =COUNTIF($BC77:$CZ77,EJ$1) -> 1 | EK12: =COUNTIF($BC77:$CZ77,EK$1) -> 3 | EL12: =COUNTIF($BC77:$CZ77,EL$1) -> 2 | EM12: =COUNTIF($BC77:$CZ77,EM$1) -> 3 | EN12: =COUNTIF($BC77:$CZ77,EN$1) -> 1 | EO12: =COUNTIF($BC77:$CZ77,EO$1) -> 2 | EP12: =COUNTIF($BC77:$CZ77,EP$1) -> 3 | EQ12: =COUNTIF($BC77:$CZ77,EQ$1) -> 3 | ... EY12: =COUNTIF($BC77:$CZ77,EY$1) -> 0
A13: =Sheet1!A49 -> 2023059 | B13: =MID(Sheet1!B49,1,17) -> 02 06 13 22 27 32 | C13: =MID(Sheet1!B49,21,2) -> 06 | D13: {=MOD(SMALL(DB13:DQ13*17+$D$1:$S$1,COLUMN($17:$17)),17)} -> 3 | E13: 5 | F13: 13 | G13: 15 | H13: 7 | I13: 11 | J13: 12 | K13: 1 | L13: 6 | M13: 9 | N13: 16 | O13: 2 | P13: 4 | Q13: 10 | R13: 14 | S13: 8 | V13: =Sheet1!C49 -> 6 | W13: =Sheet1!E49 -> 16 | X13: =Sheet1!G49 -> 8 | Y13: =Sheet1!I49 -> 8 | Z13: =Sheet1!K49 -> 16 | AA13: =Sheet1!M49 -> 10 | AB13: =Sheet1!O49 -> 10 | AC13: =Sheet1!Q49 -> 4 | AD13: =Sheet1!S49 -> 9 | AE13: =Sheet1!U49 -> 12 | AG13: =Sheet2!D58 -> 8 | AH13: =Sheet2!G58 -> 8 | AI13: =Sheet2!J58 -> 1 | AJ13: =Sheet2!M58 -> 6 | AK13: =Sheet2!P58 -> 8 | AL13: =Sheet2!S58 -> 10 | AM13: =Sheet2!V58 -> 11 | AN13: =Sheet2!Y58 -> 1 | AO13: =Sheet2!AB58 -> 2 | AP13: =Sheet2!AE58 -> 4 | AR13: =Sheet3!D46 -> 14 | AS13: =Sheet3!G46 -> 2 | AT13: =Sheet3!J46 -> 14 | AU13: =Sheet3!M46 -> 9 | AV13: =Sheet3!P46 -> 8 | AW13: =Sheet3!S46 -> 2 | AX13: =Sheet3!V46 -> 14 | AY13: =Sheet3!Y46 -> 14 | AZ13: =Sheet3!AB46 -> 7 | BA13: =Sheet3!AE46 -> 4 | BC13: =COUNTIF($V13:$AE13,BC$1) -> 0 | BD13: =COUNTIF($V13:$AE13,BD$1) -> 0 | BE13: =COUNTIF($V13:$AE13,BE$1) -> 0 | BF13: =COUNTIF($V13:$AE13,BF$1) -> 1 | BG13: =COUNTIF($V13:$AE13,BG$1) -> 0 | BH13: =COUNTIF($V13:$AE13,BH$1) -> 1 | BI13: =COUNTIF($V13:$AE13,BI$1) -> 0 | BJ13: =COUNTIF($V13:$AE13,BJ$1) -> 2 | ... BR13: =COUNTIF($V13:$AE13,BR$1) -> 2 | BT13: =COUNTIF($AG13:$AP13,BT$1) -> 2 | BU13: =COUNTIF($AG13:$AP13,BU$1) -> 1 | BV13: =COUNTIF($AG13:$AP13,BV$1) -> 0 | BW13: =COUNTIF($AG13:$AP13,BW$1) -> 1 | BX13: =COUNTIF($AG13:$AP13,BX$1) -> 0 | BY13: =COUNTIF($AG13:$AP13,BY$1) -> 1 | BZ13: =COUNTIF($AG13:$AP13,BZ$1) -> 0 | CA13: =COUNTIF($AG13:$AP13,CA$1) -> 3 | ... CI13: =COUNTIF($AG13:$AP13,CI$1) -> 0 | CK13: =COUNTIF($AR13:$BA13,CK$1) -> 0 | CL13: =COUNTIF($AR13:$BA13,CL$1) -> 2 | CM13: =COUNTIF($AR13:$BA13,CM$1) -> 0 | CN13: =COUNTIF($AR13:$BA13,CN$1) -> 1 | CO13: =COUNTIF($AR13:$BA13,CO$1) -> 0 | CP13: =COUNTIF($AR13:$BA13,CP$1) -> 0 | CQ13: =COUNTIF($AR13:$BA13,CQ$1) -> 1 | CR13: =COUNTIF($AR13:$BA13,CR$1) -> 1 | ... CZ13: =COUNTIF($AR13:$BA13,CZ$1) -> 0 | DB13: =COUNTIF($V13:$BA13,D$1) -> 2 | DC13: =COUNTIF($V13:$BA13,E$1) -> 3 | DD13: =COUNTIF($V13:$BA13,F$1) -> 0 | DE13: =COUNTIF($V13:$BA13,G$1) -> 3 | DF13: =COUNTIF($V13:$BA13,H$1) -> 0 | DG13: =COUNTIF($V13:$BA13,I$1) -> 2 | DH13: =COUNTIF($V13:$BA13,J$1) -> 1 | DI13: =COUNTIF($V13:$BA13,K$1) -> 6 | ... DQ13: =COUNTIF($V13:$BA13,S$1) -> 2 | DS13: {=RIGHT(LARGE(1000*$EJ13:$EY13+$D$1:$S$1,COLUMN(A12)),2)} -> 13 | DT13: {=RIGHT(LARGE(1000*$EJ13:$EY13+$D$1:$S$1,COLUMN(B12)),2)} -> 09 | DU13: {=RIGHT(LARGE(1000*$EJ13:$EY13+$D$1:$S$1,COLUMN(C12)),2)} -> 06 | DV13: {=RIGHT(LARGE(1000*$EJ13:$EY13+$D$1:$S$1,COLUMN(D12)),2)} -> 05 | DW13: {=RIGHT(LARGE(1000*$EJ13:$EY13+$D$1:$S$1,COLUMN(E12)),2)} -> 03 | DX13: {=RIGHT(LARGE(1000*$EJ13:$EY13+$D$1:$S$1,COLUMN(F12)),2)} -> 16 | DY13: {=RIGHT(LARGE(1000*$EJ13:$EY13+$D$1:$S$1,COLUMN(G12)),2)} -> 14 | DZ13: {=RIGHT(LARGE(1000*$EJ13:$EY13+$D$1:$S$1,COLUMN(H12)),2)} -> 11 | ... EH13: {=RIGHT(LARGE(1000*$EJ13:$EY13+$D$1:$S$1,COLUMN(P12)),2)} -> 01 | EJ13: =COUNTIF($BC78:$CZ78,EJ$1) -> 1 | EK13: =COUNTIF($BC78:$CZ78,EK$1) -> 1 | EL13: =COUNTIF($BC78:$CZ78,EL$1) -> 3 | EM13: =COUNTIF($BC78:$CZ78,EM$1) -> 2 | EN13: =COUNTIF($BC78:$CZ78,EN$1) -> 3 | EO13: =COUNTIF($BC78:$CZ78,EO$1) -> 3 | EP13: =COUNTIF($BC78:$CZ78,EP$1) -> 2 | EQ13: =COUNTIF($BC78:$CZ78,EQ$1) -> 2 | ... EY13: =COUNTIF($BC78:$CZ78,EY$1) -> 2
A14: =Sheet1!A50 -> 2023060 | B14: =MID(Sheet1!B50,1,17) -> 09 11 17 19 30 31 | C14: =MID(Sheet1!B50,21,2) -> 11 | D14: {=MOD(SMALL(DB14:DQ14*17+$D$1:$S$1,COLUMN($17:$17)),17)} -> 14 | E14: 16 | F14: 2 | G14: 3 | H14: 4 | I14: 6 | J14: 7 | K14: 8 | L14: 10 | M14: 15 | N14: 1 | O14: 5 | P14: 9 | Q14: 11 | R14: 13 | S14: 12 | V14: =Sheet1!C50 -> 12 | W14: =Sheet1!E50 -> 9 | X14: =Sheet1!G50 -> 13 | Y14: =Sheet1!I50 -> 15 | Z14: =Sheet1!K50 -> 5 | AA14: =Sheet1!M50 -> 9 | AB14: =Sheet1!O50 -> 11 | AC14: =Sheet1!Q50 -> 10 | AD14: =Sheet1!S50 -> 15 | AE14: =Sheet1!U50 -> 12 | AG14: =Sheet2!D59 -> 11 | AH14: =Sheet2!G59 -> 8 | AI14: =Sheet2!J59 -> 7 | AJ14: =Sheet2!M59 -> 3 | AK14: =Sheet2!P59 -> 2 | AL14: =Sheet2!S59 -> 9 | AM14: =Sheet2!V59 -> 8 | AN14: =Sheet2!Y59 -> 13 | AO14: =Sheet2!AB59 -> 12 | AP14: =Sheet2!AE59 -> 11 | AR14: =Sheet3!D47 -> 5 | AS14: =Sheet3!G47 -> 1 | AT14: =Sheet3!J47 -> 10 | AU14: =Sheet3!M47 -> 12 | AV14: =Sheet3!P47 -> 13 | AW14: =Sheet3!S47 -> 6 | AX14: =Sheet3!V47 -> 5 | AY14: =Sheet3!Y47 -> 1 | AZ14: =Sheet3!AB47 -> 4 | BA14: =Sheet3!AE47 -> 1 | BC14: =COUNTIF($V14:$AE14,BC$1) -> 0 | BD14: =COUNTIF($V14:$AE14,BD$1) -> 0 | BE14: =COUNTIF($V14:$AE14,BE$1) -> 0 | BF14: =COUNTIF($V14:$AE14,BF$1) -> 0 | BG14: =COUNTIF($V14:$AE14,BG$1) -> 1 | BH14: =COUNTIF($V14:$AE14,BH$1) -> 0 | BI14: =COUNTIF($V14:$AE14,BI$1) -> 0 | BJ14: =COUNTIF($V14:$AE14,BJ$1) -> 0 | ... BR14: =COUNTIF($V14:$AE14,BR$1) -> 0 | BT14: =COUNTIF($AG14:$AP14,BT$1) -> 0 | BU14: =COUNTIF($AG14:$AP14,BU$1) -> 1 | BV14: =COUNTIF($AG14:$AP14,BV$1) -> 1 | BW14: =COUNTIF($AG14:$AP14,BW$1) -> 0 | BX14: =COUNTIF($AG14:$AP14,BX$1) -> 0 | BY14: =COUNTIF($AG14:$AP14,BY$1) -> 0 | BZ14: =COUNTIF($AG14:$AP14,BZ$1) -> 1 | CA14: =COUNTIF($AG14:$AP14,CA$1) -> 2 | ... CI14: =COUNTIF($AG14:$AP14,CI$1) -> 0 | CK14: =COUNTIF($AR14:$BA14,CK$1) -> 3 | CL14: =COUNTIF($AR14:$BA14,CL$1) -> 0 | CM14: =COUNTIF($AR14:$BA14,CM$1) -> 0 | CN14: =COUNTIF($AR14:$BA14,CN$1) -> 1 | CO14: =COUNTIF($AR14:$BA14,CO$1) -> 2 | CP14: =COUNTIF($AR14:$BA14,CP$1) -> 1 | CQ14: =COUNTIF($AR14:$BA14,CQ$1) -> 0 | CR14: =COUNTIF($AR14:$BA14,CR$1) -> 0 | ... CZ14: =COUNTIF($AR14:$BA14,CZ$1) -> 0 | DB14: =COUNTIF($V14:$BA14,D$1) -> 3 | DC14: =COUNTIF($V14:$BA14,E$1) -> 1 | DD14: =COUNTIF($V14:$BA14,F$1) -> 1 | DE14: =COUNTIF($V14:$BA14,G$1) -> 1 | DF14: =COUNTIF($V14:$BA14,H$1) -> 3 | DG14: =COUNTIF($V14:$BA14,I$1) -> 1 | DH14: =COUNTIF($V14:$BA14,J$1) -> 1 | DI14: =COUNTIF($V14:$BA14,K$1) -> 2 | ... DQ14: =COUNTIF($V14:$BA14,S$1) -> 0 | DS14: {=RIGHT(LARGE(1000*$EJ14:$EY14+$D$1:$S$1,COLUMN(A13)),2)} -> 11 | DT14: {=RIGHT(LARGE(1000*$EJ14:$EY14+$D$1:$S$1,COLUMN(B13)),2)} -> 04 | DU14: {=RIGHT(LARGE(1000*$EJ14:$EY14+$D$1:$S$1,COLUMN(C13)),2)} -> 16 | DV14: {=RIGHT(LARGE(1000*$EJ14:$EY14+$D$1:$S$1,COLUMN(D13)),2)} -> 14 | DW14: {=RIGHT(LARGE(1000*$EJ14:$EY14+$D$1:$S$1,COLUMN(E13)),2)} -> 13 | DX14: {=RIGHT(LARGE(1000*$EJ14:$EY14+$D$1:$S$1,COLUMN(F13)),2)} -> 12 | DY14: {=RIGHT(LARGE(1000*$EJ14:$EY14+$D$1:$S$1,COLUMN(G13)),2)} -> 10 | DZ14: {=RIGHT(LARGE(1000*$EJ14:$EY14+$D$1:$S$1,COLUMN(H13)),2)} -> 09 | ... EH14: {=RIGHT(LARGE(1000*$EJ14:$EY14+$D$1:$S$1,COLUMN(P13)),2)} -> 08 | EJ14: =COUNTIF($BC79:$CZ79,EJ$1) -> 2 | EK14: =COUNTIF($BC79:$CZ79,EK$1) -> 2 | EL14: =COUNTIF($BC79:$CZ79,EL$1) -> 2 | EM14: =COUNTIF($BC79:$CZ79,EM$1) -> 3 | EN14: =COUNTIF($BC79:$CZ79,EN$1) -> 2 | EO14: =COUNTIF($BC79:$CZ79,EO$1) -> 2 | EP14: =COUNTIF($BC79:$CZ79,EP$1) -> 2 | EQ14: =COUNTIF($BC79:$CZ79,EQ$1) -> 1 | ... EY14: =COUNTIF($BC79:$CZ79,EY$1) -> 2
... A21: =Sheet1!A57 -> 2023067 | B21: =MID(Sheet1!B57,1,17) -> 01 03 12 19 28 32 | C21: =MID(Sheet1!B57,21,2) -> 14 | D21: {=MOD(SMALL(DB21:DQ21*17+$D$1:$S$1,COLUMN($17:$17)),17)} -> 3 | E21: 5 | F21: 10 | G21: 11 | H21: 14 | I21: 16 | J21: 4 | K21: 1 | L21: 2 | M21: 6 | N21: 7 | O21: 8 | P21: 9 | Q21: 12 | R21: 15 | S21: 13 | V21: =Sheet1!C57 -> 6 | W21: =Sheet1!E57 -> 2 | X21: =Sheet1!G57 -> 12 | Y21: =Sheet1!I57 -> 12 | Z21: =Sheet1!K57 -> 1 | AA21: =Sheet1!M57 -> 15 | AB21: =Sheet1!O57 -> 2 | AC21: =Sheet1!Q57 -> 8 | AD21: =Sheet1!S57 -> 1 | AE21: =Sheet1!U57 -> 13 | AG21: =Sheet2!D66 -> 0 | AH21: =Sheet2!G66 -> 0 | AI21: =Sheet2!J66 -> 0 | AJ21: =Sheet2!M66 -> 0 | AK21: =Sheet2!P66 -> 0 | AL21: =Sheet2!S66 -> 0 | AM21: =Sheet2!V66 -> 0 | AN21: =Sheet2!Y66 -> 0 | AO21: =Sheet2!AB66 -> 0 | AP21: =Sheet2!AE66 -> 0 | AR21: =Sheet3!D54 -> 7 | AS21: =Sheet3!G54 -> 13 | AT21: =Sheet3!J54 -> 6 | AU21: =Sheet3!M54 -> 4 | AV21: =Sheet3!P54 -> 15 | AW21: =Sheet3!S54 -> 9 | AX21: =Sheet3!V54 -> 9 | AY21: =Sheet3!Y54 -> 13 | AZ21: =Sheet3!AB54 -> 8 | BA21: =Sheet3!AE54 -> 7 | BC21: =COUNTIF($V21:$AE21,BC$1) -> 2 | BD21: =COUNTIF($V21:$AE21,BD$1) -> 2 | BE21: =COUNTIF($V21:$AE21,BE$1) -> 0 | BF21: =COUNTIF($V21:$AE21,BF$1) -> 0 | BG21: =COUNTIF($V21:$AE21,BG$1) -> 0 | BH21: =COUNTIF($V21:$AE21,BH$1) -> 1 | BI21: =COUNTIF($V21:$AE21,BI$1) -> 0 | BJ21: =COUNTIF($V21:$AE21,BJ$1) -> 1 | ... BR21: =COUNTIF($V21:$AE21,BR$1) -> 0 | BT21: =COUNTIF($AG21:$AP21,BT$1) -> 0 | BU21: =COUNTIF($AG21:$AP21,BU$1) -> 0 | BV21: =COUNTIF($AG21:$AP21,BV$1) -> 0 | BW21: =COUNTIF($AG21:$AP21,BW$1) -> 0 | BX21: =COUNTIF($AG21:$AP21,BX$1) -> 0 | BY21: =COUNTIF($AG21:$AP21,BY$1) -> 0 | BZ21: =COUNTIF($AG21:$AP21,BZ$1) -> 0 | CA21: =COUNTIF($AG21:$AP21,CA$1) -> 0 | ... CI21: =COUNTIF($AG21:$AP21,CI$1) -> 0 | CK21: =COUNTIF($AR21:$BA21,CK$1) -> 0 | CL21: =COUNTIF($AR21:$BA21,CL$1) -> 0 | CM21: =COUNTIF($AR21:$BA21,CM$1) -> 0 | CN21: =COUNTIF($AR21:$BA21,CN$1) -> 1 | CO21: =COUNTIF($AR21:$BA21,CO$1) -> 0 | CP21: =COUNTIF($AR21:$BA21,CP$1) -> 1 | CQ21: =COUNTIF($AR21:$BA21,CQ$1) -> 2 | CR21: =COUNTIF($AR21:$BA21,CR$1) -> 1 | ... CZ21: =COUNTIF($AR21:$BA21,CZ$1) -> 0 | DB21: =COUNTIF($V21:$BA21,D$1) -> 2 | DC21: =COUNTIF($V21:$BA21,E$1) -> 2 | DD21: =COUNTIF($V21:$BA21,F$1) -> 0 | DE21: =COUNTIF($V21:$BA21,G$1) -> 1 | DF21: =COUNTIF($V21:$BA21,H$1) -> 0 | DG21: =COUNTIF($V21:$BA21,I$1) -> 2 | DH21: =COUNTIF($V21:$BA21,J$1) -> 2 | DI21: =COUNTIF($V21:$BA21,K$1) -> 2 | ... DQ21: =COUNTIF($V21:$BA21,S$1) -> 0 | DS21: {=RIGHT(LARGE(1000*$EJ21:$EY21+$D$1:$S$1,COLUMN(A20)),2)} -> 14 | DT21: {=RIGHT(LARGE(1000*$EJ21:$EY21+$D$1:$S$1,COLUMN(B20)),2)} -> 11 | DU21: {=RIGHT(LARGE(1000*$EJ21:$EY21+$D$1:$S$1,COLUMN(C20)),2)} -> 08 | DV21: {=RIGHT(LARGE(1000*$EJ21:$EY21+$D$1:$S$1,COLUMN(D20)),2)} -> 04 | DW21: {=RIGHT(LARGE(1000*$EJ21:$EY21+$D$1:$S$1,COLUMN(E20)),2)} -> 03 | DX21: {=RIGHT(LARGE(1000*$EJ21:$EY21+$D$1:$S$1,COLUMN(F20)),2)} -> 15 | DY21: {=RIGHT(LARGE(1000*$EJ21:$EY21+$D$1:$S$1,COLUMN(G20)),2)} -> 13 | DZ21: {=RIGHT(LARGE(1000*$EJ21:$EY21+$D$1:$S$1,COLUMN(H20)),2)} -> 10 | ... EH21: {=RIGHT(LARGE(1000*$EJ21:$EY21+$D$1:$S$1,COLUMN(P20)),2)} -> 01 | EJ21: =COUNTIF($BC86:$CZ86,EJ$1) -> 1 | EK21: =COUNTIF($BC86:$CZ86,EK$1) -> 2 | EL21: =COUNTIF($BC86:$CZ86,EL$1) -> 3 | EM21: =COUNTIF($BC86:$CZ86,EM$1) -> 3 | EN21: =COUNTIF($BC86:$CZ86,EN$1) -> 1 | EO21: =COUNTIF($BC86:$CZ86,EO$1) -> 2 | EP21: =COUNTIF($BC86:$CZ86,EP$1) -> 2 | EQ21: =COUNTIF($BC86:$CZ86,EQ$1) -> 3 | ... EY21: =COUNTIF($BC86:$CZ86,EY$1) -> 1
A22: =Sheet1!A58 -> 2023068 | D22: {=MOD(SMALL(DB22:DQ22*17+$D$1:$S$1,COLUMN($17:$17)),17)} -> 1 | E22: 3 | F22: 16 | G22: 6 | H22: 7 | I22: 10 | J22: 12 | K22: 13 | L22: 14 | M22: 15 | N22: 2 | O22: 4 | P22: 5 | Q22: 9 | R22: 11 | S22: 8 | V22: =Sheet1!C58 -> 4 | W22: =Sheet1!E58 -> 5 | X22: =Sheet1!G58 -> 8 | Y22: =Sheet1!I58 -> 2 | Z22: =Sheet1!K58 -> 11 | AA22: =Sheet1!M58 -> 14 | AB22: =Sheet1!O58 -> 5 | AC22: =Sheet1!Q58 -> 12 | AD22: =Sheet1!S58 -> 8 | AE22: =Sheet1!U58 -> 13 | AG22: =Sheet2!D67 -> 0 | AH22: =Sheet2!G67 -> 0 | AI22: =Sheet2!J67 -> 0 | AJ22: =Sheet2!M67 -> 0 | AK22: =Sheet2!P67 -> 0 | AL22: =Sheet2!S67 -> 0 | AM22: =Sheet2!V67 -> 0 | AN22: =Sheet2!Y67 -> 0 | AO22: =Sheet2!AB67 -> 0 | AP22: =Sheet2!AE67 -> 0 | AR22: =Sheet3!D55 -> 6 | AS22: =Sheet3!G55 -> 4 | AT22: =Sheet3!J55 -> 2 | AU22: =Sheet3!M55 -> 9 | AV22: =Sheet3!P55 -> 9 | AW22: =Sheet3!S55 -> 8 | AX22: =Sheet3!V55 -> 15 | AY22: =Sheet3!Y55 -> 10 | AZ22: =Sheet3!AB55 -> 7 | BA22: =Sheet3!AE55 -> 11 | BC22: =COUNTIF($V22:$AE22,BC$1) -> 0 | BD22: =COUNTIF($V22:$AE22,BD$1) -> 1 | BE22: =COUNTIF($V22:$AE22,BE$1) -> 0 | BF22: =COUNTIF($V22:$AE22,BF$1) -> 1 | BG22: =COUNTIF($V22:$AE22,BG$1) -> 2 | BH22: =COUNTIF($V22:$AE22,BH$1) -> 0 | BI22: =COUNTIF($V22:$AE22,BI$1) -> 0 | BJ22: =COUNTIF($V22:$AE22,BJ$1) -> 2 | ... BR22: =COUNTIF($V22:$AE22,BR$1) -> 0 | BT22: =COUNTIF($AG22:$AP22,BT$1) -> 0 | BU22: =COUNTIF($AG22:$AP22,BU$1) -> 0 | BV22: =COUNTIF($AG22:$AP22,BV$1) -> 0 | BW22: =COUNTIF($AG22:$AP22,BW$1) -> 0 | BX22: =COUNTIF($AG22:$AP22,BX$1) -> 0 | BY22: =COUNTIF($AG22:$AP22,BY$1) -> 0 | BZ22: =COUNTIF($AG22:$AP22,BZ$1) -> 0 | CA22: =COUNTIF($AG22:$AP22,CA$1) -> 0 | ... CI22: =COUNTIF($AG22:$AP22,CI$1) -> 0 | CK22: =COUNTIF($AR22:$BA22,CK$1) -> 0 | CL22: =COUNTIF($AR22:$BA22,CL$1) -> 1 | CM22: =COUNTIF($AR22:$BA22,CM$1) -> 0 | CN22: =COUNTIF($AR22:$BA22,CN$1) -> 1 | CO22: =COUNTIF($AR22:$BA22,CO$1) -> 0 | CP22: =COUNTIF($AR22:$BA22,CP$1) -> 1 | CQ22: =COUNTIF($AR22:$BA22,CQ$1) -> 1 | CR22: =COUNTIF($AR22:$BA22,CR$1) -> 1 | ... CZ22: =COUNTIF($AR22:$BA22,CZ$1) -> 0 | DB22: =COUNTIF($V22:$BA22,D$1) -> 0 | DC22: =COUNTIF($V22:$BA22,E$1) -> 2 | DD22: =COUNTIF($V22:$BA22,F$1) -> 0 | DE22: =COUNTIF($V22:$BA22,G$1) -> 2 | DF22: =COUNTIF($V22:$BA22,H$1) -> 2 | DG22: =COUNTIF($V22:$BA22,I$1) -> 1 | DH22: =COUNTIF($V22:$BA22,J$1) -> 1 | DI22: =COUNTIF($V22:$BA22,K$1) -> 3 | ... DQ22: =COUNTIF($V22:$BA22,S$1) -> 0 | DS22: {=RIGHT(LARGE(1000*$EJ22:$EY22+$D$1:$S$1,COLUMN(A21)),2)} -> 15 | DT22: {=RIGHT(LARGE(1000*$EJ22:$EY22+$D$1:$S$1,COLUMN(B21)),2)} -> 14 | DU22: {=RIGHT(LARGE(1000*$EJ22:$EY22+$D$1:$S$1,COLUMN(C21)),2)} -> 12 | DV22: {=RIGHT(LARGE(1000*$EJ22:$EY22+$D$1:$S$1,COLUMN(D21)),2)} -> 11 | DW22: {=RIGHT(LARGE(1000*$EJ22:$EY22+$D$1:$S$1,COLUMN(E21)),2)} -> 06 | DX22: {=RIGHT(LARGE(1000*$EJ22:$EY22+$D$1:$S$1,COLUMN(F21)),2)} -> 16 | DY22: {=RIGHT(LARGE(1000*$EJ22:$EY22+$D$1:$S$1,COLUMN(G21)),2)} -> 09 | DZ22: {=RIGHT(LARGE(1000*$EJ22:$EY22+$D$1:$S$1,COLUMN(H21)),2)} -> 08 | ... EH22: {=RIGHT(LARGE(1000*$EJ22:$EY22+$D$1:$S$1,COLUMN(P21)),2)} -> 01 | EJ22: =COUNTIF($BC87:$CZ87,EJ$1) -> 1 | EK22: =COUNTIF($BC87:$CZ87,EK$1) -> 2 | EL22: =COUNTIF($BC87:$CZ87,EL$1) -> 2 | EM22: =COUNTIF($BC87:$CZ87,EM$1) -> 2 | EN22: =COUNTIF($BC87:$CZ87,EN$1) -> 1 | EO22: =COUNTIF($BC87:$CZ87,EO$1) -> 3 | EP22: =COUNTIF($BC87:$CZ87,EP$1) -> 1 | EQ22: =COUNTIF($BC87:$CZ87,EQ$1) -> 2 | ... EY22: =COUNTIF($BC87:$CZ87,EY$1) -> 2
D23: 静态排序 | DS23: 动态排序
V25: =Sheet1!C59 -> 余辉杀号 | W25: =Sheet1!E59 -> 愫暮杀号 | X25: =Sheet1!G59 -> 牵绊杀号 | Y25: =Sheet1!I59 -> 蓝颜杀号 | Z25: =Sheet1!K59 -> 怡然杀号 | AA25: =Sheet1!M59 -> 尘封杀号 | AB25: =Sheet1!O59 -> 刺心杀号 | AC25: =Sheet1!Q59 -> 魅眸杀号 | AD25: =Sheet1!S59 -> 开岸杀号 | AE25: =Sheet1!U59 -> 昔颜杀号 | AG25: =Sheet2!D46 -> 2 | AH25: =Sheet2!G46 -> 5 | AI25: =Sheet2!J46 -> 10 | AJ25: =Sheet2!M46 -> 13 | AK25: =Sheet2!P46 -> 7 | AL25: =Sheet2!S46 -> 8 | AM25: =Sheet2!V46 -> 14 | AN25: =Sheet2!Y46 -> 12 | AO25: =Sheet2!AB46 -> 7 | AP25: =Sheet2!AE46 -> 2 | AR25: =Sheet3!D35 -> 0 | AS25: =Sheet3!G35 -> 0 | AT25: =Sheet3!J35 -> 0 | AU25: =Sheet3!M35 -> 0 | AV25: =Sheet3!P35 -> 0 | AW25: =Sheet3!S35 -> 0 | AX25: =Sheet3!V35 -> 0 | AY25: =Sheet3!Y35 -> 0 | AZ25: =Sheet3!AB35 -> 0 | BA25: =Sheet3!AE35 -> 0
BB26: 1 | BC26: {=RIGHT(LARGE(1000*$BC3:$BR3+$D$1:$S$1,COLUMN(A2)),2)} -> 13 | BD26: {=RIGHT(LARGE(1000*$BC3:$BR3+$D$1:$S$1,COLUMN(B2)),2)} -> 10 | BE26: {=RIGHT(LARGE(1000*$BC3:$BR3+$D$1:$S$1,COLUMN(C2)),2)} -> 15 | BF26: {=RIGHT(LARGE(1000*$BC3:$BR3+$D$1:$S$1,COLUMN(D2)),2)} -> 12 | BG26: {=RIGHT(LARGE(1000*$BC3:$BR3+$D$1:$S$1,COLUMN(E2)),2)} -> 11 | BH26: {=RIGHT(LARGE(1000*$BC3:$BR3+$D$1:$S$1,COLUMN(F2)),2)} -> 04 | BI26: {=RIGHT(LARGE(1000*$BC3:$BR3+$D$1:$S$1,COLUMN(G2)),2)} -> 03 | BJ26: {=RIGHT(LARGE(1000*$BC3:$BR3+$D$1:$S$1,COLUMN(H2)),2)} -> 01 | ... BR26: {=RIGHT(LARGE(1000*$BC3:$BR3+$D$1:$S$1,COLUMN(P2)),2)} -> 2 | BT26: {=RIGHT(LARGE(1000*$BT4:$CI4+$D$1:$S$1,COLUMN(A2)),2)} -> 13 | BU26: {=RIGHT(LARGE(1000*$BT4:$CI4+$D$1:$S$1,COLUMN(B2)),2)} -> 08 | BV26: {=RIGHT(LARGE(1000*$BT4:$CI4+$D$1:$S$1,COLUMN(C2)),2)} -> 15 | BW26: {=RIGHT(LARGE(1000*$BT4:$CI4+$D$1:$S$1,COLUMN(D2)),2)} -> 11 | BX26: {=RIGHT(LARGE(1000*$BT4:$CI4+$D$1:$S$1,COLUMN(E2)),2)} -> 10 | BY26: {=RIGHT(LARGE(1000*$BT4:$CI4+$D$1:$S$1,COLUMN(F2)),2)} -> 09 | BZ26: {=RIGHT(LARGE(1000*$BT4:$CI4+$D$1:$S$1,COLUMN(G2)),2)} -> 07 | CA26: {=RIGHT(LARGE(1000*$BT4:$CI4+$D$1:$S$1,COLUMN(H2)),2)} -> 04 | ... CI26: {=RIGHT(LARGE(1000*$BT4:$CI4+$D$1:$S$1,COLUMN(P2)),2)} -> 1 | CK26: {=RIGHT(LARGE(1000*$CK4:$CZ4+$D$1:$S$1,COLUMN(A2)),2)} -> 16 | CL26: {=RIGHT(LARGE(1000*$CK4:$CZ4+$D$1:$S$1,COLUMN(B2)),2)} -> 15 | CM26: {=RIGHT(LARGE(1000*$CK4:$CZ4+$D$1:$S$1,COLUMN(C2)),2)} -> 14 | CN26: {=RIGHT(LARGE(1000*$CK4:$CZ4+$D$1:$S$1,COLUMN(D2)),2)} -> 13 | CO26: {=RIGHT(LARGE(1000*$CK4:$CZ4+$D$1:$S$1,COLUMN(E2)),2)} -> 12 | CP26: {=RIGHT(LARGE(1000*$CK4:$CZ4+$D$1:$S$1,COLUMN(F2)),2)} -> 11 | CQ26: {=RIGHT(LARGE(1000*$CK4:$CZ4+$D$1:$S$1,COLUMN(G2)),2)} -> 10 | CR26: {=RIGHT(LARGE(1000*$CK4:$CZ4+$D$1:$S$1,COLUMN(H2)),2)} -> 9 | ... CZ26: {=RIGHT(LARGE(1000*$CK4:$CZ4+$D$1:$S$1,COLUMN(P2)),2)} -> 1
BB27: 2 | BC27: {=RIGHT(LARGE(1000*$BC4:$BR4+$D$1:$S$1,COLUMN(A3)),2)} -> 15 | BD27: {=RIGHT(LARGE(1000*$BC4:$BR4+$D$1:$S$1,COLUMN(B3)),2)} -> 10 | BE27: {=RIGHT(LARGE(1000*$BC4:$BR4+$D$1:$S$1,COLUMN(C3)),2)} -> 08 | BF27: {=RIGHT(LARGE(1000*$BC4:$BR4+$D$1:$S$1,COLUMN(D3)),2)} -> 13 | BG27: {=RIGHT(LARGE(1000*$BC4:$BR4+$D$1:$S$1,COLUMN(E3)),2)} -> 11 | BH27: {=RIGHT(LARGE(1000*$BC4:$BR4+$D$1:$S$1,COLUMN(F3)),2)} -> 09 | BI27: {=RIGHT(LARGE(1000*$BC4:$BR4+$D$1:$S$1,COLUMN(G3)),2)} -> 02 | BJ27: {=RIGHT(LARGE(1000*$BC4:$BR4+$D$1:$S$1,COLUMN(H3)),2)} -> 16 | ... BR27: {=RIGHT(LARGE(1000*$BC4:$BR4+$D$1:$S$1,COLUMN(P3)),2)} -> 1 | BT27: {=RIGHT(LARGE(1000*$BT5:$CI5+$D$1:$S$1,COLUMN(A3)),2)} -> 02 | BU27: {=RIGHT(LARGE(1000*$BT5:$CI5+$D$1:$S$1,COLUMN(B3)),2)} -> 16 | BV27: {=RIGHT(LARGE(1000*$BT5:$CI5+$D$1:$S$1,COLUMN(C3)),2)} -> 15 | BW27: {=RIGHT(LARGE(1000*$BT5:$CI5+$D$1:$S$1,COLUMN(D3)),2)} -> 11 | BX27: {=RIGHT(LARGE(1000*$BT5:$CI5+$D$1:$S$1,COLUMN(E3)),2)} -> 09 | BY27: {=RIGHT(LARGE(1000*$BT5:$CI5+$D$1:$S$1,COLUMN(F3)),2)} -> 08 | BZ27: {=RIGHT(LARGE(1000*$BT5:$CI5+$D$1:$S$1,COLUMN(G3)),2)} -> 04 | CA27: {=RIGHT(LARGE(1000*$BT5:$CI5+$D$1:$S$1,COLUMN(H3)),2)} -> 14 | ... CI27: {=RIGHT(LARGE(1000*$BT5:$CI5+$D$1:$S$1,COLUMN(P3)),2)} -> 1 | CK27: {=RIGHT(LARGE(1000*$CK5:$CZ5+$D$1:$S$1,COLUMN(A3)),2)} -> 16 | CL27: {=RIGHT(LARGE(1000*$CK5:$CZ5+$D$1:$S$1,COLUMN(B3)),2)} -> 15 | CM27: {=RIGHT(LARGE(1000*$CK5:$CZ5+$D$1:$S$1,COLUMN(C3)),2)} -> 14 | CN27: {=RIGHT(LARGE(1000*$CK5:$CZ5+$D$1:$S$1,COLUMN(D3)),2)} -> 13 | CO27: {=RIGHT(LARGE(1000*$CK5:$CZ5+$D$1:$S$1,COLUMN(E3)),2)} -> 12 | CP27: {=RIGHT(LARGE(1000*$CK5:$CZ5+$D$1:$S$1,COLUMN(F3)),2)} -> 11 | CQ27: {=RIGHT(LARGE(1000*$CK5:$CZ5+$D$1:$S$1,COLUMN(G3)),2)} -> 10 | CR27: {=RIGHT(LARGE(1000*$CK5:$CZ5+$D$1:$S$1,COLUMN(H3)),2)} -> 9 | ... CZ27: {=RIGHT(LARGE(1000*$CK5:$CZ5+$D$1:$S$1,COLUMN(P3)),2)} -> 1
V28: =IF($T21=V21,V22,"") | W28: =IF($T21=W21,W22,"") | X28: =IF($T21=X21,X22,"") | Y28: =IF($T21=Y21,Y22,"") | Z28: =TEXT(IF(G$21=Z21,Z22,""),"") | AA28: =TEXT(IF(H$21=AA21,AA22,""),"") | AB28: =TEXT(IF(I$21=AB21,AB22,""),"") | AC28: =TEXT(IF(J$21=AC21,AC22,""),"") | AD28: =TEXT(IF(K$21=AD21,AD22,""),"") | AE28: =TEXT(IF(L$21=AE21,AE22,""),"") | AF28: =IF(AF21=$C21,TEXT(AF22,"0"),"") | AG28: =IF(AG21=$C21,TEXT(AG22,"0"),"") | AH28: =IF(AH21=$C21,TEXT(AH22,"0"),"") | AI28: =IF(AI21=$C21,TEXT(AI22,"0"),"") | AJ28: =IF(AJ21=$C21,TEXT(AJ22,"0"),"") | AK28: =IF(AK21=$C21,TEXT(AK22,"0"),"") | AL28: =IF(AL21=$C21,TEXT(AL22,"0"),"") | AM28: =IF(AM21=$C21,TEXT(AM22,"0"),"") | ... BA28: =IF(BA21=$C21,TEXT(BA22,"0"),"") | BB28: 3 | BC28: {=RIGHT(LARGE(1000*$BC5:$BR5+$D$1:$S$1,COLUMN(A4)),2)} -> 05 | BD28: {=RIGHT(LARGE(1000*$BC5:$BR5+$D$1:$S$1,COLUMN(B4)),2)} -> 16 | BE28: {=RIGHT(LARGE(1000*$BC5:$BR5+$D$1:$S$1,COLUMN(C4)),2)} -> 14 | BF28: {=RIGHT(LARGE(1000*$BC5:$BR5+$D$1:$S$1,COLUMN(D4)),2)} -> 12 | BG28: {=RIGHT(LARGE(1000*$BC5:$BR5+$D$1:$S$1,COLUMN(E4)),2)} -> 11 | BH28: {=RIGHT(LARGE(1000*$BC5:$BR5+$D$1:$S$1,COLUMN(F4)),2)} -> 09 | BI28: {=RIGHT(LARGE(1000*$BC5:$BR5+$D$1:$S$1,COLUMN(G4)),2)} -> 06 | BJ28: {=RIGHT(LARGE(1000*$BC5:$BR5+$D$1:$S$1,COLUMN(H4)),2)} -> 03 | ... BR28: {=RIGHT(LARGE(1000*$BC5:$BR5+$D$1:$S$1,COLUMN(P4)),2)} -> 1 | BT28: {=RIGHT(LARGE(1000*$BT6:$CI6+$D$1:$S$1,COLUMN(A4)),2)} -> 16 | BU28: {=RIGHT(LARGE(1000*$BT6:$CI6+$D$1:$S$1,COLUMN(B4)),2)} -> 15 | BV28: {=RIGHT(LARGE(1000*$BT6:$CI6+$D$1:$S$1,COLUMN(C4)),2)} -> 13 | BW28: {=RIGHT(LARGE(1000*$BT6:$CI6+$D$1:$S$1,COLUMN(D4)),2)} -> 12 | BX28: {=RIGHT(LARGE(1000*$BT6:$CI6+$D$1:$S$1,COLUMN(E4)),2)} -> 11 | BY28: {=RIGHT(LARGE(1000*$BT6:$CI6+$D$1:$S$1,COLUMN(F4)),2)} -> 09 | BZ28: {=RIGHT(LARGE(1000*$BT6:$CI6+$D$1:$S$1,COLUMN(G4)),2)} -> 06 | CA28: {=RIGHT(LARGE(1000*$BT6:$CI6+$D$1:$S$1,COLUMN(H4)),2)} -> 04 | ... CI28: {=RIGHT(LARGE(1000*$BT6:$CI6+$D$1:$S$1,COLUMN(P4)),2)} -> 1 | CK28: {=RIGHT(LARGE(1000*$CK6:$CZ6+$D$1:$S$1,COLUMN(A4)),2)} -> 16 | CL28: {=RIGHT(LARGE(1000*$CK6:$CZ6+$D$1:$S$1,COLUMN(B4)),2)} -> 15 | CM28: {=RIGHT(LARGE(1000*$CK6:$CZ6+$D$1:$S$1,COLUMN(C4)),2)} -> 14 | CN28: {=RIGHT(LARGE(1000*$CK6:$CZ6+$D$1:$S$1,COLUMN(D4)),2)} -> 13 | CO28: {=RIGHT(LARGE(1000*$CK6:$CZ6+$D$1:$S$1,COLUMN(E4)),2)} -> 12 | CP28: {=RIGHT(LARGE(1000*$CK6:$CZ6+$D$1:$S$1,COLUMN(F4)),2)} -> 11 | CQ28: {=RIGHT(LARGE(1000*$CK6:$CZ6+$D$1:$S$1,COLUMN(G4)),2)} -> 10 | CR28: {=RIGHT(LARGE(1000*$CK6:$CZ6+$D$1:$S$1,COLUMN(H4)),2)} -> 9 | ... CZ28: {=RIGHT(LARGE(1000*$CK6:$CZ6+$D$1:$S$1,COLUMN(P4)),2)} -> 1
BB29: 4 | BC29: {=RIGHT(LARGE(1000*$BC6:$BR6+$D$1:$S$1,COLUMN(A5)),2)} -> 16 | BD29: {=RIGHT(LARGE(1000*$BC6:$BR6+$D$1:$S$1,COLUMN(B5)),2)} -> 04 | BE29: {=RIGHT(LARGE(1000*$BC6:$BR6+$D$1:$S$1,COLUMN(C5)),2)} -> 14 | BF29: {=RIGHT(LARGE(1000*$BC6:$BR6+$D$1:$S$1,COLUMN(D5)),2)} -> 07 | BG29: {=RIGHT(LARGE(1000*$BC6:$BR6+$D$1:$S$1,COLUMN(E5)),2)} -> 03 | BH29: {=RIGHT(LARGE(1000*$BC6:$BR6+$D$1:$S$1,COLUMN(F5)),2)} -> 01 | BI29: {=RIGHT(LARGE(1000*$BC6:$BR6+$D$1:$S$1,COLUMN(G5)),2)} -> 15 | BJ29: {=RIGHT(LARGE(1000*$BC6:$BR6+$D$1:$S$1,COLUMN(H5)),2)} -> 13 | ... BR29: {=RIGHT(LARGE(1000*$BC6:$BR6+$D$1:$S$1,COLUMN(P5)),2)} -> 2 | BT29: {=RIGHT(LARGE(1000*$BT7:$CI7+$D$1:$S$1,COLUMN(A5)),2)} -> 16 | BU29: {=RIGHT(LARGE(1000*$BT7:$CI7+$D$1:$S$1,COLUMN(B5)),2)} -> 15 | BV29: {=RIGHT(LARGE(1000*$BT7:$CI7+$D$1:$S$1,COLUMN(C5)),2)} -> 14 | BW29: {=RIGHT(LARGE(1000*$BT7:$CI7+$D$1:$S$1,COLUMN(D5)),2)} -> 11 | BX29: {=RIGHT(LARGE(1000*$BT7:$CI7+$D$1:$S$1,COLUMN(E5)),2)} -> 09 | BY29: {=RIGHT(LARGE(1000*$BT7:$CI7+$D$1:$S$1,COLUMN(F5)),2)} -> 07 | BZ29: {=RIGHT(LARGE(1000*$BT7:$CI7+$D$1:$S$1,COLUMN(G5)),2)} -> 06 | CA29: {=RIGHT(LARGE(1000*$BT7:$CI7+$D$1:$S$1,COLUMN(H5)),2)} -> 04 | ... CI29: {=RIGHT(LARGE(1000*$BT7:$CI7+$D$1:$S$1,COLUMN(P5)),2)} -> 1 | CK29: {=RIGHT(LARGE(1000*$CK7:$CZ7+$D$1:$S$1,COLUMN(A5)),2)} -> 16 | CL29: {=RIGHT(LARGE(1000*$CK7:$CZ7+$D$1:$S$1,COLUMN(B5)),2)} -> 15 | CM29: {=RIGHT(LARGE(1000*$CK7:$CZ7+$D$1:$S$1,COLUMN(C5)),2)} -> 14 | CN29: {=RIGHT(LARGE(1000*$CK7:$CZ7+$D$1:$S$1,COLUMN(D5)),2)} -> 13 | CO29: {=RIGHT(LARGE(1000*$CK7:$CZ7+$D$1:$S$1,COLUMN(E5)),2)} -> 12 | CP29: {=RIGHT(LARGE(1000*$CK7:$CZ7+$D$1:$S$1,COLUMN(F5)),2)} -> 11 | CQ29: {=RIGHT(LARGE(1000*$CK7:$CZ7+$D$1:$S$1,COLUMN(G5)),2)} -> 10 | CR29: {=RIGHT(LARGE(1000*$CK7:$CZ7+$D$1:$S$1,COLUMN(H5)),2)} -> 9 | ... CZ29: {=RIGHT(LARGE(1000*$CK7:$CZ7+$D$1:$S$1,COLUMN(P5)),2)} -> 1
BB30: 5 | BC30: {=RIGHT(LARGE(1000*$BC7:$BR7+$D$1:$S$1,COLUMN(A6)),2)} -> 11 | BD30: {=RIGHT(LARGE(1000*$BC7:$BR7+$D$1:$S$1,COLUMN(B6)),2)} -> 04 | BE30: {=RIGHT(LARGE(1000*$BC7:$BR7+$D$1:$S$1,COLUMN(C6)),2)} -> 14 | BF30: {=RIGHT(LARGE(1000*$BC7:$BR7+$D$1:$S$1,COLUMN(D6)),2)} -> 12 | BG30: {=RIGHT(LARGE(1000*$BC7:$BR7+$D$1:$S$1,COLUMN(E6)),2)} -> 08 | BH30: {=RIGHT(LARGE(1000*$BC7:$BR7+$D$1:$S$1,COLUMN(F6)),2)} -> 05 | BI30: {=RIGHT(LARGE(1000*$BC7:$BR7+$D$1:$S$1,COLUMN(G6)),2)} -> 03 | BJ30: {=RIGHT(LARGE(1000*$BC7:$BR7+$D$1:$S$1,COLUMN(H6)),2)} -> 01 | ... BR30: {=RIGHT(LARGE(1000*$BC7:$BR7+$D$1:$S$1,COLUMN(P6)),2)} -> 2 | BT30: {=RIGHT(LARGE(1000*$BT8:$CI8+$D$1:$S$1,COLUMN(A6)),2)} -> 09 | BU30: {=RIGHT(LARGE(1000*$BT8:$CI8+$D$1:$S$1,COLUMN(B6)),2)} -> 16 | BV30: {=RIGHT(LARGE(1000*$BT8:$CI8+$D$1:$S$1,COLUMN(C6)),2)} -> 14 | BW30: {=RIGHT(LARGE(1000*$BT8:$CI8+$D$1:$S$1,COLUMN(D6)),2)} -> 11 | BX30: {=RIGHT(LARGE(1000*$BT8:$CI8+$D$1:$S$1,COLUMN(E6)),2)} -> 07 | BY30: {=RIGHT(LARGE(1000*$BT8:$CI8+$D$1:$S$1,COLUMN(F6)),2)} -> 06 | BZ30: {=RIGHT(LARGE(1000*$BT8:$CI8+$D$1:$S$1,COLUMN(G6)),2)} -> 03 | CA30: {=RIGHT(LARGE(1000*$BT8:$CI8+$D$1:$S$1,COLUMN(H6)),2)} -> 02 | ... CI30: {=RIGHT(LARGE(1000*$BT8:$CI8+$D$1:$S$1,COLUMN(P6)),2)} -> 1 | CK30: {=RIGHT(LARGE(1000*$CK8:$CZ8+$D$1:$S$1,COLUMN(A6)),2)} -> 16 | CL30: {=RIGHT(LARGE(1000*$CK8:$CZ8+$D$1:$S$1,COLUMN(B6)),2)} -> 15 | CM30: {=RIGHT(LARGE(1000*$CK8:$CZ8+$D$1:$S$1,COLUMN(C6)),2)} -> 14 | CN30: {=RIGHT(LARGE(1000*$CK8:$CZ8+$D$1:$S$1,COLUMN(D6)),2)} -> 13 | CO30: {=RIGHT(LARGE(1000*$CK8:$CZ8+$D$1:$S$1,COLUMN(E6)),2)} -> 12 | CP30: {=RIGHT(LARGE(1000*$CK8:$CZ8+$D$1:$S$1,COLUMN(F6)),2)} -> 11 | CQ30: {=RIGHT(LARGE(1000*$CK8:$CZ8+$D$1:$S$1,COLUMN(G6)),2)} -> 10 | CR30: {=RIGHT(LARGE(1000*$CK8:$CZ8+$D$1:$S$1,COLUMN(H6)),2)} -> 9 | ... CZ30: {=RIGHT(LARGE(1000*$CK8:$CZ8+$D$1:$S$1,COLUMN(P6)),2)} -> 1
BB31: 6 | BC31: {=RIGHT(LARGE(1000*$BC8:$BR8+$D$1:$S$1,COLUMN(A7)),2)} -> 16 | BD31: {=RIGHT(LARGE(1000*$BC8:$BR8+$D$1:$S$1,COLUMN(B7)),2)} -> 14 | BE31: {=RIGHT(LARGE(1000*$BC8:$BR8+$D$1:$S$1,COLUMN(C7)),2)} -> 05 | BF31: {=RIGHT(LARGE(1000*$BC8:$BR8+$D$1:$S$1,COLUMN(D7)),2)} -> 09 | BG31: {=RIGHT(LARGE(1000*$BC8:$BR8+$D$1:$S$1,COLUMN(E7)),2)} -> 06 | BH31: {=RIGHT(LARGE(1000*$BC8:$BR8+$D$1:$S$1,COLUMN(F7)),2)} -> 03 | BI31: {=RIGHT(LARGE(1000*$BC8:$BR8+$D$1:$S$1,COLUMN(G7)),2)} -> 01 | BJ31: {=RIGHT(LARGE(1000*$BC8:$BR8+$D$1:$S$1,COLUMN(H7)),2)} -> 15 | ... BR31: {=RIGHT(LARGE(1000*$BC8:$BR8+$D$1:$S$1,COLUMN(P7)),2)} -> 2 | BT31: {=RIGHT(LARGE(1000*$BT9:$CI9+$D$1:$S$1,COLUMN(A7)),2)} -> 13 | BU31: {=RIGHT(LARGE(1000*$BT9:$CI9+$D$1:$S$1,COLUMN(B7)),2)} -> 12 | BV31: {=RIGHT(LARGE(1000*$BT9:$CI9+$D$1:$S$1,COLUMN(C7)),2)} -> 06 | BW31: {=RIGHT(LARGE(1000*$BT9:$CI9+$D$1:$S$1,COLUMN(D7)),2)} -> 11 | BX31: {=RIGHT(LARGE(1000*$BT9:$CI9+$D$1:$S$1,COLUMN(E7)),2)} -> 04 | BY31: {=RIGHT(LARGE(1000*$BT9:$CI9+$D$1:$S$1,COLUMN(F7)),2)} -> 03 | BZ31: {=RIGHT(LARGE(1000*$BT9:$CI9+$D$1:$S$1,COLUMN(G7)),2)} -> 01 | CA31: {=RIGHT(LARGE(1000*$BT9:$CI9+$D$1:$S$1,COLUMN(H7)),2)} -> 16 | ... CI31: {=RIGHT(LARGE(1000*$BT9:$CI9+$D$1:$S$1,COLUMN(P7)),2)} -> 2 | CK31: {=RIGHT(LARGE(1000*$CK9:$CZ9+$D$1:$S$1,COLUMN(A7)),2)} -> 16 | CL31: {=RIGHT(LARGE(1000*$CK9:$CZ9+$D$1:$S$1,COLUMN(B7)),2)} -> 15 | CM31: {=RIGHT(LARGE(1000*$CK9:$CZ9+$D$1:$S$1,COLUMN(C7)),2)} -> 14 | CN31: {=RIGHT(LARGE(1000*$CK9:$CZ9+$D$1:$S$1,COLUMN(D7)),2)} -> 13 | CO31: {=RIGHT(LARGE(1000*$CK9:$CZ9+$D$1:$S$1,COLUMN(E7)),2)} -> 12 | CP31: {=RIGHT(LARGE(1000*$CK9:$CZ9+$D$1:$S$1,COLUMN(F7)),2)} -> 11 | CQ31: {=RIGHT(LARGE(1000*$CK9:$CZ9+$D$1:$S$1,COLUMN(G7)),2)} -> 10 | CR31: {=RIGHT(LARGE(1000*$CK9:$CZ9+$D$1:$S$1,COLUMN(H7)),2)} -> 9 | ... CZ31: {=RIGHT(LARGE(1000*$CK9:$CZ9+$D$1:$S$1,COLUMN(P7)),2)} -> 1
BB32: 7 | BC32: {=RIGHT(LARGE(1000*$BC9:$BR9+$D$1:$S$1,COLUMN(A8)),2)} -> 16 | BD32: {=RIGHT(LARGE(1000*$BC9:$BR9+$D$1:$S$1,COLUMN(B8)),2)} -> 12 | BE32: {=RIGHT(LARGE(1000*$BC9:$BR9+$D$1:$S$1,COLUMN(C8)),2)} -> 14 | BF32: {=RIGHT(LARGE(1000*$BC9:$BR9+$D$1:$S$1,COLUMN(D8)),2)} -> 10 | BG32: {=RIGHT(LARGE(1000*$BC9:$BR9+$D$1:$S$1,COLUMN(E8)),2)} -> 08 | BH32: {=RIGHT(LARGE(1000*$BC9:$BR9+$D$1:$S$1,COLUMN(F8)),2)} -> 05 | BI32: {=RIGHT(LARGE(1000*$BC9:$BR9+$D$1:$S$1,COLUMN(G8)),2)} -> 02 | BJ32: {=RIGHT(LARGE(1000*$BC9:$BR9+$D$1:$S$1,COLUMN(H8)),2)} -> 01 | ... BR32: {=RIGHT(LARGE(1000*$BC9:$BR9+$D$1:$S$1,COLUMN(P8)),2)} -> 3 | BT32: {=RIGHT(LARGE(1000*$BT10:$CI10+$D$1:$S$1,COLUMN(A8)),2)} -> 11 | BU32: {=RIGHT(LARGE(1000*$BT10:$CI10+$D$1:$S$1,COLUMN(B8)),2)} -> 16 | BV32: {=RIGHT(LARGE(1000*$BT10:$CI10+$D$1:$S$1,COLUMN(C8)),2)} -> 13 | BW32: {=RIGHT(LARGE(1000*$BT10:$CI10+$D$1:$S$1,COLUMN(D8)),2)} -> 12 | BX32: {=RIGHT(LARGE(1000*$BT10:$CI10+$D$1:$S$1,COLUMN(E8)),2)} -> 09 | BY32: {=RIGHT(LARGE(1000*$BT10:$CI10+$D$1:$S$1,COLUMN(F8)),2)} -> 07 | BZ32: {=RIGHT(LARGE(1000*$BT10:$CI10+$D$1:$S$1,COLUMN(G8)),2)} -> 05 | CA32: {=RIGHT(LARGE(1000*$BT10:$CI10+$D$1:$S$1,COLUMN(H8)),2)} -> 03 | ... CI32: {=RIGHT(LARGE(1000*$BT10:$CI10+$D$1:$S$1,COLUMN(P8)),2)} -> 1 | CK32: {=RIGHT(LARGE(1000*$CK10:$CZ10+$D$1:$S$1,COLUMN(A8)),2)} -> 16 | CL32: {=RIGHT(LARGE(1000*$CK10:$CZ10+$D$1:$S$1,COLUMN(B8)),2)} -> 15 | CM32: {=RIGHT(LARGE(1000*$CK10:$CZ10+$D$1:$S$1,COLUMN(C8)),2)} -> 14 | CN32: {=RIGHT(LARGE(1000*$CK10:$CZ10+$D$1:$S$1,COLUMN(D8)),2)} -> 13 | CO32: {=RIGHT(LARGE(1000*$CK10:$CZ10+$D$1:$S$1,COLUMN(E8)),2)} -> 12 | CP32: {=RIGHT(LARGE(1000*$CK10:$CZ10+$D$1:$S$1,COLUMN(F8)),2)} -> 11 | CQ32: {=RIGHT(LARGE(1000*$CK10:$CZ10+$D$1:$S$1,COLUMN(G8)),2)} -> 10 | CR32: {=RIGHT(LARGE(1000*$CK10:$CZ10+$D$1:$S$1,COLUMN(H8)),2)} -> 9 | ... CZ32: {=RIGHT(LARGE(1000*$CK10:$CZ10+$D$1:$S$1,COLUMN(P8)),2)} -> 1
BB33: 8 | BC33: {=RIGHT(LARGE(1000*$BC10:$BR10+$D$1:$S$1,COLUMN(A9)),2)} -> 05 | BD33: {=RIGHT(LARGE(1000*$BC10:$BR10+$D$1:$S$1,COLUMN(B9)),2)} -> 16 | BE33: {=RIGHT(LARGE(1000*$BC10:$BR10+$D$1:$S$1,COLUMN(C9)),2)} -> 15 | BF33: {=RIGHT(LARGE(1000*$BC10:$BR10+$D$1:$S$1,COLUMN(D9)),2)} -> 10 | BG33: {=RIGHT(LARGE(1000*$BC10:$BR10+$D$1:$S$1,COLUMN(E9)),2)} -> 08 | BH33: {=RIGHT(LARGE(1000*$BC10:$BR10+$D$1:$S$1,COLUMN(F9)),2)} -> 02 | BI33: {=RIGHT(LARGE(1000*$BC10:$BR10+$D$1:$S$1,COLUMN(G9)),2)} -> 01 | BJ33: {=RIGHT(LARGE(1000*$BC10:$BR10+$D$1:$S$1,COLUMN(H9)),2)} -> 14 | ... BR33: {=RIGHT(LARGE(1000*$BC10:$BR10+$D$1:$S$1,COLUMN(P9)),2)} -> 3 | BT33: {=RIGHT(LARGE(1000*$BT11:$CI11+$D$1:$S$1,COLUMN(A9)),2)} -> 08 | BU33: {=RIGHT(LARGE(1000*$BT11:$CI11+$D$1:$S$1,COLUMN(B9)),2)} -> 01 | BV33: {=RIGHT(LARGE(1000*$BT11:$CI11+$D$1:$S$1,COLUMN(C9)),2)} -> 16 | BW33: {=RIGHT(LARGE(1000*$BT11:$CI11+$D$1:$S$1,COLUMN(D9)),2)} -> 15 | BX33: {=RIGHT(LARGE(1000*$BT11:$CI11+$D$1:$S$1,COLUMN(E9)),2)} -> 12 | BY33: {=RIGHT(LARGE(1000*$BT11:$CI11+$D$1:$S$1,COLUMN(F9)),2)} -> 10 | BZ33: {=RIGHT(LARGE(1000*$BT11:$CI11+$D$1:$S$1,COLUMN(G9)),2)} -> 06 | CA33: {=RIGHT(LARGE(1000*$BT11:$CI11+$D$1:$S$1,COLUMN(H9)),2)} -> 04 | ... CI33: {=RIGHT(LARGE(1000*$BT11:$CI11+$D$1:$S$1,COLUMN(P9)),2)} -> 2 | CK33: {=RIGHT(LARGE(1000*$CK11:$CZ11+$D$1:$S$1,COLUMN(A9)),2)} -> 16 | CL33: {=RIGHT(LARGE(1000*$CK11:$CZ11+$D$1:$S$1,COLUMN(B9)),2)} -> 15 | CM33: {=RIGHT(LARGE(1000*$CK11:$CZ11+$D$1:$S$1,COLUMN(C9)),2)} -> 14 | CN33: {=RIGHT(LARGE(1000*$CK11:$CZ11+$D$1:$S$1,COLUMN(D9)),2)} -> 13 | CO33: {=RIGHT(LARGE(1000*$CK11:$CZ11+$D$1:$S$1,COLUMN(E9)),2)} -> 12 | CP33: {=RIGHT(LARGE(1000*$CK11:$CZ11+$D$1:$S$1,COLUMN(F9)),2)} -> 11 | CQ33: {=RIGHT(LARGE(1000*$CK11:$CZ11+$D$1:$S$1,COLUMN(G9)),2)} -> 10 | CR33: {=RIGHT(LARGE(1000*$CK11:$CZ11+$D$1:$S$1,COLUMN(H9)),2)} -> 9 | ... CZ33: {=RIGHT(LARGE(1000*$CK11:$CZ11+$D$1:$S$1,COLUMN(P9)),2)} -> 1
BB34: 9 | BC34: {=RIGHT(LARGE(1000*$BC11:$BR11+$D$1:$S$1,COLUMN(A10)),2)} -> 15 | BD34: {=RIGHT(LARGE(1000*$BC11:$BR11+$D$1:$S$1,COLUMN(B10)),2)} -> 16 | BE34: {=RIGHT(LARGE(1000*$BC11:$BR11+$D$1:$S$1,COLUMN(C10)),2)} -> 13 | BF34: {=RIGHT(LARGE(1000*$BC11:$BR11+$D$1:$S$1,COLUMN(D10)),2)} -> 12 | BG34: {=RIGHT(LARGE(1000*$BC11:$BR11+$D$1:$S$1,COLUMN(E10)),2)} -> 10 | BH34: {=RIGHT(LARGE(1000*$BC11:$BR11+$D$1:$S$1,COLUMN(F10)),2)} -> 08 | BI34: {=RIGHT(LARGE(1000*$BC11:$BR11+$D$1:$S$1,COLUMN(G10)),2)} -> 05 | BJ34: {=RIGHT(LARGE(1000*$BC11:$BR11+$D$1:$S$1,COLUMN(H10)),2)} -> 04 | ... BR34: {=RIGHT(LARGE(1000*$BC11:$BR11+$D$1:$S$1,COLUMN(P10)),2)} -> 1 | BT34: {=RIGHT(LARGE(1000*$BT12:$CI12+$D$1:$S$1,COLUMN(A10)),2)} -> 14 | BU34: {=RIGHT(LARGE(1000*$BT12:$CI12+$D$1:$S$1,COLUMN(B10)),2)} -> 02 | BV34: {=RIGHT(LARGE(1000*$BT12:$CI12+$D$1:$S$1,COLUMN(C10)),2)} -> 15 | BW34: {=RIGHT(LARGE(1000*$BT12:$CI12+$D$1:$S$1,COLUMN(D10)),2)} -> 08 | BX34: {=RIGHT(LARGE(1000*$BT12:$CI12+$D$1:$S$1,COLUMN(E10)),2)} -> 07 | BY34: {=RIGHT(LARGE(1000*$BT12:$CI12+$D$1:$S$1,COLUMN(F10)),2)} -> 05 | BZ34: {=RIGHT(LARGE(1000*$BT12:$CI12+$D$1:$S$1,COLUMN(G10)),2)} -> 03 | CA34: {=RIGHT(LARGE(1000*$BT12:$CI12+$D$1:$S$1,COLUMN(H10)),2)} -> 01 | ... CI34: {=RIGHT(LARGE(1000*$BT12:$CI12+$D$1:$S$1,COLUMN(P10)),2)} -> 4 | CK34: {=RIGHT(LARGE(1000*$CK12:$CZ12+$D$1:$S$1,COLUMN(A10)),2)} -> 02 | CL34: {=RIGHT(LARGE(1000*$CK12:$CZ12+$D$1:$S$1,COLUMN(B10)),2)} -> 14 | CM34: {=RIGHT(LARGE(1000*$CK12:$CZ12+$D$1:$S$1,COLUMN(C10)),2)} -> 12 | CN34: {=RIGHT(LARGE(1000*$CK12:$CZ12+$D$1:$S$1,COLUMN(D10)),2)} -> 11 | CO34: {=RIGHT(LARGE(1000*$CK12:$CZ12+$D$1:$S$1,COLUMN(E10)),2)} -> 09 | CP34: {=RIGHT(LARGE(1000*$CK12:$CZ12+$D$1:$S$1,COLUMN(F10)),2)} -> 07 | CQ34: {=RIGHT(LARGE(1000*$CK12:$CZ12+$D$1:$S$1,COLUMN(G10)),2)} -> 05 | CR34: {=RIGHT(LARGE(1000*$CK12:$CZ12+$D$1:$S$1,COLUMN(H10)),2)} -> 04 | ... CZ34: {=RIGHT(LARGE(1000*$CK12:$CZ12+$D$1:$S$1,COLUMN(P10)),2)} -> 1
BB35: 10 | BC35: {=RIGHT(LARGE(1000*$BC12:$BR12+$D$1:$S$1,COLUMN(A11)),2)} -> 05 | BD35: {=RIGHT(LARGE(1000*$BC12:$BR12+$D$1:$S$1,COLUMN(B11)),2)} -> 16 | BE35: {=RIGHT(LARGE(1000*$BC12:$BR12+$D$1:$S$1,COLUMN(C11)),2)} -> 15 | BF35: {=RIGHT(LARGE(1000*$BC12:$BR12+$D$1:$S$1,COLUMN(D11)),2)} -> 14 | BG35: {=RIGHT(LARGE(1000*$BC12:$BR12+$D$1:$S$1,COLUMN(E11)),2)} -> 11 | BH35: {=RIGHT(LARGE(1000*$BC12:$BR12+$D$1:$S$1,COLUMN(F11)),2)} -> 09 | BI35: {=RIGHT(LARGE(1000*$BC12:$BR12+$D$1:$S$1,COLUMN(G11)),2)} -> 02 | BJ35: {=RIGHT(LARGE(1000*$BC12:$BR12+$D$1:$S$1,COLUMN(H11)),2)} -> 01 | ... BR35: {=RIGHT(LARGE(1000*$BC12:$BR12+$D$1:$S$1,COLUMN(P11)),2)} -> 3 | BT35: {=RIGHT(LARGE(1000*$BT13:$CI13+$D$1:$S$1,COLUMN(A11)),2)} -> 08 | BU35: {=RIGHT(LARGE(1000*$BT13:$CI13+$D$1:$S$1,COLUMN(B11)),2)} -> 01 | BV35: {=RIGHT(LARGE(1000*$BT13:$CI13+$D$1:$S$1,COLUMN(C11)),2)} -> 11 | BW35: {=RIGHT(LARGE(1000*$BT13:$CI13+$D$1:$S$1,COLUMN(D11)),2)} -> 10 | BX35: {=RIGHT(LARGE(1000*$BT13:$CI13+$D$1:$S$1,COLUMN(E11)),2)} -> 06 | BY35: {=RIGHT(LARGE(1000*$BT13:$CI13+$D$1:$S$1,COLUMN(F11)),2)} -> 04 | BZ35: {=RIGHT(LARGE(1000*$BT13:$CI13+$D$1:$S$1,COLUMN(G11)),2)} -> 02 | CA35: {=RIGHT(LARGE(1000*$BT13:$CI13+$D$1:$S$1,COLUMN(H11)),2)} -> 16 | ... CI35: {=RIGHT(LARGE(1000*$BT13:$CI13+$D$1:$S$1,COLUMN(P11)),2)} -> 3 | CK35: {=RIGHT(LARGE(1000*$CK13:$CZ13+$D$1:$S$1,COLUMN(A11)),2)} -> 14 | CL35: {=RIGHT(LARGE(1000*$CK13:$CZ13+$D$1:$S$1,COLUMN(B11)),2)} -> 02 | CM35: {=RIGHT(LARGE(1000*$CK13:$CZ13+$D$1:$S$1,COLUMN(C11)),2)} -> 09 | CN35: {=RIGHT(LARGE(1000*$CK13:$CZ13+$D$1:$S$1,COLUMN(D11)),2)} -> 08 | CO35: {=RIGHT(LARGE(1000*$CK13:$CZ13+$D$1:$S$1,COLUMN(E11)),2)} -> 07 | CP35: {=RIGHT(LARGE(1000*$CK13:$CZ13+$D$1:$S$1,COLUMN(F11)),2)} -> 04 | CQ35: {=RIGHT(LARGE(1000*$CK13:$CZ13+$D$1:$S$1,COLUMN(G11)),2)} -> 16 | CR35: {=RIGHT(LARGE(1000*$CK13:$CZ13+$D$1:$S$1,COLUMN(H11)),2)} -> 15 | ... CZ35: {=RIGHT(LARGE(1000*$CK13:$CZ13+$D$1:$S$1,COLUMN(P11)),2)} -> 1
BB36: 11 | BC36: {=RIGHT(LARGE(1000*$BC13:$BR13+$D$1:$S$1,COLUMN(A12)),2)} -> 16 | BD36: {=RIGHT(LARGE(1000*$BC13:$BR13+$D$1:$S$1,COLUMN(B12)),2)} -> 10 | BE36: {=RIGHT(LARGE(1000*$BC13:$BR13+$D$1:$S$1,COLUMN(C12)),2)} -> 08 | BF36: {=RIGHT(LARGE(1000*$BC13:$BR13+$D$1:$S$1,COLUMN(D12)),2)} -> 12 | BG36: {=RIGHT(LARGE(1000*$BC13:$BR13+$D$1:$S$1,COLUMN(E12)),2)} -> 09 | BH36: {=RIGHT(LARGE(1000*$BC13:$BR13+$D$1:$S$1,COLUMN(F12)),2)} -> 06 | BI36: {=RIGHT(LARGE(1000*$BC13:$BR13+$D$1:$S$1,COLUMN(G12)),2)} -> 04 | BJ36: {=RIGHT(LARGE(1000*$BC13:$BR13+$D$1:$S$1,COLUMN(H12)),2)} -> 15 | ... BR36: {=RIGHT(LARGE(1000*$BC13:$BR13+$D$1:$S$1,COLUMN(P12)),2)} -> 1 | BT36: {=RIGHT(LARGE(1000*$BT14:$CI14+$D$1:$S$1,COLUMN(A12)),2)} -> 11 | BU36: {=RIGHT(LARGE(1000*$BT14:$CI14+$D$1:$S$1,COLUMN(B12)),2)} -> 08 | BV36: {=RIGHT(LARGE(1000*$BT14:$CI14+$D$1:$S$1,COLUMN(C12)),2)} -> 13 | BW36: {=RIGHT(LARGE(1000*$BT14:$CI14+$D$1:$S$1,COLUMN(D12)),2)} -> 12 | BX36: {=RIGHT(LARGE(1000*$BT14:$CI14+$D$1:$S$1,COLUMN(E12)),2)} -> 09 | BY36: {=RIGHT(LARGE(1000*$BT14:$CI14+$D$1:$S$1,COLUMN(F12)),2)} -> 07 | BZ36: {=RIGHT(LARGE(1000*$BT14:$CI14+$D$1:$S$1,COLUMN(G12)),2)} -> 03 | CA36: {=RIGHT(LARGE(1000*$BT14:$CI14+$D$1:$S$1,COLUMN(H12)),2)} -> 02 | ... CI36: {=RIGHT(LARGE(1000*$BT14:$CI14+$D$1:$S$1,COLUMN(P12)),2)} -> 1 | CK36: {=RIGHT(LARGE(1000*$CK14:$CZ14+$D$1:$S$1,COLUMN(A12)),2)} -> 01 | CL36: {=RIGHT(LARGE(1000*$CK14:$CZ14+$D$1:$S$1,COLUMN(B12)),2)} -> 05 | CM36: {=RIGHT(LARGE(1000*$CK14:$CZ14+$D$1:$S$1,COLUMN(C12)),2)} -> 13 | CN36: {=RIGHT(LARGE(1000*$CK14:$CZ14+$D$1:$S$1,COLUMN(D12)),2)} -> 12 | CO36: {=RIGHT(LARGE(1000*$CK14:$CZ14+$D$1:$S$1,COLUMN(E12)),2)} -> 10 | CP36: {=RIGHT(LARGE(1000*$CK14:$CZ14+$D$1:$S$1,COLUMN(F12)),2)} -> 06 | CQ36: {=RIGHT(LARGE(1000*$CK14:$CZ14+$D$1:$S$1,COLUMN(G12)),2)} -> 04 | CR36: {=RIGHT(LARGE(1000*$CK14:$CZ14+$D$1:$S$1,COLUMN(H12)),2)} -> 16 | ... CZ36: {=RIGHT(LARGE(1000*$CK14:$CZ14+$D$1:$S$1,COLUMN(P12)),2)} -> 2
BB37: 12 | BC37: {=RIGHT(LARGE(1000*$BC14:$BR14+$D$1:$S$1,COLUMN(A13)),2)} -> 15 | BD37: {=RIGHT(LARGE(1000*$BC14:$BR14+$D$1:$S$1,COLUMN(B13)),2)} -> 12 | BE37: {=RIGHT(LARGE(1000*$BC14:$BR14+$D$1:$S$1,COLUMN(C13)),2)} -> 09 | BF37: {=RIGHT(LARGE(1000*$BC14:$BR14+$D$1:$S$1,COLUMN(D13)),2)} -> 13 | BG37: {=RIGHT(LARGE(1000*$BC14:$BR14+$D$1:$S$1,COLUMN(E13)),2)} -> 11 | BH37: {=RIGHT(LARGE(1000*$BC14:$BR14+$D$1:$S$1,COLUMN(F13)),2)} -> 10 | BI37: {=RIGHT(LARGE(1000*$BC14:$BR14+$D$1:$S$1,COLUMN(G13)),2)} -> 05 | BJ37: {=RIGHT(LARGE(1000*$BC14:$BR14+$D$1:$S$1,COLUMN(H13)),2)} -> 16 | ... BR37: {=RIGHT(LARGE(1000*$BC14:$BR14+$D$1:$S$1,COLUMN(P13)),2)} -> 1 | BT37: {=RIGHT(LARGE(1000*$BT15:$CI15+$D$1:$S$1,COLUMN(A13)),2)} -> 01 | BU37: {=RIGHT(LARGE(1000*$BT15:$CI15+$D$1:$S$1,COLUMN(B13)),2)} -> 16 | BV37: {=RIGHT(LARGE(1000*$BT15:$CI15+$D$1:$S$1,COLUMN(C13)),2)} -> 15 | BW37: {=RIGHT(LARGE(1000*$BT15:$CI15+$D$1:$S$1,COLUMN(D13)),2)} -> 14 | BX37: {=RIGHT(LARGE(1000*$BT15:$CI15+$D$1:$S$1,COLUMN(E13)),2)} -> 13 | BY37: {=RIGHT(LARGE(1000*$BT15:$CI15+$D$1:$S$1,COLUMN(F13)),2)} -> 12 | BZ37: {=RIGHT(LARGE(1000*$BT15:$CI15+$D$1:$S$1,COLUMN(G13)),2)} -> 11 | CA37: {=RIGHT(LARGE(1000*$BT15:$CI15+$D$1:$S$1,COLUMN(H13)),2)} -> 10 | ... CI37: {=RIGHT(LARGE(1000*$BT15:$CI15+$D$1:$S$1,COLUMN(P13)),2)} -> 2 | CK37: {=RIGHT(LARGE(1000*$CK15:$CZ15+$D$1:$S$1,COLUMN(A13)),2)} -> 03 | CL37: {=RIGHT(LARGE(1000*$CK15:$CZ15+$D$1:$S$1,COLUMN(B13)),2)} -> 14 | CM37: {=RIGHT(LARGE(1000*$CK15:$CZ15+$D$1:$S$1,COLUMN(C13)),2)} -> 13 | CN37: {=RIGHT(LARGE(1000*$CK15:$CZ15+$D$1:$S$1,COLUMN(D13)),2)} -> 10 | CO37: {=RIGHT(LARGE(1000*$CK15:$CZ15+$D$1:$S$1,COLUMN(E13)),2)} -> 07 | CP37: {=RIGHT(LARGE(1000*$CK15:$CZ15+$D$1:$S$1,COLUMN(F13)),2)} -> 06 | CQ37: {=RIGHT(LARGE(1000*$CK15:$CZ15+$D$1:$S$1,COLUMN(G13)),2)} -> 05 | CR37: {=RIGHT(LARGE(1000*$CK15:$CZ15+$D$1:$S$1,COLUMN(H13)),2)} -> 02 | ... CZ37: {=RIGHT(LARGE(1000*$CK15:$CZ15+$D$1:$S$1,COLUMN(P13)),2)} -> 1
BB38: 13 | BC38: {=RIGHT(LARGE(1000*$BC15:$BR15+$D$1:$S$1,COLUMN(A14)),2)} -> 16 | BD38: {=RIGHT(LARGE(1000*$BC15:$BR15+$D$1:$S$1,COLUMN(B14)),2)} -> 12 | BE38: {=RIGHT(LARGE(1000*$BC15:$BR15+$D$1:$S$1,COLUMN(C14)),2)} -> 15 | BF38: {=RIGHT(LARGE(1000*$BC15:$BR15+$D$1:$S$1,COLUMN(D14)),2)} -> 13 | BG38: {=RIGHT(LARGE(1000*$BC15:$BR15+$D$1:$S$1,COLUMN(E14)),2)} -> 06 | BH38: {=RIGHT(LARGE(1000*$BC15:$BR15+$D$1:$S$1,COLUMN(F14)),2)} -> 04 | BI38: {=RIGHT(LARGE(1000*$BC15:$BR15+$D$1:$S$1,COLUMN(G14)),2)} -> 03 | BJ38: {=RIGHT(LARGE(1000*$BC15:$BR15+$D$1:$S$1,COLUMN(H14)),2)} -> 01 | ... BR38: {=RIGHT(LARGE(1000*$BC15:$BR15+$D$1:$S$1,COLUMN(P14)),2)} -> 2 | BT38: {=RIGHT(LARGE(1000*$BT16:$CI16+$D$1:$S$1,COLUMN(A14)),2)} -> 09 | BU38: {=RIGHT(LARGE(1000*$BT16:$CI16+$D$1:$S$1,COLUMN(B14)),2)} -> 16 | BV38: {=RIGHT(LARGE(1000*$BT16:$CI16+$D$1:$S$1,COLUMN(C14)),2)} -> 15 | BW38: {=RIGHT(LARGE(1000*$BT16:$CI16+$D$1:$S$1,COLUMN(D14)),2)} -> 14 | BX38: {=RIGHT(LARGE(1000*$BT16:$CI16+$D$1:$S$1,COLUMN(E14)),2)} -> 13 | BY38: {=RIGHT(LARGE(1000*$BT16:$CI16+$D$1:$S$1,COLUMN(F14)),2)} -> 12 | BZ38: {=RIGHT(LARGE(1000*$BT16:$CI16+$D$1:$S$1,COLUMN(G14)),2)} -> 11 | CA38: {=RIGHT(LARGE(1000*$BT16:$CI16+$D$1:$S$1,COLUMN(H14)),2)} -> 10 | ... CI38: {=RIGHT(LARGE(1000*$BT16:$CI16+$D$1:$S$1,COLUMN(P14)),2)} -> 1 | CK38: {=RIGHT(LARGE(1000*$CK16:$CZ16+$D$1:$S$1,COLUMN(A14)),2)} -> 02 | CL38: {=RIGHT(LARGE(1000*$CK16:$CZ16+$D$1:$S$1,COLUMN(B14)),2)} -> 06 | CM38: {=RIGHT(LARGE(1000*$CK16:$CZ16+$D$1:$S$1,COLUMN(C14)),2)} -> 13 | CN38: {=RIGHT(LARGE(1000*$CK16:$CZ16+$D$1:$S$1,COLUMN(D14)),2)} -> 12 | CO38: {=RIGHT(LARGE(1000*$CK16:$CZ16+$D$1:$S$1,COLUMN(E14)),2)} -> 11 | CP38: {=RIGHT(LARGE(1000*$CK16:$CZ16+$D$1:$S$1,COLUMN(F14)),2)} -> 10 | CQ38: {=RIGHT(LARGE(1000*$CK16:$CZ16+$D$1:$S$1,COLUMN(G14)),2)} -> 08 | CR38: {=RIGHT(LARGE(1000*$CK16:$CZ16+$D$1:$S$1,COLUMN(H14)),2)} -> 16 | ... CZ38: {=RIGHT(LARGE(1000*$CK16:$CZ16+$D$1:$S$1,COLUMN(P14)),2)} -> 1
BB39: 14 | BC39: {=RIGHT(LARGE(1000*$BC16:$BR16+$D$1:$S$1,COLUMN(A15)),2)} -> 07 | BD39: {=RIGHT(LARGE(1000*$BC16:$BR16+$D$1:$S$1,COLUMN(B15)),2)} -> 05 | BE39: {=RIGHT(LARGE(1000*$BC16:$BR16+$D$1:$S$1,COLUMN(C15)),2)} -> 15 | BF39: {=RIGHT(LARGE(1000*$BC16:$BR16+$D$1:$S$1,COLUMN(D15)),2)} -> 11 | BG39: {=RIGHT(LARGE(1000*$BC16:$BR16+$D$1:$S$1,COLUMN(E15)),2)} -> 10 | BH39: {=RIGHT(LARGE(1000*$BC16:$BR16+$D$1:$S$1,COLUMN(F15)),2)} -> 09 | BI39: {=RIGHT(LARGE(1000*$BC16:$BR16+$D$1:$S$1,COLUMN(G15)),2)} -> 02 | BJ39: {=RIGHT(LARGE(1000*$BC16:$BR16+$D$1:$S$1,COLUMN(H15)),2)} -> 16 | ... BR39: {=RIGHT(LARGE(1000*$BC16:$BR16+$D$1:$S$1,COLUMN(P15)),2)} -> 1 | BT39: {=RIGHT(LARGE(1000*$BT17:$CI17+$D$1:$S$1,COLUMN(A15)),2)} -> 16 | BU39: {=RIGHT(LARGE(1000*$BT17:$CI17+$D$1:$S$1,COLUMN(B15)),2)} -> 15 | BV39: {=RIGHT(LARGE(1000*$BT17:$CI17+$D$1:$S$1,COLUMN(C15)),2)} -> 14 | BW39: {=RIGHT(LARGE(1000*$BT17:$CI17+$D$1:$S$1,COLUMN(D15)),2)} -> 13 | BX39: {=RIGHT(LARGE(1000*$BT17:$CI17+$D$1:$S$1,COLUMN(E15)),2)} -> 12 | BY39: {=RIGHT(LARGE(1000*$BT17:$CI17+$D$1:$S$1,COLUMN(F15)),2)} -> 11 | BZ39: {=RIGHT(LARGE(1000*$BT17:$CI17+$D$1:$S$1,COLUMN(G15)),2)} -> 10 | CA39: {=RIGHT(LARGE(1000*$BT17:$CI17+$D$1:$S$1,COLUMN(H15)),2)} -> 9 | ... CI39: {=RIGHT(LARGE(1000*$BT17:$CI17+$D$1:$S$1,COLUMN(P15)),2)} -> 1 | CK39: {=RIGHT(LARGE(1000*$CK17:$CZ17+$D$1:$S$1,COLUMN(A15)),2)} -> 08 | CL39: {=RIGHT(LARGE(1000*$CK17:$CZ17+$D$1:$S$1,COLUMN(B15)),2)} -> 15 | CM39: {=RIGHT(LARGE(1000*$CK17:$CZ17+$D$1:$S$1,COLUMN(C15)),2)} -> 06 | CN39: {=RIGHT(LARGE(1000*$CK17:$CZ17+$D$1:$S$1,COLUMN(D15)),2)} -> 12 | CO39: {=RIGHT(LARGE(1000*$CK17:$CZ17+$D$1:$S$1,COLUMN(E15)),2)} -> 11 | CP39: {=RIGHT(LARGE(1000*$CK17:$CZ17+$D$1:$S$1,COLUMN(F15)),2)} -> 09 | CQ39: {=RIGHT(LARGE(1000*$CK17:$CZ17+$D$1:$S$1,COLUMN(G15)),2)} -> 16 | CR39: {=RIGHT(LARGE(1000*$CK17:$CZ17+$D$1:$S$1,COLUMN(H15)),2)} -> 14 | ... CZ39: {=RIGHT(LARGE(1000*$CK17:$CZ17+$D$1:$S$1,COLUMN(P15)),2)} -> 1
BB40: 15 | BC40: {=RIGHT(LARGE(1000*$BC17:$BR17+$D$1:$S$1,COLUMN(A16)),2)} -> 15 | BD40: {=RIGHT(LARGE(1000*$BC17:$BR17+$D$1:$S$1,COLUMN(B16)),2)} -> 10 | BE40: {=RIGHT(LARGE(1000*$BC17:$BR17+$D$1:$S$1,COLUMN(C16)),2)} -> 08 | BF40: {=RIGHT(LARGE(1000*$BC17:$BR17+$D$1:$S$1,COLUMN(D16)),2)} -> 12 | BG40: {=RIGHT(LARGE(1000*$BC17:$BR17+$D$1:$S$1,COLUMN(E16)),2)} -> 11 | BH40: {=RIGHT(LARGE(1000*$BC17:$BR17+$D$1:$S$1,COLUMN(F16)),2)} -> 07 | BI40: {=RIGHT(LARGE(1000*$BC17:$BR17+$D$1:$S$1,COLUMN(G16)),2)} -> 05 | BJ40: {=RIGHT(LARGE(1000*$BC17:$BR17+$D$1:$S$1,COLUMN(H16)),2)} -> 16 | ... BR40: {=RIGHT(LARGE(1000*$BC17:$BR17+$D$1:$S$1,COLUMN(P16)),2)} -> 1 | BT40: {=RIGHT(LARGE(1000*$BT18:$CI18+$D$1:$S$1,COLUMN(A16)),2)} -> 01 | BU40: {=RIGHT(LARGE(1000*$BT18:$CI18+$D$1:$S$1,COLUMN(B16)),2)} -> 16 | BV40: {=RIGHT(LARGE(1000*$BT18:$CI18+$D$1:$S$1,COLUMN(C16)),2)} -> 15 | BW40: {=RIGHT(LARGE(1000*$BT18:$CI18+$D$1:$S$1,COLUMN(D16)),2)} -> 14 | BX40: {=RIGHT(LARGE(1000*$BT18:$CI18+$D$1:$S$1,COLUMN(E16)),2)} -> 13 | BY40: {=RIGHT(LARGE(1000*$BT18:$CI18+$D$1:$S$1,COLUMN(F16)),2)} -> 12 | BZ40: {=RIGHT(LARGE(1000*$BT18:$CI18+$D$1:$S$1,COLUMN(G16)),2)} -> 11 | CA40: {=RIGHT(LARGE(1000*$BT18:$CI18+$D$1:$S$1,COLUMN(H16)),2)} -> 10 | ... CI40: {=RIGHT(LARGE(1000*$BT18:$CI18+$D$1:$S$1,COLUMN(P16)),2)} -> 2 | CK40: {=RIGHT(LARGE(1000*$CK18:$CZ18+$D$1:$S$1,COLUMN(A16)),2)} -> 01 | CL40: {=RIGHT(LARGE(1000*$CK18:$CZ18+$D$1:$S$1,COLUMN(B16)),2)} -> 08 | CM40: {=RIGHT(LARGE(1000*$CK18:$CZ18+$D$1:$S$1,COLUMN(C16)),2)} -> 15 | CN40: {=RIGHT(LARGE(1000*$CK18:$CZ18+$D$1:$S$1,COLUMN(D16)),2)} -> 13 | CO40: {=RIGHT(LARGE(1000*$CK18:$CZ18+$D$1:$S$1,COLUMN(E16)),2)} -> 10 | CP40: {=RIGHT(LARGE(1000*$CK18:$CZ18+$D$1:$S$1,COLUMN(F16)),2)} -> 09 | CQ40: {=RIGHT(LARGE(1000*$CK18:$CZ18+$D$1:$S$1,COLUMN(G16)),2)} -> 04 | CR40: {=RIGHT(LARGE(1000*$CK18:$CZ18+$D$1:$S$1,COLUMN(H16)),2)} -> 16 | ... CZ40: {=RIGHT(LARGE(1000*$CK18:$CZ18+$D$1:$S$1,COLUMN(P16)),2)} -> 2
... BB45: 20 | BC45: {=RIGHT(LARGE(1000*$BC22:$BR22+$D$1:$S$1,COLUMN(A21)),2)} -> 08 | BD45: {=RIGHT(LARGE(1000*$BC22:$BR22+$D$1:$S$1,COLUMN(B21)),2)} -> 05 | BE45: {=RIGHT(LARGE(1000*$BC22:$BR22+$D$1:$S$1,COLUMN(C21)),2)} -> 14 | BF45: {=RIGHT(LARGE(1000*$BC22:$BR22+$D$1:$S$1,COLUMN(D21)),2)} -> 13 | BG45: {=RIGHT(LARGE(1000*$BC22:$BR22+$D$1:$S$1,COLUMN(E21)),2)} -> 12 | BH45: {=RIGHT(LARGE(1000*$BC22:$BR22+$D$1:$S$1,COLUMN(F21)),2)} -> 11 | BI45: {=RIGHT(LARGE(1000*$BC22:$BR22+$D$1:$S$1,COLUMN(G21)),2)} -> 04 | BJ45: {=RIGHT(LARGE(1000*$BC22:$BR22+$D$1:$S$1,COLUMN(H21)),2)} -> 02 | ... BR45: {=RIGHT(LARGE(1000*$BC22:$BR22+$D$1:$S$1,COLUMN(P21)),2)} -> 1 | BT45: {=RIGHT(LARGE(1000*$BT23:$CI23+$D$1:$S$1,COLUMN(A21)),2)} -> 16 | BU45: {=RIGHT(LARGE(1000*$BT23:$CI23+$D$1:$S$1,COLUMN(B21)),2)} -> 15 | BV45: {=RIGHT(LARGE(1000*$BT23:$CI23+$D$1:$S$1,COLUMN(C21)),2)} -> 14 | BW45: {=RIGHT(LARGE(1000*$BT23:$CI23+$D$1:$S$1,COLUMN(D21)),2)} -> 13 | BX45: {=RIGHT(LARGE(1000*$BT23:$CI23+$D$1:$S$1,COLUMN(E21)),2)} -> 12 | BY45: {=RIGHT(LARGE(1000*$BT23:$CI23+$D$1:$S$1,COLUMN(F21)),2)} -> 11 | BZ45: {=RIGHT(LARGE(1000*$BT23:$CI23+$D$1:$S$1,COLUMN(G21)),2)} -> 10 | CA45: {=RIGHT(LARGE(1000*$BT23:$CI23+$D$1:$S$1,COLUMN(H21)),2)} -> 9 | ... CI45: {=RIGHT(LARGE(1000*$BT23:$CI23+$D$1:$S$1,COLUMN(P21)),2)} -> 1 | CK45: {=RIGHT(LARGE(1000*$CK23:$CZ23+$D$1:$S$1,COLUMN(A21)),2)} -> 16 | CL45: {=RIGHT(LARGE(1000*$CK23:$CZ23+$D$1:$S$1,COLUMN(B21)),2)} -> 15 | CM45: {=RIGHT(LARGE(1000*$CK23:$CZ23+$D$1:$S$1,COLUMN(C21)),2)} -> 14 | CN45: {=RIGHT(LARGE(1000*$CK23:$CZ23+$D$1:$S$1,COLUMN(D21)),2)} -> 13 | CO45: {=RIGHT(LARGE(1000*$CK23:$CZ23+$D$1:$S$1,COLUMN(E21)),2)} -> 12 | CP45: {=RIGHT(LARGE(1000*$CK23:$CZ23+$D$1:$S$1,COLUMN(F21)),2)} -> 11 | CQ45: {=RIGHT(LARGE(1000*$CK23:$CZ23+$D$1:$S$1,COLUMN(G21)),2)} -> 10 | CR45: {=RIGHT(LARGE(1000*$CK23:$CZ23+$D$1:$S$1,COLUMN(H21)),2)} -> 9 | ... CZ45: {=RIGHT(LARGE(1000*$CK23:$CZ23+$D$1:$S$1,COLUMN(P21)),2)} -> 1
BB47: 1 | BC47: =IF(COUNTIF($C2,#REF!),"1","") | BD47: =IF(COUNTIF($C2,#REF!),"1","") | BE47: =IF(COUNTIF($C2,#REF!),"1","") | BF47: =IF(COUNTIF($C2,#REF!),"1","") | BG47: =IF(COUNTIF($C2,#REF!),"1","") | BH47: =IF(COUNTIF($C2,#REF!),"1","") | BI47: =IF(COUNTIF($C2,#REF!),"1","") | BJ47: =IF(COUNTIF($C2,#REF!),"1","") | ... BQ47: =IF(COUNTIF($C2,#REF!),"1","") | BR47: =IF(COUNTIF($C2,BR25),"1","") | BT47: =IF(COUNTIF($C2,BT25),"1","") | BU47: =IF(COUNTIF($C2,BU25),"1","") | BV47: =IF(COUNTIF($C2,BV25),"1","") | BW47: =IF(COUNTIF($C2,BW25),"1","") | BX47: =IF(COUNTIF($C2,BX25),"1","") | BY47: =IF(COUNTIF($C2,BY25),"1","") | BZ47: =IF(COUNTIF($C2,BZ25),"1","") | CA47: =IF(COUNTIF($C2,CA25),"1","") | ... CI47: =IF(COUNTIF($C2,CI25),"1","") | CK47: =IF(COUNTIF($C2,CK25),"1","") | CL47: =IF(COUNTIF($C2,CL25),"1","") | CM47: =IF(COUNTIF($C2,CM25),"1","") | CN47: =IF(COUNTIF($C2,CN25),"1","") | CO47: =IF(COUNTIF($C2,CO25),"1","") | CP47: =IF(COUNTIF($C2,CP25),"1","") | CQ47: =IF(COUNTIF($C2,CQ25),"1","") | CR47: =IF(COUNTIF($C2,CR25),"1","") | ... CZ47: =IF(COUNTIF($C2,CZ25),"1","")
BB48: 2 | BC48: =IF(COUNTIF($C3,BC26),"1","") | BD48: =IF(COUNTIF($C3,BD26),"1","") | BE48: =IF(COUNTIF($C3,BE26),"1","") | BF48: =IF(COUNTIF($C3,BF26),"1","") | BG48: =IF(COUNTIF($C3,BG26),"1","") | BH48: =IF(COUNTIF($C3,BH26),"1","") | BI48: =IF(COUNTIF($C3,BI26),"1","") | BJ48: =IF(COUNTIF($C3,BJ26),"1","") | ... BR48: =IF(COUNTIF($C3,BR26),"1","") -> 1 | BT48: =IF(COUNTIF($C3,BT26),"1","") | BU48: =IF(COUNTIF($C3,BU26),"1","") | BV48: =IF(COUNTIF($C3,BV26),"1","") | BW48: =IF(COUNTIF($C3,BW26),"1","") | BX48: =IF(COUNTIF($C3,BX26),"1","") | BY48: =IF(COUNTIF($C3,BY26),"1","") | BZ48: =IF(COUNTIF($C3,BZ26),"1","") | CA48: =IF(COUNTIF($C3,CA26),"1","") | ... CI48: =IF(COUNTIF($C3,CI26),"1","") | CK48: =IF(COUNTIF($C3,CK26),"1","") | CL48: =IF(COUNTIF($C3,CL26),"1","") | CM48: =IF(COUNTIF($C3,CM26),"1","") | CN48: =IF(COUNTIF($C3,CN26),"1","") | CO48: =IF(COUNTIF($C3,CO26),"1","") | CP48: =IF(COUNTIF($C3,CP26),"1","") | CQ48: =IF(COUNTIF($C3,CQ26),"1","") | CR48: =IF(COUNTIF($C3,CR26),"1","") | ... CZ48: =IF(COUNTIF($C3,CZ26),"1","")
BB49: 3 | BC49: =IF(COUNTIF($C4,BC27),"1","") | BD49: =IF(COUNTIF($C4,BD27),"1","") | BE49: =IF(COUNTIF($C4,BE27),"1","") | BF49: =IF(COUNTIF($C4,BF27),"1","") | BG49: =IF(COUNTIF($C4,BG27),"1","") | BH49: =IF(COUNTIF($C4,BH27),"1","") | BI49: =IF(COUNTIF($C4,BI27),"1","") | BJ49: =IF(COUNTIF($C4,BJ27),"1","") | ... BR49: =IF(COUNTIF($C4,BR27),"1","") | BT49: =IF(COUNTIF($C4,BT27),"1","") | BU49: =IF(COUNTIF($C4,BU27),"1","") | BV49: =IF(COUNTIF($C4,BV27),"1","") | BW49: =IF(COUNTIF($C4,BW27),"1","") | BX49: =IF(COUNTIF($C4,BX27),"1","") | BY49: =IF(COUNTIF($C4,BY27),"1","") | BZ49: =IF(COUNTIF($C4,BZ27),"1","") | CA49: =IF(COUNTIF($C4,CA27),"1","") | ... CI49: =IF(COUNTIF($C4,CI27),"1","") | CK49: =IF(COUNTIF($C4,CK27),"1","") | CL49: =IF(COUNTIF($C4,CL27),"1","") | CM49: =IF(COUNTIF($C4,CM27),"1","") | CN49: =IF(COUNTIF($C4,CN27),"1","") | CO49: =IF(COUNTIF($C4,CO27),"1","") | CP49: =IF(COUNTIF($C4,CP27),"1","") | CQ49: =IF(COUNTIF($C4,CQ27),"1","") | CR49: =IF(COUNTIF($C4,CR27),"1","") | ... CZ49: =IF(COUNTIF($C4,CZ27),"1","")
BB50: 4 | BC50: =IF(COUNTIF($C5,BC28),"1","") | BD50: =IF(COUNTIF($C5,BD28),"1","") | BE50: =IF(COUNTIF($C5,BE28),"1","") -> 1 | BF50: =IF(COUNTIF($C5,BF28),"1","") | BG50: =IF(COUNTIF($C5,BG28),"1","") | BH50: =IF(COUNTIF($C5,BH28),"1","") | BI50: =IF(COUNTIF($C5,BI28),"1","") | BJ50: =IF(COUNTIF($C5,BJ28),"1","") | ... BR50: =IF(COUNTIF($C5,BR28),"1","") | BT50: =IF(COUNTIF($C5,BT28),"1","") | BU50: =IF(COUNTIF($C5,BU28),"1","") | BV50: =IF(COUNTIF($C5,BV28),"1","") | BW50: =IF(COUNTIF($C5,BW28),"1","") | BX50: =IF(COUNTIF($C5,BX28),"1","") | BY50: =IF(COUNTIF($C5,BY28),"1","") | BZ50: =IF(COUNTIF($C5,BZ28),"1","") | CA50: =IF(COUNTIF($C5,CA28),"1","") | ... CI50: =IF(COUNTIF($C5,CI28),"1","") | CK50: =IF(COUNTIF($C5,CK28),"1","") | CL50: =IF(COUNTIF($C5,CL28),"1","") | CM50: =IF(COUNTIF($C5,CM28),"1","") -> 1 | CN50: =IF(COUNTIF($C5,CN28),"1","") | CO50: =IF(COUNTIF($C5,CO28),"1","") | CP50: =IF(COUNTIF($C5,CP28),"1","") | CQ50: =IF(COUNTIF($C5,CQ28),"1","") | CR50: =IF(COUNTIF($C5,CR28),"1","") | ... CZ50: =IF(COUNTIF($C5,CZ28),"1","")
BB51: 5 | BC51: =IF(COUNTIF($C6,BC29),"1","") | BD51: =IF(COUNTIF($C6,BD29),"1","") | BE51: =IF(COUNTIF($C6,BE29),"1","") | BF51: =IF(COUNTIF($C6,BF29),"1","") | BG51: =IF(COUNTIF($C6,BG29),"1","") | BH51: =IF(COUNTIF($C6,BH29),"1","") | BI51: =IF(COUNTIF($C6,BI29),"1","") | BJ51: =IF(COUNTIF($C6,BJ29),"1","") | ... BR51: =IF(COUNTIF($C6,BR29),"1","") | BT51: =IF(COUNTIF($C6,BT29),"1","") | BU51: =IF(COUNTIF($C6,BU29),"1","") | BV51: =IF(COUNTIF($C6,BV29),"1","") | BW51: =IF(COUNTIF($C6,BW29),"1","") | BX51: =IF(COUNTIF($C6,BX29),"1","") | BY51: =IF(COUNTIF($C6,BY29),"1","") | BZ51: =IF(COUNTIF($C6,BZ29),"1","") -> 1 | CA51: =IF(COUNTIF($C6,CA29),"1","") | ... CI51: =IF(COUNTIF($C6,CI29),"1","") | CK51: =IF(COUNTIF($C6,CK29),"1","") | CL51: =IF(COUNTIF($C6,CL29),"1","") | CM51: =IF(COUNTIF($C6,CM29),"1","") | CN51: =IF(COUNTIF($C6,CN29),"1","") | CO51: =IF(COUNTIF($C6,CO29),"1","") | CP51: =IF(COUNTIF($C6,CP29),"1","") | CQ51: =IF(COUNTIF($C6,CQ29),"1","") | CR51: =IF(COUNTIF($C6,CR29),"1","") | ... CZ51: =IF(COUNTIF($C6,CZ29),"1","")
BB52: 6 | BC52: =IF(COUNTIF($C7,BC30),"1","") | BD52: =IF(COUNTIF($C7,BD30),"1","") | BE52: =IF(COUNTIF($C7,BE30),"1","") | BF52: =IF(COUNTIF($C7,BF30),"1","") | BG52: =IF(COUNTIF($C7,BG30),"1","") | BH52: =IF(COUNTIF($C7,BH30),"1","") | BI52: =IF(COUNTIF($C7,BI30),"1","") | BJ52: =IF(COUNTIF($C7,BJ30),"1","") | ... BR52: =IF(COUNTIF($C7,BR30),"1","") | BT52: =IF(COUNTIF($C7,BT30),"1","") | BU52: =IF(COUNTIF($C7,BU30),"1","") | BV52: =IF(COUNTIF($C7,BV30),"1","") | BW52: =IF(COUNTIF($C7,BW30),"1","") | BX52: =IF(COUNTIF($C7,BX30),"1","") | BY52: =IF(COUNTIF($C7,BY30),"1","") | BZ52: =IF(COUNTIF($C7,BZ30),"1","") | CA52: =IF(COUNTIF($C7,CA30),"1","") | ... CI52: =IF(COUNTIF($C7,CI30),"1","") | CK52: =IF(COUNTIF($C7,CK30),"1","") | CL52: =IF(COUNTIF($C7,CL30),"1","") -> 1 | CM52: =IF(COUNTIF($C7,CM30),"1","") | CN52: =IF(COUNTIF($C7,CN30),"1","") | CO52: =IF(COUNTIF($C7,CO30),"1","") | CP52: =IF(COUNTIF($C7,CP30),"1","") | CQ52: =IF(COUNTIF($C7,CQ30),"1","") | CR52: =IF(COUNTIF($C7,CR30),"1","") | ... CZ52: =IF(COUNTIF($C7,CZ30),"1","")
BB53: 7 | BC53: =IF(COUNTIF($C8,BC31),"1","") | BD53: =IF(COUNTIF($C8,BD31),"1","") | BE53: =IF(COUNTIF($C8,BE31),"1","") | BF53: =IF(COUNTIF($C8,BF31),"1","") | BG53: =IF(COUNTIF($C8,BG31),"1","") | BH53: =IF(COUNTIF($C8,BH31),"1","") | BI53: =IF(COUNTIF($C8,BI31),"1","") | BJ53: =IF(COUNTIF($C8,BJ31),"1","") | ... BR53: =IF(COUNTIF($C8,BR31),"1","") | BT53: =IF(COUNTIF($C8,BT31),"1","") | BU53: =IF(COUNTIF($C8,BU31),"1","") -> 1 | BV53: =IF(COUNTIF($C8,BV31),"1","") | BW53: =IF(COUNTIF($C8,BW31),"1","") | BX53: =IF(COUNTIF($C8,BX31),"1","") | BY53: =IF(COUNTIF($C8,BY31),"1","") | BZ53: =IF(COUNTIF($C8,BZ31),"1","") | CA53: =IF(COUNTIF($C8,CA31),"1","") | ... CI53: =IF(COUNTIF($C8,CI31),"1","") | CK53: =IF(COUNTIF($C8,CK31),"1","") | CL53: =IF(COUNTIF($C8,CL31),"1","") | CM53: =IF(COUNTIF($C8,CM31),"1","") | CN53: =IF(COUNTIF($C8,CN31),"1","") | CO53: =IF(COUNTIF($C8,CO31),"1","") -> 1 | CP53: =IF(COUNTIF($C8,CP31),"1","") | CQ53: =IF(COUNTIF($C8,CQ31),"1","") | CR53: =IF(COUNTIF($C8,CR31),"1","") | ... CZ53: =IF(COUNTIF($C8,CZ31),"1","")
BB54: 8 | BC54: =IF(COUNTIF($C9,BC32),"1","") | BD54: =IF(COUNTIF($C9,BD32),"1","") | BE54: =IF(COUNTIF($C9,BE32),"1","") | BF54: =IF(COUNTIF($C9,BF32),"1","") | BG54: =IF(COUNTIF($C9,BG32),"1","") | BH54: =IF(COUNTIF($C9,BH32),"1","") | BI54: =IF(COUNTIF($C9,BI32),"1","") | BJ54: =IF(COUNTIF($C9,BJ32),"1","") | ... BR54: =IF(COUNTIF($C9,BR32),"1","") | BT54: =IF(COUNTIF($C9,BT32),"1","") | BU54: =IF(COUNTIF($C9,BU32),"1","") | BV54: =IF(COUNTIF($C9,BV32),"1","") -> 1 | BW54: =IF(COUNTIF($C9,BW32),"1","") | BX54: =IF(COUNTIF($C9,BX32),"1","") | BY54: =IF(COUNTIF($C9,BY32),"1","") | BZ54: =IF(COUNTIF($C9,BZ32),"1","") | CA54: =IF(COUNTIF($C9,CA32),"1","") | ... CI54: =IF(COUNTIF($C9,CI32),"1","") | CK54: =IF(COUNTIF($C9,CK32),"1","") | CL54: =IF(COUNTIF($C9,CL32),"1","") | CM54: =IF(COUNTIF($C9,CM32),"1","") | CN54: =IF(COUNTIF($C9,CN32),"1","") -> 1 | CO54: =IF(COUNTIF($C9,CO32),"1","") | CP54: =IF(COUNTIF($C9,CP32),"1","") | CQ54: =IF(COUNTIF($C9,CQ32),"1","") | CR54: =IF(COUNTIF($C9,CR32),"1","") | ... CZ54: =IF(COUNTIF($C9,CZ32),"1","")
BB55: 9 | BC55: =IF(COUNTIF($C10,BC33),"1","") | BD55: =IF(COUNTIF($C10,BD33),"1","") | BE55: =IF(COUNTIF($C10,BE33),"1","") | BF55: =IF(COUNTIF($C10,BF33),"1","") | BG55: =IF(COUNTIF($C10,BG33),"1","") -> 1 | BH55: =IF(COUNTIF($C10,BH33),"1","") | BI55: =IF(COUNTIF($C10,BI33),"1","") | BJ55: =IF(COUNTIF($C10,BJ33),"1","") | ... BR55: =IF(COUNTIF($C10,BR33),"1","") | BT55: =IF(COUNTIF($C10,BT33),"1","") -> 1 | BU55: =IF(COUNTIF($C10,BU33),"1","") | BV55: =IF(COUNTIF($C10,BV33),"1","") | BW55: =IF(COUNTIF($C10,BW33),"1","") | BX55: =IF(COUNTIF($C10,BX33),"1","") | BY55: =IF(COUNTIF($C10,BY33),"1","") | BZ55: =IF(COUNTIF($C10,BZ33),"1","") | CA55: =IF(COUNTIF($C10,CA33),"1","") | ... CI55: =IF(COUNTIF($C10,CI33),"1","") | CK55: =IF(COUNTIF($C10,CK33),"1","") | CL55: =IF(COUNTIF($C10,CL33),"1","") | CM55: =IF(COUNTIF($C10,CM33),"1","") | CN55: =IF(COUNTIF($C10,CN33),"1","") | CO55: =IF(COUNTIF($C10,CO33),"1","") | CP55: =IF(COUNTIF($C10,CP33),"1","") | CQ55: =IF(COUNTIF($C10,CQ33),"1","") | CR55: =IF(COUNTIF($C10,CR33),"1","") | ... CZ55: =IF(COUNTIF($C10,CZ33),"1","")
BB56: 10 | BC56: =IF(COUNTIF($C11,BC34),"1","") | BD56: =IF(COUNTIF($C11,BD34),"1","") | BE56: =IF(COUNTIF($C11,BE34),"1","") | BF56: =IF(COUNTIF($C11,BF34),"1","") | BG56: =IF(COUNTIF($C11,BG34),"1","") | BH56: =IF(COUNTIF($C11,BH34),"1","") | BI56: =IF(COUNTIF($C11,BI34),"1","") | BJ56: =IF(COUNTIF($C11,BJ34),"1","") | ... BR56: =IF(COUNTIF($C11,BR34),"1","") | BT56: =IF(COUNTIF($C11,BT34),"1","") | BU56: =IF(COUNTIF($C11,BU34),"1","") | BV56: =IF(COUNTIF($C11,BV34),"1","") | BW56: =IF(COUNTIF($C11,BW34),"1","") | BX56: =IF(COUNTIF($C11,BX34),"1","") | BY56: =IF(COUNTIF($C11,BY34),"1","") | BZ56: =IF(COUNTIF($C11,BZ34),"1","") -> 1 | CA56: =IF(COUNTIF($C11,CA34),"1","") | ... CI56: =IF(COUNTIF($C11,CI34),"1","") | CK56: =IF(COUNTIF($C11,CK34),"1","") | CL56: =IF(COUNTIF($C11,CL34),"1","") | CM56: =IF(COUNTIF($C11,CM34),"1","") | CN56: =IF(COUNTIF($C11,CN34),"1","") | CO56: =IF(COUNTIF($C11,CO34),"1","") | CP56: =IF(COUNTIF($C11,CP34),"1","") | CQ56: =IF(COUNTIF($C11,CQ34),"1","") | CR56: =IF(COUNTIF($C11,CR34),"1","") | ... CZ56: =IF(COUNTIF($C11,CZ34),"1","")
BB57: 11 | BC57: =IF(COUNTIF($C12,BC35),"1","") | BD57: =IF(COUNTIF($C12,BD35),"1","") | BE57: =IF(COUNTIF($C12,BE35),"1","") | BF57: =IF(COUNTIF($C12,BF35),"1","") | BG57: =IF(COUNTIF($C12,BG35),"1","") -> 1 | BH57: =IF(COUNTIF($C12,BH35),"1","") | BI57: =IF(COUNTIF($C12,BI35),"1","") | BJ57: =IF(COUNTIF($C12,BJ35),"1","") | ... BR57: =IF(COUNTIF($C12,BR35),"1","") | BT57: =IF(COUNTIF($C12,BT35),"1","") | BU57: =IF(COUNTIF($C12,BU35),"1","") | BV57: =IF(COUNTIF($C12,BV35),"1","") -> 1 | BW57: =IF(COUNTIF($C12,BW35),"1","") | BX57: =IF(COUNTIF($C12,BX35),"1","") | BY57: =IF(COUNTIF($C12,BY35),"1","") | BZ57: =IF(COUNTIF($C12,BZ35),"1","") | CA57: =IF(COUNTIF($C12,CA35),"1","") | ... CI57: =IF(COUNTIF($C12,CI35),"1","") | CK57: =IF(COUNTIF($C12,CK35),"1","") | CL57: =IF(COUNTIF($C12,CL35),"1","") | CM57: =IF(COUNTIF($C12,CM35),"1","") | CN57: =IF(COUNTIF($C12,CN35),"1","") | CO57: =IF(COUNTIF($C12,CO35),"1","") | CP57: =IF(COUNTIF($C12,CP35),"1","") | CQ57: =IF(COUNTIF($C12,CQ35),"1","") | CR57: =IF(COUNTIF($C12,CR35),"1","") | ... CZ57: =IF(COUNTIF($C12,CZ35),"1","")
BB58: 12 | BC58: =IF(COUNTIF($C13,BC36),"1","") | BD58: =IF(COUNTIF($C13,BD36),"1","") | BE58: =IF(COUNTIF($C13,BE36),"1","") | BF58: =IF(COUNTIF($C13,BF36),"1","") | BG58: =IF(COUNTIF($C13,BG36),"1","") | BH58: =IF(COUNTIF($C13,BH36),"1","") -> 1 | BI58: =IF(COUNTIF($C13,BI36),"1","") | BJ58: =IF(COUNTIF($C13,BJ36),"1","") | ... BR58: =IF(COUNTIF($C13,BR36),"1","") | BT58: =IF(COUNTIF($C13,BT36),"1","") | BU58: =IF(COUNTIF($C13,BU36),"1","") | BV58: =IF(COUNTIF($C13,BV36),"1","") | BW58: =IF(COUNTIF($C13,BW36),"1","") | BX58: =IF(COUNTIF($C13,BX36),"1","") | BY58: =IF(COUNTIF($C13,BY36),"1","") | BZ58: =IF(COUNTIF($C13,BZ36),"1","") | CA58: =IF(COUNTIF($C13,CA36),"1","") | ... CI58: =IF(COUNTIF($C13,CI36),"1","") | CK58: =IF(COUNTIF($C13,CK36),"1","") | CL58: =IF(COUNTIF($C13,CL36),"1","") | CM58: =IF(COUNTIF($C13,CM36),"1","") | CN58: =IF(COUNTIF($C13,CN36),"1","") | CO58: =IF(COUNTIF($C13,CO36),"1","") | CP58: =IF(COUNTIF($C13,CP36),"1","") -> 1 | CQ58: =IF(COUNTIF($C13,CQ36),"1","") | CR58: =IF(COUNTIF($C13,CR36),"1","") | ... CZ58: =IF(COUNTIF($C13,CZ36),"1","")
BB59: 13 | BC59: =IF(COUNTIF($C14,BC37),"1","") | BD59: =IF(COUNTIF($C14,BD37),"1","") | BE59: =IF(COUNTIF($C14,BE37),"1","") | BF59: =IF(COUNTIF($C14,BF37),"1","") | BG59: =IF(COUNTIF($C14,BG37),"1","") -> 1 | BH59: =IF(COUNTIF($C14,BH37),"1","") | BI59: =IF(COUNTIF($C14,BI37),"1","") | BJ59: =IF(COUNTIF($C14,BJ37),"1","") | ... BR59: =IF(COUNTIF($C14,BR37),"1","") | BT59: =IF(COUNTIF($C14,BT37),"1","") | BU59: =IF(COUNTIF($C14,BU37),"1","") | BV59: =IF(COUNTIF($C14,BV37),"1","") | BW59: =IF(COUNTIF($C14,BW37),"1","") | BX59: =IF(COUNTIF($C14,BX37),"1","") | BY59: =IF(COUNTIF($C14,BY37),"1","") | BZ59: =IF(COUNTIF($C14,BZ37),"1","") -> 1 | CA59: =IF(COUNTIF($C14,CA37),"1","") | ... CI59: =IF(COUNTIF($C14,CI37),"1","") | CK59: =IF(COUNTIF($C14,CK37),"1","") | CL59: =IF(COUNTIF($C14,CL37),"1","") | CM59: =IF(COUNTIF($C14,CM37),"1","") | CN59: =IF(COUNTIF($C14,CN37),"1","") | CO59: =IF(COUNTIF($C14,CO37),"1","") | CP59: =IF(COUNTIF($C14,CP37),"1","") | CQ59: =IF(COUNTIF($C14,CQ37),"1","") | CR59: =IF(COUNTIF($C14,CR37),"1","") | ... CZ59: =IF(COUNTIF($C14,CZ37),"1","")
... BB66: 20 | BC66: =IF(COUNTIF($C21,BC44),"1","") | BD66: =IF(COUNTIF($C21,BD44),"1","") | BE66: =IF(COUNTIF($C21,BE44),"1","") | BF66: =IF(COUNTIF($C21,BF44),"1","") | BG66: =IF(COUNTIF($C21,BG44),"1","") | BH66: =IF(COUNTIF($C21,BH44),"1","") | BI66: =IF(COUNTIF($C21,BI44),"1","") | BJ66: =IF(COUNTIF($C21,BJ44),"1","") | ... BR66: =IF(COUNTIF($C21,BR44),"1","") | BT66: =IF(COUNTIF($C21,BT44),"1","") | BU66: =IF(COUNTIF($C21,BU44),"1","") | BV66: =IF(COUNTIF($C21,BV44),"1","") -> 1 | BW66: =IF(COUNTIF($C21,BW44),"1","") | BX66: =IF(COUNTIF($C21,BX44),"1","") | BY66: =IF(COUNTIF($C21,BY44),"1","") | BZ66: =IF(COUNTIF($C21,BZ44),"1","") | CA66: =IF(COUNTIF($C21,CA44),"1","") | ... CI66: =IF(COUNTIF($C21,CI44),"1","") | CK66: =IF(COUNTIF($C21,CK44),"1","") | CL66: =IF(COUNTIF($C21,CL44),"1","") | CM66: =IF(COUNTIF($C21,CM44),"1","") | CN66: =IF(COUNTIF($C21,CN44),"1","") | CO66: =IF(COUNTIF($C21,CO44),"1","") | CP66: =IF(COUNTIF($C21,CP44),"1","") | CQ66: =IF(COUNTIF($C21,CQ44),"1","") | CR66: =IF(COUNTIF($C21,CR44),"1","") | ... CZ66: =IF(COUNTIF($C21,CZ44),"1","")
BC67: =COUNTIF(BC47:BC66,"1") -> 0 | BD67: =COUNTIF(BD47:BD66,"1") -> 0 | BE67: =COUNTIF(BE47:BE66,"1") -> 4 | BF67: =COUNTIF(BF47:BF66,"1") -> 0 | BG67: =COUNTIF(BG47:BG66,"1") -> 3 | BH67: =COUNTIF(BH47:BH66,"1") -> 1 | BI67: =COUNTIF(BI47:BI66,"1") -> 1 | BJ67: =COUNTIF(BJ47:BJ66,"1") -> 0 | ... BR67: =COUNTIF(BR47:BR66,"1") -> 1 | BT67: =COUNTIF(BT47:BT66,"1") -> 1 | BU67: =COUNTIF(BU47:BU66,"1") -> 2 | BV67: =COUNTIF(BV47:BV66,"1") -> 4 | BW67: =COUNTIF(BW47:BW66,"1") -> 0 | BX67: =COUNTIF(BX47:BX66,"1") -> 1 | BY67: =COUNTIF(BY47:BY66,"1") -> 1 | BZ67: =COUNTIF(BZ47:BZ66,"1") -> 3 | CA67: =COUNTIF(CA47:CA66,"1") -> 0 | ... CI67: =COUNTIF(CI47:CI66,"1") -> 0 | CK67: =COUNTIF(CK47:CK66,"1") -> 0 | CL67: =COUNTIF(CL47:CL66,"1") -> 2 | CM67: =COUNTIF(CM47:CM66,"1") -> 1 | CN67: =COUNTIF(CN47:CN66,"1") -> 2 | CO67: =COUNTIF(CO47:CO66,"1") -> 1 | CP67: =COUNTIF(CP47:CP66,"1") -> 2 | CQ67: =COUNTIF(CQ47:CQ66,"1") -> 0 | CR67: =COUNTIF(CR47:CR66,"1") -> 1 | ... CZ67: =COUNTIF(CZ47:CZ66,"1") -> 0
BC68: =IF(COUNTIF(BC$67,">=1"),BC26,"") | BD68: =IF(COUNTIF(BD$67,">=1"),BD26,"") | BE68: =IF(COUNTIF(BE$67,">=1"),BE26,"") -> 15 | BF68: =IF(COUNTIF(BF$67,">=1"),BF26,"") | BG68: =IF(COUNTIF(BG$67,">=1"),BG26,"") -> 11 | BH68: =IF(COUNTIF(BH$67,">=1"),BH26,"") -> 04 | BI68: =IF(COUNTIF(BI$67,">=1"),BI26,"") -> 03 | BJ68: =IF(COUNTIF(BJ$67,">=1"),BJ26,"") | ... BR68: =IF(COUNTIF(BR$67,">=1"),BR26,"") -> 2 | BT68: =IF(COUNTIF(BT$67,">=1"),BT26,"") -> 13 | BU68: =IF(COUNTIF(BU$67,">=1"),BU26,"") -> 08 | BV68: =IF(COUNTIF(BV$67,">=1"),BV26,"") -> 15 | BW68: =IF(COUNTIF(BW$67,">=1"),BW26,"") | BX68: =IF(COUNTIF(BX$67,">=1"),BX26,"") -> 10 | BY68: =IF(COUNTIF(BY$67,">=1"),BY26,"") -> 09 | BZ68: =IF(COUNTIF(BZ$67,">=1"),BZ26,"") -> 07 | CA68: =IF(COUNTIF(CA$67,">=1"),CA26,"") | ... CI68: =IF(COUNTIF(CI$67,">=1"),CI26,"") | CK68: =IF(COUNTIF(CK$67,">=1"),CK26,"") | CL68: =IF(COUNTIF(CL$67,">=1"),CL26,"") -> 15 | CM68: =IF(COUNTIF(CM$67,">=1"),CM26,"") -> 14 | CN68: =IF(COUNTIF(CN$67,">=1"),CN26,"") -> 13 | CO68: =IF(COUNTIF(CO$67,">=1"),CO26,"") -> 12 | CP68: =IF(COUNTIF(CP$67,">=1"),CP26,"") -> 11 | CQ68: =IF(COUNTIF(CQ$67,">=1"),CQ26,"") | CR68: =IF(COUNTIF(CR$67,">=1"),CR26,"") -> 9 | ... CZ68: =IF(COUNTIF(CZ$67,">=1"),CZ26,"")
BC69: =IF(COUNTIF(BC$67,">=1"),BC27,"") | BD69: =IF(COUNTIF(BD$67,">=1"),BD27,"") | BE69: =IF(COUNTIF(BE$67,">=1"),BE27,"") -> 08 | BF69: =IF(COUNTIF(BF$67,">=1"),BF27,"") | BG69: =IF(COUNTIF(BG$67,">=1"),BG27,"") -> 11 | BH69: =IF(COUNTIF(BH$67,">=1"),BH27,"") -> 09 | BI69: =IF(COUNTIF(BI$67,">=1"),BI27,"") -> 02 | BJ69: =IF(COUNTIF(BJ$67,">=1"),BJ27,"") | ... BR69: =IF(COUNTIF(BR$67,">=1"),BR27,"") -> 1 | BT69: =IF(COUNTIF(BT$67,">=1"),BT27,"") -> 02 | BU69: =IF(COUNTIF(BU$67,">=1"),BU27,"") -> 16 | BV69: =IF(COUNTIF(BV$67,">=1"),BV27,"") -> 15 | BW69: =IF(COUNTIF(BW$67,">=1"),BW27,"") | BX69: =IF(COUNTIF(BX$67,">=1"),BX27,"") -> 09 | BY69: =IF(COUNTIF(BY$67,">=1"),BY27,"") -> 08 | BZ69: =IF(COUNTIF(BZ$67,">=1"),BZ27,"") -> 04 | CA69: =IF(COUNTIF(CA$67,">=1"),CA27,"") | ... CI69: =IF(COUNTIF(CI$67,">=1"),CI27,"") | CK69: =IF(COUNTIF(CK$67,">=1"),CK27,"") | CL69: =IF(COUNTIF(CL$67,">=1"),CL27,"") -> 15 | CM69: =IF(COUNTIF(CM$67,">=1"),CM27,"") -> 14 | CN69: =IF(COUNTIF(CN$67,">=1"),CN27,"") -> 13 | CO69: =IF(COUNTIF(CO$67,">=1"),CO27,"") -> 12 | CP69: =IF(COUNTIF(CP$67,">=1"),CP27,"") -> 11 | CQ69: =IF(COUNTIF(CQ$67,">=1"),CQ27,"") | CR69: =IF(COUNTIF(CR$67,">=1"),CR27,"") -> 9 | ... CZ69: =IF(COUNTIF(CZ$67,">=1"),CZ27,"")
BC70: =IF(COUNTIF(BC$67,">=1"),BC28,"") | BD70: =IF(COUNTIF(BD$67,">=1"),BD28,"") | BE70: =IF(COUNTIF(BE$67,">=1"),BE28,"") -> 14 | BF70: =IF(COUNTIF(BF$67,">=1"),BF28,"") | BG70: =IF(COUNTIF(BG$67,">=1"),BG28,"") -> 11 | BH70: =IF(COUNTIF(BH$67,">=1"),BH28,"") -> 09 | BI70: =IF(COUNTIF(BI$67,">=1"),BI28,"") -> 06 | BJ70: =IF(COUNTIF(BJ$67,">=1"),BJ28,"") | ... BR70: =IF(COUNTIF(BR$67,">=1"),BR28,"") -> 1 | BT70: =IF(COUNTIF(BT$67,">=1"),BT28,"") -> 16 | BU70: =IF(COUNTIF(BU$67,">=1"),BU28,"") -> 15 | BV70: =IF(COUNTIF(BV$67,">=1"),BV28,"") -> 13 | BW70: =IF(COUNTIF(BW$67,">=1"),BW28,"") | BX70: =IF(COUNTIF(BX$67,">=1"),BX28,"") -> 11 | BY70: =IF(COUNTIF(BY$67,">=1"),BY28,"") -> 09 | BZ70: =IF(COUNTIF(BZ$67,">=1"),BZ28,"") -> 06 | CA70: =IF(COUNTIF(CA$67,">=1"),CA28,"") | ... CI70: =IF(COUNTIF(CI$67,">=1"),CI28,"") | CK70: =IF(COUNTIF(CK$67,">=1"),CK28,"") | CL70: =IF(COUNTIF(CL$67,">=1"),CL28,"") -> 15 | CM70: =IF(COUNTIF(CM$67,">=1"),CM28,"") -> 14 | CN70: =IF(COUNTIF(CN$67,">=1"),CN28,"") -> 13 | CO70: =IF(COUNTIF(CO$67,">=1"),CO28,"") -> 12 | CP70: =IF(COUNTIF(CP$67,">=1"),CP28,"") -> 11 | CQ70: =IF(COUNTIF(CQ$67,">=1"),CQ28,"") | CR70: =IF(COUNTIF(CR$67,">=1"),CR28,"") -> 9 | ... CZ70: =IF(COUNTIF(CZ$67,">=1"),CZ28,"")
BC71: =IF(COUNTIF(BC$67,">=1"),BC29,"") | BD71: =IF(COUNTIF(BD$67,">=1"),BD29,"") | BE71: =IF(COUNTIF(BE$67,">=1"),BE29,"") -> 14 | BF71: =IF(COUNTIF(BF$67,">=1"),BF29,"") | BG71: =IF(COUNTIF(BG$67,">=1"),BG29,"") -> 03 | BH71: =IF(COUNTIF(BH$67,">=1"),BH29,"") -> 01 | BI71: =IF(COUNTIF(BI$67,">=1"),BI29,"") -> 15 | BJ71: =IF(COUNTIF(BJ$67,">=1"),BJ29,"") | ... BR71: =IF(COUNTIF(BR$67,">=1"),BR29,"") -> 2 | BT71: =IF(COUNTIF(BT$67,">=1"),BT29,"") -> 16 | BU71: =IF(COUNTIF(BU$67,">=1"),BU29,"") -> 15 | BV71: =IF(COUNTIF(BV$67,">=1"),BV29,"") -> 14 | BW71: =IF(COUNTIF(BW$67,">=1"),BW29,"") | BX71: =IF(COUNTIF(BX$67,">=1"),BX29,"") -> 09 | BY71: =IF(COUNTIF(BY$67,">=1"),BY29,"") -> 07 | BZ71: =IF(COUNTIF(BZ$67,">=1"),BZ29,"") -> 06 | CA71: =IF(COUNTIF(CA$67,">=1"),CA29,"") | ... CI71: =IF(COUNTIF(CI$67,">=1"),CI29,"") | CK71: =IF(COUNTIF(CK$67,">=1"),CK29,"") | CL71: =IF(COUNTIF(CL$67,">=1"),CL29,"") -> 15 | CM71: =IF(COUNTIF(CM$67,">=1"),CM29,"") -> 14 | CN71: =IF(COUNTIF(CN$67,">=1"),CN29,"") -> 13 | CO71: =IF(COUNTIF(CO$67,">=1"),CO29,"") -> 12 | CP71: =IF(COUNTIF(CP$67,">=1"),CP29,"") -> 11 | CQ71: =IF(COUNTIF(CQ$67,">=1"),CQ29,"") | CR71: =IF(COUNTIF(CR$67,">=1"),CR29,"") -> 9 | ... CZ71: =IF(COUNTIF(CZ$67,">=1"),CZ29,"")
BC72: =IF(COUNTIF(BC$67,">=1"),BC30,"") | BD72: =IF(COUNTIF(BD$67,">=1"),BD30,"") | BE72: =IF(COUNTIF(BE$67,">=1"),BE30,"") -> 14 | BF72: =IF(COUNTIF(BF$67,">=1"),BF30,"") | BG72: =IF(COUNTIF(BG$67,">=1"),BG30,"") -> 08 | BH72: =IF(COUNTIF(BH$67,">=1"),BH30,"") -> 05 | BI72: =IF(COUNTIF(BI$67,">=1"),BI30,"") -> 03 | BJ72: =IF(COUNTIF(BJ$67,">=1"),BJ30,"") | ... BR72: =IF(COUNTIF(BR$67,">=1"),BR30,"") -> 2 | BT72: =IF(COUNTIF(BT$67,">=1"),BT30,"") -> 09 | BU72: =IF(COUNTIF(BU$67,">=1"),BU30,"") -> 16 | BV72: =IF(COUNTIF(BV$67,">=1"),BV30,"") -> 14 | BW72: =IF(COUNTIF(BW$67,">=1"),BW30,"") | BX72: =IF(COUNTIF(BX$67,">=1"),BX30,"") -> 07 | BY72: =IF(COUNTIF(BY$67,">=1"),BY30,"") -> 06 | BZ72: =IF(COUNTIF(BZ$67,">=1"),BZ30,"") -> 03 | CA72: =IF(COUNTIF(CA$67,">=1"),CA30,"") | ... CI72: =IF(COUNTIF(CI$67,">=1"),CI30,"") | CK72: =IF(COUNTIF(CK$67,">=1"),CK30,"") | CL72: =IF(COUNTIF(CL$67,">=1"),CL30,"") -> 15 | CM72: =IF(COUNTIF(CM$67,">=1"),CM30,"") -> 14 | CN72: =IF(COUNTIF(CN$67,">=1"),CN30,"") -> 13 | CO72: =IF(COUNTIF(CO$67,">=1"),CO30,"") -> 12 | CP72: =IF(COUNTIF(CP$67,">=1"),CP30,"") -> 11 | CQ72: =IF(COUNTIF(CQ$67,">=1"),CQ30,"") | CR72: =IF(COUNTIF(CR$67,">=1"),CR30,"") -> 9 | ... CZ72: =IF(COUNTIF(CZ$67,">=1"),CZ30,"")
BC73: =IF(COUNTIF(BC$67,">=1"),BC31,"") | BD73: =IF(COUNTIF(BD$67,">=1"),BD31,"") | BE73: =IF(COUNTIF(BE$67,">=1"),BE31,"") -> 05 | BF73: =IF(COUNTIF(BF$67,">=1"),BF31,"") | BG73: =IF(COUNTIF(BG$67,">=1"),BG31,"") -> 06 | BH73: =IF(COUNTIF(BH$67,">=1"),BH31,"") -> 03 | BI73: =IF(COUNTIF(BI$67,">=1"),BI31,"") -> 01 | BJ73: =IF(COUNTIF(BJ$67,">=1"),BJ31,"") | ... BR73: =IF(COUNTIF(BR$67,">=1"),BR31,"") -> 2 | BT73: =IF(COUNTIF(BT$67,">=1"),BT31,"") -> 13 | BU73: =IF(COUNTIF(BU$67,">=1"),BU31,"") -> 12 | BV73: =IF(COUNTIF(BV$67,">=1"),BV31,"") -> 06 | BW73: =IF(COUNTIF(BW$67,">=1"),BW31,"") | BX73: =IF(COUNTIF(BX$67,">=1"),BX31,"") -> 04 | BY73: =IF(COUNTIF(BY$67,">=1"),BY31,"") -> 03 | BZ73: =IF(COUNTIF(BZ$67,">=1"),BZ31,"") -> 01 | CA73: =IF(COUNTIF(CA$67,">=1"),CA31,"") | ... CI73: =IF(COUNTIF(CI$67,">=1"),CI31,"") | CK73: =IF(COUNTIF(CK$67,">=1"),CK31,"") | CL73: =IF(COUNTIF(CL$67,">=1"),CL31,"") -> 15 | CM73: =IF(COUNTIF(CM$67,">=1"),CM31,"") -> 14 | CN73: =IF(COUNTIF(CN$67,">=1"),CN31,"") -> 13 | CO73: =IF(COUNTIF(CO$67,">=1"),CO31,"") -> 12 | CP73: =IF(COUNTIF(CP$67,">=1"),CP31,"") -> 11 | CQ73: =IF(COUNTIF(CQ$67,">=1"),CQ31,"") | CR73: =IF(COUNTIF(CR$67,">=1"),CR31,"") -> 9 | ... CZ73: =IF(COUNTIF(CZ$67,">=1"),CZ31,"")
BC74: =IF(COUNTIF(BC$67,">=1"),BC32,"") | BD74: =IF(COUNTIF(BD$67,">=1"),BD32,"") | BE74: =IF(COUNTIF(BE$67,">=1"),BE32,"") -> 14 | BF74: =IF(COUNTIF(BF$67,">=1"),BF32,"") | BG74: =IF(COUNTIF(BG$67,">=1"),BG32,"") -> 08 | BH74: =IF(COUNTIF(BH$67,">=1"),BH32,"") -> 05 | BI74: =IF(COUNTIF(BI$67,">=1"),BI32,"") -> 02 | BJ74: =IF(COUNTIF(BJ$67,">=1"),BJ32,"") | ... BR74: =IF(COUNTIF(BR$67,">=1"),BR32,"") -> 3 | BT74: =IF(COUNTIF(BT$67,">=1"),BT32,"") -> 11 | BU74: =IF(COUNTIF(BU$67,">=1"),BU32,"") -> 16 | BV74: =IF(COUNTIF(BV$67,">=1"),BV32,"") -> 13 | BW74: =IF(COUNTIF(BW$67,">=1"),BW32,"") | BX74: =IF(COUNTIF(BX$67,">=1"),BX32,"") -> 09 | BY74: =IF(COUNTIF(BY$67,">=1"),BY32,"") -> 07 | BZ74: =IF(COUNTIF(BZ$67,">=1"),BZ32,"") -> 05 | CA74: =IF(COUNTIF(CA$67,">=1"),CA32,"") | ... CI74: =IF(COUNTIF(CI$67,">=1"),CI32,"") | CK74: =IF(COUNTIF(CK$67,">=1"),CK32,"") | CL74: =IF(COUNTIF(CL$67,">=1"),CL32,"") -> 15 | CM74: =IF(COUNTIF(CM$67,">=1"),CM32,"") -> 14 | CN74: =IF(COUNTIF(CN$67,">=1"),CN32,"") -> 13 | CO74: =IF(COUNTIF(CO$67,">=1"),CO32,"") -> 12 | CP74: =IF(COUNTIF(CP$67,">=1"),CP32,"") -> 11 | CQ74: =IF(COUNTIF(CQ$67,">=1"),CQ32,"") | CR74: =IF(COUNTIF(CR$67,">=1"),CR32,"") -> 9 | ... CZ74: =IF(COUNTIF(CZ$67,">=1"),CZ32,"")
BC75: =IF(COUNTIF(BC$67,">=1"),BC33,"") | BD75: =IF(COUNTIF(BD$67,">=1"),BD33,"") | BE75: =IF(COUNTIF(BE$67,">=1"),BE33,"") -> 15 | BF75: =IF(COUNTIF(BF$67,">=1"),BF33,"") | BG75: =IF(COUNTIF(BG$67,">=1"),BG33,"") -> 08 | BH75: =IF(COUNTIF(BH$67,">=1"),BH33,"") -> 02 | BI75: =IF(COUNTIF(BI$67,">=1"),BI33,"") -> 01 | BJ75: =IF(COUNTIF(BJ$67,">=1"),BJ33,"") | ... BR75: =IF(COUNTIF(BR$67,">=1"),BR33,"") -> 3 | BT75: =IF(COUNTIF(BT$67,">=1"),BT33,"") -> 08 | BU75: =IF(COUNTIF(BU$67,">=1"),BU33,"") -> 01 | BV75: =IF(COUNTIF(BV$67,">=1"),BV33,"") -> 16 | BW75: =IF(COUNTIF(BW$67,">=1"),BW33,"") | BX75: =IF(COUNTIF(BX$67,">=1"),BX33,"") -> 12 | BY75: =IF(COUNTIF(BY$67,">=1"),BY33,"") -> 10 | BZ75: =IF(COUNTIF(BZ$67,">=1"),BZ33,"") -> 06 | CA75: =IF(COUNTIF(CA$67,">=1"),CA33,"") | ... CI75: =IF(COUNTIF(CI$67,">=1"),CI33,"") | CK75: =IF(COUNTIF(CK$67,">=1"),CK33,"") | CL75: =IF(COUNTIF(CL$67,">=1"),CL33,"") -> 15 | CM75: =IF(COUNTIF(CM$67,">=1"),CM33,"") -> 14 | CN75: =IF(COUNTIF(CN$67,">=1"),CN33,"") -> 13 | CO75: =IF(COUNTIF(CO$67,">=1"),CO33,"") -> 12 | CP75: =IF(COUNTIF(CP$67,">=1"),CP33,"") -> 11 | CQ75: =IF(COUNTIF(CQ$67,">=1"),CQ33,"") | CR75: =IF(COUNTIF(CR$67,">=1"),CR33,"") -> 9 | ... CZ75: =IF(COUNTIF(CZ$67,">=1"),CZ33,"")
BC76: =IF(COUNTIF(BC$67,">=1"),BC34,"") | BD76: =IF(COUNTIF(BD$67,">=1"),BD34,"") | BE76: =IF(COUNTIF(BE$67,">=1"),BE34,"") -> 13 | BF76: =IF(COUNTIF(BF$67,">=1"),BF34,"") | BG76: =IF(COUNTIF(BG$67,">=1"),BG34,"") -> 10 | BH76: =IF(COUNTIF(BH$67,">=1"),BH34,"") -> 08 | BI76: =IF(COUNTIF(BI$67,">=1"),BI34,"") -> 05 | BJ76: =IF(COUNTIF(BJ$67,">=1"),BJ34,"") | ... BR76: =IF(COUNTIF(BR$67,">=1"),BR34,"") -> 1 | BT76: =IF(COUNTIF(BT$67,">=1"),BT34,"") -> 14 | BU76: =IF(COUNTIF(BU$67,">=1"),BU34,"") -> 02 | BV76: =IF(COUNTIF(BV$67,">=1"),BV34,"") -> 15 | BW76: =IF(COUNTIF(BW$67,">=1"),BW34,"") | BX76: =IF(COUNTIF(BX$67,">=1"),BX34,"") -> 07 | BY76: =IF(COUNTIF(BY$67,">=1"),BY34,"") -> 05 | BZ76: =IF(COUNTIF(BZ$67,">=1"),BZ34,"") -> 03 | CA76: =IF(COUNTIF(CA$67,">=1"),CA34,"") | ... CI76: =IF(COUNTIF(CI$67,">=1"),CI34,"") | CK76: =IF(COUNTIF(CK$67,">=1"),CK34,"") | CL76: =IF(COUNTIF(CL$67,">=1"),CL34,"") -> 14 | CM76: =IF(COUNTIF(CM$67,">=1"),CM34,"") -> 12 | CN76: =IF(COUNTIF(CN$67,">=1"),CN34,"") -> 11 | CO76: =IF(COUNTIF(CO$67,">=1"),CO34,"") -> 09 | CP76: =IF(COUNTIF(CP$67,">=1"),CP34,"") -> 07 | CQ76: =IF(COUNTIF(CQ$67,">=1"),CQ34,"") | CR76: =IF(COUNTIF(CR$67,">=1"),CR34,"") -> 04 | ... CZ76: =IF(COUNTIF(CZ$67,">=1"),CZ34,"")
BC77: =IF(COUNTIF(BC$67,">=1"),BC35,"") | BD77: =IF(COUNTIF(BD$67,">=1"),BD35,"") | BE77: =IF(COUNTIF(BE$67,">=1"),BE35,"") -> 15 | BF77: =IF(COUNTIF(BF$67,">=1"),BF35,"") | BG77: =IF(COUNTIF(BG$67,">=1"),BG35,"") -> 11 | BH77: =IF(COUNTIF(BH$67,">=1"),BH35,"") -> 09 | BI77: =IF(COUNTIF(BI$67,">=1"),BI35,"") -> 02 | BJ77: =IF(COUNTIF(BJ$67,">=1"),BJ35,"") | ... BR77: =IF(COUNTIF(BR$67,">=1"),BR35,"") -> 3 | BT77: =IF(COUNTIF(BT$67,">=1"),BT35,"") -> 08 | BU77: =IF(COUNTIF(BU$67,">=1"),BU35,"") -> 01 | BV77: =IF(COUNTIF(BV$67,">=1"),BV35,"") -> 11 | BW77: =IF(COUNTIF(BW$67,">=1"),BW35,"") | BX77: =IF(COUNTIF(BX$67,">=1"),BX35,"") -> 06 | BY77: =IF(COUNTIF(BY$67,">=1"),BY35,"") -> 04 | BZ77: =IF(COUNTIF(BZ$67,">=1"),BZ35,"") -> 02 | CA77: =IF(COUNTIF(CA$67,">=1"),CA35,"") | ... CI77: =IF(COUNTIF(CI$67,">=1"),CI35,"") | CK77: =IF(COUNTIF(CK$67,">=1"),CK35,"") | CL77: =IF(COUNTIF(CL$67,">=1"),CL35,"") -> 02 | CM77: =IF(COUNTIF(CM$67,">=1"),CM35,"") -> 09 | CN77: =IF(COUNTIF(CN$67,">=1"),CN35,"") -> 08 | CO77: =IF(COUNTIF(CO$67,">=1"),CO35,"") -> 07 | CP77: =IF(COUNTIF(CP$67,">=1"),CP35,"") -> 04 | CQ77: =IF(COUNTIF(CQ$67,">=1"),CQ35,"") | CR77: =IF(COUNTIF(CR$67,">=1"),CR35,"") -> 15 | ... CZ77: =IF(COUNTIF(CZ$67,">=1"),CZ35,"")
BC78: =IF(COUNTIF(BC$67,">=1"),BC36,"") | BD78: =IF(COUNTIF(BD$67,">=1"),BD36,"") | BE78: =IF(COUNTIF(BE$67,">=1"),BE36,"") -> 08 | BF78: =IF(COUNTIF(BF$67,">=1"),BF36,"") | BG78: =IF(COUNTIF(BG$67,">=1"),BG36,"") -> 09 | BH78: =IF(COUNTIF(BH$67,">=1"),BH36,"") -> 06 | BI78: =IF(COUNTIF(BI$67,">=1"),BI36,"") -> 04 | BJ78: =IF(COUNTIF(BJ$67,">=1"),BJ36,"") | ... BR78: =IF(COUNTIF(BR$67,">=1"),BR36,"") -> 1 | BT78: =IF(COUNTIF(BT$67,">=1"),BT36,"") -> 11 | BU78: =IF(COUNTIF(BU$67,">=1"),BU36,"") -> 08 | BV78: =IF(COUNTIF(BV$67,">=1"),BV36,"") -> 13 | BW78: =IF(COUNTIF(BW$67,">=1"),BW36,"") | BX78: =IF(COUNTIF(BX$67,">=1"),BX36,"") -> 09 | BY78: =IF(COUNTIF(BY$67,">=1"),BY36,"") -> 07 | BZ78: =IF(COUNTIF(BZ$67,">=1"),BZ36,"") -> 03 | CA78: =IF(COUNTIF(CA$67,">=1"),CA36,"") | ... CI78: =IF(COUNTIF(CI$67,">=1"),CI36,"") | CK78: =IF(COUNTIF(CK$67,">=1"),CK36,"") | CL78: =IF(COUNTIF(CL$67,">=1"),CL36,"") -> 05 | CM78: =IF(COUNTIF(CM$67,">=1"),CM36,"") -> 13 | CN78: =IF(COUNTIF(CN$67,">=1"),CN36,"") -> 12 | CO78: =IF(COUNTIF(CO$67,">=1"),CO36,"") -> 10 | CP78: =IF(COUNTIF(CP$67,">=1"),CP36,"") -> 06 | CQ78: =IF(COUNTIF(CQ$67,">=1"),CQ36,"") | CR78: =IF(COUNTIF(CR$67,">=1"),CR36,"") -> 16 | ... CZ78: =IF(COUNTIF(CZ$67,">=1"),CZ36,"")
BC79: =IF(COUNTIF(BC$67,">=1"),BC37,"") | BD79: =IF(COUNTIF(BD$67,">=1"),BD37,"") | BE79: =IF(COUNTIF(BE$67,">=1"),BE37,"") -> 09 | BF79: =IF(COUNTIF(BF$67,">=1"),BF37,"") | BG79: =IF(COUNTIF(BG$67,">=1"),BG37,"") -> 11 | BH79: =IF(COUNTIF(BH$67,">=1"),BH37,"") -> 10 | BI79: =IF(COUNTIF(BI$67,">=1"),BI37,"") -> 05 | BJ79: =IF(COUNTIF(BJ$67,">=1"),BJ37,"") | ... BR79: =IF(COUNTIF(BR$67,">=1"),BR37,"") -> 1 | BT79: =IF(COUNTIF(BT$67,">=1"),BT37,"") -> 01 | BU79: =IF(COUNTIF(BU$67,">=1"),BU37,"") -> 16 | BV79: =IF(COUNTIF(BV$67,">=1"),BV37,"") -> 15 | BW79: =IF(COUNTIF(BW$67,">=1"),BW37,"") | BX79: =IF(COUNTIF(BX$67,">=1"),BX37,"") -> 13 | BY79: =IF(COUNTIF(BY$67,">=1"),BY37,"") -> 12 | BZ79: =IF(COUNTIF(BZ$67,">=1"),BZ37,"") -> 11 | CA79: =IF(COUNTIF(CA$67,">=1"),CA37,"") | ... CI79: =IF(COUNTIF(CI$67,">=1"),CI37,"") | CK79: =IF(COUNTIF(CK$67,">=1"),CK37,"") | CL79: =IF(COUNTIF(CL$67,">=1"),CL37,"") -> 14 | CM79: =IF(COUNTIF(CM$67,">=1"),CM37,"") -> 13 | CN79: =IF(COUNTIF(CN$67,">=1"),CN37,"") -> 10 | CO79: =IF(COUNTIF(CO$67,">=1"),CO37,"") -> 07 | CP79: =IF(COUNTIF(CP$67,">=1"),CP37,"") -> 06 | CQ79: =IF(COUNTIF(CQ$67,">=1"),CQ37,"") | CR79: =IF(COUNTIF(CR$67,">=1"),CR37,"") -> 02 | ... CZ79: =IF(COUNTIF(CZ$67,">=1"),CZ37,"")
... BC87: =IF(COUNTIF(BC$67,">=1"),BC45,"") | BD87: =IF(COUNTIF(BD$67,">=1"),BD45,"") | BE87: =IF(COUNTIF(BE$67,">=1"),BE45,"") -> 14 | BF87: =IF(COUNTIF(BF$67,">=1"),BF45,"") | BG87: =IF(COUNTIF(BG$67,">=1"),BG45,"") -> 12 | BH87: =IF(COUNTIF(BH$67,">=1"),BH45,"") -> 11 | BI87: =IF(COUNTIF(BI$67,">=1"),BI45,"") -> 04 | BJ87: =IF(COUNTIF(BJ$67,">=1"),BJ45,"") | ... BR87: =IF(COUNTIF(BR$67,">=1"),BR45,"") -> 1 | BT87: =IF(COUNTIF(BT$67,">=1"),BT45,"") -> 16 | BU87: =IF(COUNTIF(BU$67,">=1"),BU45,"") -> 15 | BV87: =IF(COUNTIF(BV$67,">=1"),BV45,"") -> 14 | BW87: =IF(COUNTIF(BW$67,">=1"),BW45,"") | BX87: =IF(COUNTIF(BX$67,">=1"),BX45,"") -> 12 | BY87: =IF(COUNTIF(BY$67,">=1"),BY45,"") -> 11 | BZ87: =IF(COUNTIF(BZ$67,">=1"),BZ45,"") -> 10 | CA87: =IF(COUNTIF(CA$67,">=1"),CA45,"") | ... CI87: =IF(COUNTIF(CI$67,">=1"),CI45,"") | CK87: =IF(COUNTIF(CK$67,">=1"),CK45,"") | CL87: =IF(COUNTIF(CL$67,">=1"),CL45,"") -> 15 | CM87: =IF(COUNTIF(CM$67,">=1"),CM45,"") -> 14 | CN87: =IF(COUNTIF(CN$67,">=1"),CN45,"") -> 13 | CO87: =IF(COUNTIF(CO$67,">=1"),CO45,"") -> 12 | CP87: =IF(COUNTIF(CP$67,">=1"),CP45,"") -> 11 | CQ87: =IF(COUNTIF(CQ$67,">=1"),CQ45,"") | CR87: =IF(COUNTIF(CR$67,">=1"),CR45,"") -> 9 | ... CZ87: =IF(COUNTIF(CZ$67,">=1"),CZ45,"")
